BEGIN:VCALENDAR
VERSION:2.0
PRODID:-//The Mad River Valley Village - ECPv6.0.13//NONSGML v1.0//EN
CALSCALE:GREGORIAN
METHOD:PUBLISH
X-WR-CALNAME:The Mad River Valley Village
X-ORIGINAL-URL:https://mrvvillage.com
X-WR-CALDESC:Events for The Mad River Valley Village
REFRESH-INTERVAL;VALUE=DURATION:PT1H
X-Robots-Tag:noindex
X-PUBLISHED-TTL:PT1H
BEGIN:VTIMEZONE
TZID:America/New_York
BEGIN:DAYLIGHT
TZOFFSETFROM:-0500
TZOFFSETTO:-0400
TZNAME:EDT
DTSTART:20250309T070000
END:DAYLIGHT
BEGIN:STANDARD
TZOFFSETFROM:-0400
TZOFFSETTO:-0500
TZNAME:EST
DTSTART:20251102T060000
END:STANDARD
END:VTIMEZONE
BEGIN:VEVENT
DTSTART;TZID=America/New_York:20250128T103000
DTEND;TZID=America/New_York:20250128T120000
DTSTAMP:20260425T085357
CREATED:20250117T025430Z
LAST-MODIFIED:20250128T153821Z
UID:10007555-1738060200-1738065600@mrvvillage.com
SUMMARY:Flood Grief Workshop
DESCRIPTION:CReW to host Flood Grief Workshop for Elders Jan 28 10:30-am-12pm \nCReW (Community Resilience for the greater Waterbury area) is hosting a flood grief workshop for our older residents\, on Tuesday Jan 28 at 10:30 am at the Waterbury Public Library. This is an opportunity to come talk with others who have felt many things such as sadness\, loss\, fear\, anxiety\, anger and or other feelings due to the floods our area has experienced. \nThis conversation will be supported by Sarah Sadowsky\, Licensed Clinical Social Worker. Rides can be provided for elders who need them – anyone who needs a ride should email outreach@thecrewvt.org or call 802-232-2075 by Jan. 27.  \nFor more info on the CReW\, visit thecrewvt.org
URL:https://mrvvillage.com/event/flood-grief-workshop/
LOCATION:Waterbury Municipal Center\, 28 North Main Street\, Waterbury\, VT\, 05676\, United States
CATEGORIES:Community,Special Events
ORGANIZER;CN="CReW":MAILTO:liz@thecrewvt.org
GEO:44.3396584;-72.7588624
X-APPLE-STRUCTURED-LOCATION;VALUE=URI;X-ADDRESS=Waterbury Municipal Center 28 North Main Street Waterbury VT 05676 United States;X-APPLE-RADIUS=500;X-TITLE=28 North Main Street:geo:-72.7588624,44.3396584
END:VEVENT
BEGIN:VEVENT
DTSTART;TZID=America/New_York:20250201T190000
DTEND;TZID=America/New_York:20250201T210000
DTSTAMP:20260425T085357
CREATED:20250111T235544Z
LAST-MODIFIED:20250201T160825Z
UID:10007539-1738436400-1738443600@mrvvillage.com
SUMMARY:Ice Skating Disco
DESCRIPTION:Join us for a night of fun on the ice this year at Winterfest. Put on your dancing skates and your favorite disco outfit and we will meet at the Waterbury Ice Center for some icy fun. Be ready for dancing\, karaoke\, and costume contests with prizes! \nNo registration necessary – thanks to a strong partnership with the Ice Center. Cost to attend is a monetary donation or non-perishable food item to benefit the Waterbury Common Market.
URL:https://mrvvillage.com/event/ice-skating-disco/
LOCATION:The Ice Center\, 546 River Rd\, Waterbury\, Vermont\, 05676\, United States
CATEGORIES:Special Events
ATTACH;FMTTYPE=image/jpeg:https://mrvvillage.com/wp-content/uploads/2025/01/Winterfest-Events-Ice-Disco-jQIvFO.tmp_.jpg
ORGANIZER;CN="Waterbury%20Recreation":MAILTO:klisaius@waterburyvt.com
GEO:44.3242991;-72.7378681
X-APPLE-STRUCTURED-LOCATION;VALUE=URI;X-ADDRESS=The Ice Center 546 River Rd Waterbury Vermont 05676 United States;X-APPLE-RADIUS=500;X-TITLE=546 River Rd:geo:-72.7378681,44.3242991
END:VEVENT
END:VCALENDAR