BEGIN:VCALENDAR
VERSION:2.0
PRODID:-//The Mad River Valley Village - ECPv6.0.13//NONSGML v1.0//EN
CALSCALE:GREGORIAN
METHOD:PUBLISH
X-WR-CALNAME:The Mad River Valley Village
X-ORIGINAL-URL:https://mrvvillage.com
X-WR-CALDESC:Events for The Mad River Valley Village
REFRESH-INTERVAL;VALUE=DURATION:PT1H
X-Robots-Tag:noindex
X-PUBLISHED-TTL:PT1H
BEGIN:VTIMEZONE
TZID:America/New_York
BEGIN:DAYLIGHT
TZOFFSETFROM:-0500
TZOFFSETTO:-0400
TZNAME:EDT
DTSTART:20250309T070000
END:DAYLIGHT
BEGIN:STANDARD
TZOFFSETFROM:-0400
TZOFFSETTO:-0500
TZNAME:EST
DTSTART:20251102T060000
END:STANDARD
END:VTIMEZONE
BEGIN:VEVENT
DTSTART;TZID=America/New_York:20250209T170000
DTEND;TZID=America/New_York:20250209T230000
DTSTAMP:20260425T085421
CREATED:20250205T170845Z
LAST-MODIFIED:20250209T180819Z
UID:10007632-1739120400-1739142000@mrvvillage.com
SUMMARY:Watch the Super Bowl at Afterthoughts
DESCRIPTION:Opening at 5pm\, we’ll have the game on a big screen and all 4 tvs. \nPeace Burger with the smashed hambs and wing specials. \nDrink specials and more! \nWe’ve got a Super Bowl square squares going. Buy your square at Valley Meade or upstairs during open hours. Thursday to Sunday 5PM to close.
URL:https://mrvvillage.com/event/watch-the-super-bowl-at-afterthoughts/
LOCATION:afterthoughts\, 8 Vt Route 17 200\, Waitsfield\, Vermont\, 05673\, United States
CATEGORIES:Aprés,Food & Drink,Special Events,Sports & Recreation
ATTACH;FMTTYPE=image/png:https://mrvvillage.com/wp-content/uploads/2025/02/SUperBOWL-SUNDAY-FcdQV7.tmp_.png
ORGANIZER;CN="afterthoughts":MAILTO:hello@afterthoughtsvt.com
GEO:44.181648;-72.8405231
X-APPLE-STRUCTURED-LOCATION;VALUE=URI;X-ADDRESS=afterthoughts 8 Vt Route 17 200 Waitsfield Vermont 05673 United States;X-APPLE-RADIUS=500;X-TITLE=8 Vt Route 17 200:geo:-72.8405231,44.181648
END:VEVENT
BEGIN:VEVENT
DTSTART;TZID=America/New_York:20250209T180000
DTEND;TZID=America/New_York:20250209T220000
DTSTAMP:20260425T085421
CREATED:20250207T072328Z
LAST-MODIFIED:20250209T180819Z
UID:10007638-1739124000-1739138400@mrvvillage.com
SUMMARY:Snacker Bowl LIX
DESCRIPTION:Join the fun at 1824 House to watch the Kansas City Chiefs take on the Philadelphia Eagles on one of the biggest TVs in the Mad River Valley. \nOur barn is the perfect space to watch the big game and enjoy the Snacker Bowl Buffet. Our buffet offers Philly favorites including: Cheesesteaks wit wiz\, Italian Roast Pork Sandwiches\, Wings\, Soft Pretzels with Beer Cheese and more… \nFull Bar available
URL:https://mrvvillage.com/event/snacker-bowl-lix/
LOCATION:1824 House\, 2150 Main St.\, Waitsfield\, VT\, 05673
CATEGORIES:Food & Drink,Special Events
ATTACH;FMTTYPE=image/jpeg:https://mrvvillage.com/wp-content/uploads/2025/02/snackerbowl-lix-mwuIQ0.tmp_.jpg
ORGANIZER;CN="1824%20House":MAILTO:stay@1824house.com
GEO:44.1926386;-72.7798479
X-APPLE-STRUCTURED-LOCATION;VALUE=URI;X-ADDRESS=1824 House 2150 Main St. Waitsfield VT 05673;X-APPLE-RADIUS=500;X-TITLE=2150 Main St.:geo:-72.7798479,44.1926386
END:VEVENT
END:VCALENDAR