BEGIN:VCALENDAR
VERSION:2.0
PRODID:-//The Mad River Valley Village - ECPv6.0.13//NONSGML v1.0//EN
CALSCALE:GREGORIAN
METHOD:PUBLISH
X-WR-CALNAME:The Mad River Valley Village
X-ORIGINAL-URL:https://mrvvillage.com
X-WR-CALDESC:Events for The Mad River Valley Village
REFRESH-INTERVAL;VALUE=DURATION:PT1H
X-Robots-Tag:noindex
X-PUBLISHED-TTL:PT1H
BEGIN:VTIMEZONE
TZID:America/New_York
BEGIN:DAYLIGHT
TZOFFSETFROM:-0500
TZOFFSETTO:-0400
TZNAME:EDT
DTSTART:20250309T070000
END:DAYLIGHT
BEGIN:STANDARD
TZOFFSETFROM:-0400
TZOFFSETTO:-0500
TZNAME:EST
DTSTART:20251102T060000
END:STANDARD
END:VTIMEZONE
BEGIN:VEVENT
DTSTART;TZID=America/New_York:20250214T190000
DTEND;TZID=America/New_York:20250214T204500
DTSTAMP:20260425T085351
CREATED:20250212T182331Z
LAST-MODIFIED:20250214T185318Z
UID:10007661-1739559600-1739565900@mrvvillage.com
SUMMARY:🌹Song\, Chocolates and Roses For All!🌹
DESCRIPTION:🌹🌹🌹🌹🌹🌹🌹🌹🌹🌹🌹🌹🌹🌹\nThe Mad River Chorale presents its annual benefit cabaret\, “My Funny Valentine”on Friday\, February 14 at 7:00pm at the cozy\, intimate Warren Church which will be generously candle lit and decorated with over 125 roses! \nMary Jane Austin\, concert pianist\, will perform with outstanding select\, dramatic voices for a delightful evening of humor and romance from opera and musical theater. \nFollowing the performance\, there will be a reception ~ offering CHOCOLATES of all kinds and ROSES for ALL. \nAdmission: Your generous donations are gratefully accepted!\nThis benefit concert helps to raise funds for additional instrumentalists at our concerts. \nINFO: madriverchorale.org\n🌹🌹🌹🌹🌹🌹🌹🌹🌹🌹🌹🌹🌹🌹🌹
URL:https://mrvvillage.com/event/%f0%9f%8c%b9song-chocolates-and-roses-for-all%f0%9f%8c%b9/
LOCATION:Warren Church\, 339 Main St\, Warren\, VT\, 05674
CATEGORIES:Special Events
ATTACH;FMTTYPE=image/jpeg:https://mrvvillage.com/wp-content/uploads/2025/02/Feb-Fundraiser-v1.7.25-vo5RSG.tmp_.jpg
GEO:44.118347;-72.8576681
X-APPLE-STRUCTURED-LOCATION;VALUE=URI;X-ADDRESS=Warren Church 339 Main St Warren VT 05674;X-APPLE-RADIUS=500;X-TITLE=339 Main St:geo:-72.8576681,44.118347
END:VEVENT
BEGIN:VEVENT
DTSTART;TZID=America/New_York:20250215T130000
DTEND;TZID=America/New_York:20250215T150000
DTSTAMP:20260425T085351
CREATED:20250123T042532Z
LAST-MODIFIED:20250215T190816Z
UID:10007576-1739624400-1739631600@mrvvillage.com
SUMMARY:Apple Tree Pruning Workshop at Boyce Hill
DESCRIPTION:Boyce Hill is a 93-acre tract of land owned by the town of Fayston that is open for the public to enjoy. It is full of trails and beautiful mountain views. It also includes the remnants of an old apple orchard that needs some attention. \nAs this is the best time of year to prune apple trees\, the Boyce Hill Committee has invited local landscape designer\, Rachel Grigorian of Clark Brook Designs to lead a 90-minute pruning class for a group of supporters on Saturday\, February 15th at 1:00 PM. Participants will learn how to care for trees to maximize their fruit production and health while helping the town with this important stewardship project. While we work\, participants can also learn about the property and the long-term management of this unique tract of land that features expansive views of both the Green Mountains and the Northfield Range. At the end of the workshop\, participants will be emailed a PDF summary of the methods learned. \nParticipants should bring any pruning tools they have\, such as loppers\, and small pull saws or folding saws\, as limited loaner tools will be available. Ladders are also needed. \nTo register\, please visit https://forms.gle/D7PxxdX1Zfuib1TD8 or call Harvey Blake at 802-279-4751. A suggested donation of $40 per person will help support the property and its ongoing stewardship needs. \nBoyce Hill is located at the top of Boyce Road in N. Fayston. \nPLEASE NOTE THAT PARKING IS VERY LIMITED. Snowshoes will be helpful if we get some more snow!
URL:https://mrvvillage.com/event/apple-tree-pruning-workshop-at-boyce-hill/
LOCATION:Boyce Hill Town Forest\, 337 Boyce Rd.\, Fayston\, Vermont\, 05660
CATEGORIES:Special Events
ATTACH;FMTTYPE=image/jpeg:https://mrvvillage.com/wp-content/uploads/2025/01/Boyce-Apple-Tree-8GviGJ.tmp_.jpg
ORGANIZER;CN="Fayston%20Conservation%20Commission":MAILTO:faystonconservation@madriver.com
GEO:44.2468055;-72.8510675
X-APPLE-STRUCTURED-LOCATION;VALUE=URI;X-ADDRESS=Boyce Hill Town Forest 337 Boyce Rd. Fayston Vermont 05660;X-APPLE-RADIUS=500;X-TITLE=337 Boyce Rd.:geo:-72.8510675,44.2468055
END:VEVENT
BEGIN:VEVENT
DTSTART;TZID=America/New_York:20250216T110000
DTEND;TZID=America/New_York:20250216T120000
DTSTAMP:20260425T085351
CREATED:20250117T025617Z
LAST-MODIFIED:20250216T192316Z
UID:10007557-1739703600-1739707200@mrvvillage.com
SUMMARY:An Enchanted Lion Storytime at Inklings Children’s Books!
DESCRIPTION:Enchanted Lion’s Claudia Bedrick will join Inklings for a reading of their beautiful book\, THERE WAS A SHADOW! \nSelected by the New York Times as one of the best children’s books of 2024\, this charming story invites readers to notice the position of the sun and the subtle ways in which light and shadow reveal and obscure things both in the world and in ourselves. \nFollowing the reading\, Claudia will talk to the children about why she finds children’s books inspiring\, the power of storytelling\, and what it’s like to work in publishing. \nA very special shadow craft will follow!
URL:https://mrvvillage.com/event/an-enchanted-lion-storytime-at-inklings-childrens-books/
LOCATION:Inklings Children’s Books\, 106 Mad River Greeen\, Waitsfield\, VT\, 05673\, United States
CATEGORIES:Family Friendly,Special Events
ATTACH;FMTTYPE=image/jpeg:https://mrvvillage.com/wp-content/uploads/2025/01/EnchantedLionVisit-MRV-PLDeIx.tmp_.jpg
ORGANIZER;CN="Inklings%20Children%26%238217%3Bs%20Books":MAILTO:inklingschildrensbooks@gmail.com
GEO:44.1844899;-72.839037
X-APPLE-STRUCTURED-LOCATION;VALUE=URI;X-ADDRESS=Inklings Children’s Books 106 Mad River Greeen Waitsfield VT 05673 United States;X-APPLE-RADIUS=500;X-TITLE=106 Mad River Greeen:geo:-72.839037,44.1844899
END:VEVENT
BEGIN:VEVENT
DTSTART;TZID=America/New_York:20250216T170000
DTEND;TZID=America/New_York:20250217T010000
DTSTAMP:20260425T085351
CREATED:20250210T182414Z
LAST-MODIFIED:20250216T192316Z
UID:10007651-1739725200-1739754000@mrvvillage.com
SUMMARY:LONELY HEARTS CLUB DISCO PARTY
DESCRIPTION:Valentine’s Day/President’s Day Weekend Disco Dance Party with DJ Mister Burns at Afterthoughts!! \nCostumes encouraged! \nCome on in dancing queens and show us what ya got! 21+ and music starts at 8PM! \n**OPEN AT 5PM WITH FOOD FROM PEACEBURGER AND DRINKS FROM AFTERTHOUGHTS**
URL:https://mrvvillage.com/event/lonely-hearts-club-disco-party/
LOCATION:afterthoughts\, 8 Vt Route 17 200\, Waitsfield\, Vermont\, 05673\, United States
CATEGORIES:Aprés,Food & Drink,Special Events
ATTACH;FMTTYPE=image/jpeg:https://mrvvillage.com/wp-content/uploads/2025/02/41612803-CE83-43DE-9FDD-E6D45792C9AB-P7OFWJ.tmp_.jpg
ORGANIZER;CN="afterthoughts":MAILTO:hello@afterthoughtsvt.com
GEO:44.181648;-72.8405231
X-APPLE-STRUCTURED-LOCATION;VALUE=URI;X-ADDRESS=afterthoughts 8 Vt Route 17 200 Waitsfield Vermont 05673 United States;X-APPLE-RADIUS=500;X-TITLE=8 Vt Route 17 200:geo:-72.8405231,44.181648
END:VEVENT
END:VCALENDAR