BEGIN:VCALENDAR
VERSION:2.0
PRODID:-//The Mad River Valley Village - ECPv6.0.13//NONSGML v1.0//EN
CALSCALE:GREGORIAN
METHOD:PUBLISH
X-WR-CALNAME:The Mad River Valley Village
X-ORIGINAL-URL:https://mrvvillage.com
X-WR-CALDESC:Events for The Mad River Valley Village
REFRESH-INTERVAL;VALUE=DURATION:PT1H
X-Robots-Tag:noindex
X-PUBLISHED-TTL:PT1H
BEGIN:VTIMEZONE
TZID:America/New_York
BEGIN:DAYLIGHT
TZOFFSETFROM:-0500
TZOFFSETTO:-0400
TZNAME:EDT
DTSTART:20250309T070000
END:DAYLIGHT
BEGIN:STANDARD
TZOFFSETFROM:-0400
TZOFFSETTO:-0500
TZNAME:EST
DTSTART:20251102T060000
END:STANDARD
END:VTIMEZONE
BEGIN:VEVENT
DTSTART;TZID=America/New_York:20250216T170000
DTEND;TZID=America/New_York:20250217T010000
DTSTAMP:20260425T085341
CREATED:20250210T182414Z
LAST-MODIFIED:20250216T192316Z
UID:10007651-1739725200-1739754000@mrvvillage.com
SUMMARY:LONELY HEARTS CLUB DISCO PARTY
DESCRIPTION:Valentine’s Day/President’s Day Weekend Disco Dance Party with DJ Mister Burns at Afterthoughts!! \nCostumes encouraged! \nCome on in dancing queens and show us what ya got! 21+ and music starts at 8PM! \n**OPEN AT 5PM WITH FOOD FROM PEACEBURGER AND DRINKS FROM AFTERTHOUGHTS**
URL:https://mrvvillage.com/event/lonely-hearts-club-disco-party/
LOCATION:afterthoughts\, 8 Vt Route 17 200\, Waitsfield\, Vermont\, 05673\, United States
CATEGORIES:Aprés,Food & Drink,Special Events
ATTACH;FMTTYPE=image/jpeg:https://mrvvillage.com/wp-content/uploads/2025/02/41612803-CE83-43DE-9FDD-E6D45792C9AB-P7OFWJ.tmp_.jpg
ORGANIZER;CN="afterthoughts":MAILTO:hello@afterthoughtsvt.com
GEO:44.181648;-72.8405231
X-APPLE-STRUCTURED-LOCATION;VALUE=URI;X-ADDRESS=afterthoughts 8 Vt Route 17 200 Waitsfield Vermont 05673 United States;X-APPLE-RADIUS=500;X-TITLE=8 Vt Route 17 200:geo:-72.8405231,44.181648
END:VEVENT
BEGIN:VEVENT
DTSTART;TZID=America/New_York:20250220T173000
DTEND;TZID=America/New_York:20250220T173000
DTSTAMP:20260425T085341
CREATED:20250209T073938Z
LAST-MODIFIED:20250220T195317Z
UID:10007646-1740072600-1740072600@mrvvillage.com
SUMMARY:A Winter Artist Talk & Dining Series at The Pitcher Inn
DESCRIPTION:Through a collaboration with Edgewater Gallery in Middlebury\, Vermont enjoy a winter evening at The Pitcher Inn as we present our remaining two Artists ETHAN QUILLEN (CERAMICS) the evening of Thursday\, February 20th and TRACY BURTZ (FIGURATIVE PAINTING) on March 13th. \nGuests are asked to arrive between 5 and 5:30 p.m. Beverage and Meal orders are taken before the talk begins. \nAt 5:45\, our artist will give a presentation about their path to becoming an artist\, their process\, and their inspirations. Guests are encouraged to ask questions. \nThe discussion is followed by dinner. The artists will join us we savor a meal especially prepared by the Inn’s Chef Jacob Ennis. \nTo reserve a spot\, please call the Inn at 802.496.6350 or email info@pitcherinn.com. \nJOIN US FOR EITHER OR BOTH REMAINING EXPERIENCES.
URL:https://mrvvillage.com/event/a-winter-artist-talk-dining-series-at-the-pitcher-inn/
LOCATION:The Pitcher Inn\, 275 Main Street\, Warren\, 05674
CATEGORIES:Dining,Food & Drink,Special Events
ATTACH;FMTTYPE=image/png:https://mrvvillage.com/wp-content/uploads/2025/02/Screen-Shot-2025-02-09-at-9.44.10-AM-lRhKFb.tmp_.png
ORGANIZER;CN="The%20Pitcher%20Inn":MAILTO:info@pitcherinn.com
GEO:44.118347;-72.8576681
X-APPLE-STRUCTURED-LOCATION;VALUE=URI;X-ADDRESS=The Pitcher Inn 275 Main Street Warren 05674;X-APPLE-RADIUS=500;X-TITLE=275 Main Street:geo:-72.8576681,44.118347
END:VEVENT
BEGIN:VEVENT
DTSTART;TZID=America/New_York:20250220T190000
DTEND;TZID=America/New_York:20250220T203000
DTSTAMP:20260425T085341
CREATED:20250206T070951Z
LAST-MODIFIED:20250220T195317Z
UID:10007636-1740078000-1740083400@mrvvillage.com
SUMMARY:Virtual Artisan Cheese Tasting with von Trapp Farmstead
DESCRIPTION:Meet our cheeses and the cheesemaker! No one knows our cheeses like the cheesemakers! \nMolly Semler\, co-owner and head cheesemaker at von Trapp Farmstead\, will lead you through a virtual tasting of our 4 styles of organic artisan cheese – teaching you to taste like a cheesemaker. You’ll learn the inside-scoop about our farm\, our cows\, and our cheesemaking – plus time for Q&A at the end. \nYou will receive a cheese box the week before the tasting with all four cheeses (enough for several people to enjoy)! \nThis is a great way to gather with friends\, enjoy delicious cheeses (and whatever beverages you’d like!)\, and learn more about this 3rd generation farmstead! \nSign up on our website
URL:https://mrvvillage.com/event/virtual-artisan-cheese-tasting-with-von-trapp-farmstead/
LOCATION:Virtual Event\, 251 Common Road\, Waitsfield\, VT\, 05673\, United States
CATEGORIES:Food & Drink,Special Events
ATTACH;FMTTYPE=image/png:https://mrvvillage.com/wp-content/uploads/2025/02/Screenshot-2025-02-05-154320-6cY2Ve.tmp_.png
ORGANIZER;CN="von%20Trapp%20Farmstead":MAILTO:info@vontrappfarmstead.com
GEO:44.1867624;-72.7957412
X-APPLE-STRUCTURED-LOCATION;VALUE=URI;X-ADDRESS=Virtual Event 251 Common Road Waitsfield VT 05673 United States;X-APPLE-RADIUS=500;X-TITLE=251 Common Road:geo:-72.7957412,44.1867624
END:VEVENT
BEGIN:VEVENT
DTSTART;TZID=America/New_York:20250222T190000
DTEND;TZID=America/New_York:20250222T203000
DTSTAMP:20260425T085341
CREATED:20250213T075523Z
LAST-MODIFIED:20250222T202314Z
UID:10007665-1740250800-1740256200@mrvvillage.com
SUMMARY:Montpelier Community Gospel Choir Black History Month Concerts
DESCRIPTION:Montpelier Community Gospel Choir Presents: “Clap Your Hands!” Black History Month Concerts \nMontpelier\, VT | Saturday\, February 22\, 7:00 PM | Sunday\, February 23\, 4:00 PM \nIn celebration of Black History Month 2025\, the Montpelier Community Gospel Choir is proud to present our Third Annual Black History Month Concerts \nOur “Clap Your Hands!” concerts will celebrate African American history through the gospel music of Kurt Carr\, Percy Gray\, Jr.\, and Edwin Hawkins\, along with songs by Moses Hogan and traditional Spirituals. This year\, we are joined by gifted vocalist\, Dr. Jolie Rocke of Houston\, TX! \nCome ready to clap your hands with us in joy\, hope\, and inspiration!
URL:https://mrvvillage.com/event/montpelier-community-gospel-choir-black-history-month-concerts/
LOCATION:Unitarian Church of Montpelier\, 130 Main Street\, Montpelier\, Vermont\, 05602\, United States
CATEGORIES:Live Music,Special Events
ATTACH;FMTTYPE=image/png:https://mrvvillage.com/wp-content/uploads/2025/02/9F77B629-100F-4038-9CCA-F84B0BF95BA4-x6zOAV.tmp_.png
ORGANIZER;CN="Montpelier%20Community%20Gospel%20Choir":MAILTO:elaine@vtgospel.com
GEO:44.2615398;-72.5746765
X-APPLE-STRUCTURED-LOCATION;VALUE=URI;X-ADDRESS=Unitarian Church of Montpelier 130 Main Street Montpelier Vermont 05602 United States;X-APPLE-RADIUS=500;X-TITLE=130 Main Street:geo:-72.5746765,44.2615398
END:VEVENT
BEGIN:VEVENT
DTSTART;TZID=America/New_York:20250223T160000
DTEND;TZID=America/New_York:20250223T173000
DTSTAMP:20260425T085341
CREATED:20250213T075541Z
LAST-MODIFIED:20250223T203816Z
UID:10007666-1740326400-1740331800@mrvvillage.com
SUMMARY:Montpelier Community Gospel Choir Black History Month Concerts
DESCRIPTION:Montpelier Community Gospel Choir Presents: “Clap Your Hands!” Black History Month Concerts \nMontpelier\, VT | Saturday\, February 22\, 7:00 PM | Sunday\, February 23\, 4:00 PM \nIn celebration of Black History Month 2025\, the Montpelier Community Gospel Choir is proud to present our Third Annual Black History Month Concerts \nOur “Clap Your Hands!” concerts will celebrate African American history through the gospel music of Kurt Carr\, Percy Gray\, Jr.\, and Edwin Hawkins\, along with songs by Moses Hogan and traditional Spirituals. This year\, we are joined by gifted vocalist\, Dr. Jolie Rocke of Houston\, TX! \nCome ready to clap your hands with us in joy\, hope\, and inspiration!
URL:https://mrvvillage.com/event/montpelier-community-gospel-choir-black-history-month-concerts-2/
LOCATION:Unitarian Church of Montpelier\, 130 Main Street\, Montpelier\, Vermont\, 05602\, United States
CATEGORIES:Live Music,Special Events
ATTACH;FMTTYPE=image/png:https://mrvvillage.com/wp-content/uploads/2025/02/9F77B629-100F-4038-9CCA-F84B0BF95BA4-x6zOAV.tmp_.png
ORGANIZER;CN="Montpelier%20Community%20Gospel%20Choir":MAILTO:elaine@vtgospel.com
GEO:44.2615398;-72.5746765
X-APPLE-STRUCTURED-LOCATION;VALUE=URI;X-ADDRESS=Unitarian Church of Montpelier 130 Main Street Montpelier Vermont 05602 United States;X-APPLE-RADIUS=500;X-TITLE=130 Main Street:geo:-72.5746765,44.2615398
END:VEVENT
END:VCALENDAR