BEGIN:VCALENDAR
VERSION:2.0
PRODID:-//The Mad River Valley Village - ECPv6.0.13//NONSGML v1.0//EN
CALSCALE:GREGORIAN
METHOD:PUBLISH
X-WR-CALNAME:The Mad River Valley Village
X-ORIGINAL-URL:https://mrvvillage.com
X-WR-CALDESC:Events for The Mad River Valley Village
REFRESH-INTERVAL;VALUE=DURATION:PT1H
X-Robots-Tag:noindex
X-PUBLISHED-TTL:PT1H
BEGIN:VTIMEZONE
TZID:America/New_York
BEGIN:DAYLIGHT
TZOFFSETFROM:-0500
TZOFFSETTO:-0400
TZNAME:EDT
DTSTART:20250309T070000
END:DAYLIGHT
BEGIN:STANDARD
TZOFFSETFROM:-0400
TZOFFSETTO:-0500
TZNAME:EST
DTSTART:20251102T060000
END:STANDARD
END:VTIMEZONE
BEGIN:VEVENT
DTSTART;TZID=America/New_York:20250428T000000
DTEND;TZID=America/New_York:20250428T235959
DTSTAMP:20260425T090815
CREATED:20250325T124153Z
LAST-MODIFIED:20250424T203828Z
UID:10007885-1745798400-1745884799@mrvvillage.com
SUMMARY:Bear Haiku Challenge
DESCRIPTION:Celebrate National Poetry Month with The MRV Libraries and MRV Bear Initiative! \nWe invite all in the community to contribute a bear-themed haiku for display at local businesses throughout April and May. People of all ages may submit their haiku about bears using this form: https://forms.gle/f17U5tWVMHtVqeoF7\nor by picking up a paper copy at any of the MRV Libraries. Submissions will be accepted until April 30. \nWhat are Haiku\, again?\nHaiku are a form of poetry originating in Japan. Each haiku contains seventeen syllables divided into three lines. The first and last line each contain five syllables while the second line contains seven syllables. Here’s a bear-themed haiku by Megan Sharkey of Alaska: \nGarbage on the porch\nis the best way to get a\nbear on short notice \nWe welcome submissions by children\, teens\, and adults. Everyone who submits a haiku may pick up a free MRV Bear Initiative magnet available at any MRV library. Let’s celebrate poetry\, community\, and bear awareness together! \nWhat is the Mad River Valley Bear Initiative?\nThe Mad River Valley Bear Initiative is a local volunteer group that raises awareness about the bears that live around us in the Valley. Members come from the 5 towns in our watershed: Warren\, Waitsfield\, Fayston\, Duxbury\, and Moretown. Find out more at https://mrvbears.org.
URL:https://mrvvillage.com/event/bear-haiku-challenge-35/
LOCATION:Moretown Town Hall and Library\, 1147 Route 100B\, Moretown\, 05660
CATEGORIES:Special Events
ATTACH;FMTTYPE=image/png:https://mrvvillage.com/wp-content/uploads/2025/03/Bear-Haiku-Template-and-poster-doV3ey.tmp_.png
ORGANIZER;CN="MRV%20LIbraries%2F%20Cory%20Stephenson":MAILTO:moretownlibrary@gmail.com
GEO:44.2476272;-72.7639304
X-APPLE-STRUCTURED-LOCATION;VALUE=URI;X-ADDRESS=Moretown Town Hall and Library 1147 Route 100B Moretown 05660;X-APPLE-RADIUS=500;X-TITLE=1147 Route 100B:geo:-72.7639304,44.2476272
END:VEVENT
BEGIN:VEVENT
DTSTART;TZID=America/New_York:20250429T000000
DTEND;TZID=America/New_York:20250429T235959
DTSTAMP:20260425T090815
CREATED:20250325T124206Z
LAST-MODIFIED:20250424T203841Z
UID:10007886-1745884800-1745971199@mrvvillage.com
SUMMARY:Bear Haiku Challenge
DESCRIPTION:Celebrate National Poetry Month with The MRV Libraries and MRV Bear Initiative! \nWe invite all in the community to contribute a bear-themed haiku for display at local businesses throughout April and May. People of all ages may submit their haiku about bears using this form: https://forms.gle/f17U5tWVMHtVqeoF7\nor by picking up a paper copy at any of the MRV Libraries. Submissions will be accepted until April 30. \nWhat are Haiku\, again?\nHaiku are a form of poetry originating in Japan. Each haiku contains seventeen syllables divided into three lines. The first and last line each contain five syllables while the second line contains seven syllables. Here’s a bear-themed haiku by Megan Sharkey of Alaska: \nGarbage on the porch\nis the best way to get a\nbear on short notice \nWe welcome submissions by children\, teens\, and adults. Everyone who submits a haiku may pick up a free MRV Bear Initiative magnet available at any MRV library. Let’s celebrate poetry\, community\, and bear awareness together! \nWhat is the Mad River Valley Bear Initiative?\nThe Mad River Valley Bear Initiative is a local volunteer group that raises awareness about the bears that live around us in the Valley. Members come from the 5 towns in our watershed: Warren\, Waitsfield\, Fayston\, Duxbury\, and Moretown. Find out more at https://mrvbears.org.
URL:https://mrvvillage.com/event/bear-haiku-challenge-36/
LOCATION:Moretown Town Hall and Library\, 1147 Route 100B\, Moretown\, 05660
CATEGORIES:Special Events
ATTACH;FMTTYPE=image/png:https://mrvvillage.com/wp-content/uploads/2025/03/Bear-Haiku-Template-and-poster-doV3ey.tmp_.png
ORGANIZER;CN="MRV%20LIbraries%2F%20Cory%20Stephenson":MAILTO:moretownlibrary@gmail.com
GEO:44.2476272;-72.7639304
X-APPLE-STRUCTURED-LOCATION;VALUE=URI;X-ADDRESS=Moretown Town Hall and Library 1147 Route 100B Moretown 05660;X-APPLE-RADIUS=500;X-TITLE=1147 Route 100B:geo:-72.7639304,44.2476272
END:VEVENT
BEGIN:VEVENT
DTSTART;TZID=America/New_York:20250430T000000
DTEND;TZID=America/New_York:20250430T235959
DTSTAMP:20260425T090815
CREATED:20250325T124206Z
LAST-MODIFIED:20250424T203842Z
UID:10007887-1745971200-1746057599@mrvvillage.com
SUMMARY:Bear Haiku Challenge
DESCRIPTION:Celebrate National Poetry Month with The MRV Libraries and MRV Bear Initiative! \nWe invite all in the community to contribute a bear-themed haiku for display at local businesses throughout April and May. People of all ages may submit their haiku about bears using this form: https://forms.gle/f17U5tWVMHtVqeoF7\nor by picking up a paper copy at any of the MRV Libraries. Submissions will be accepted until April 30. \nWhat are Haiku\, again?\nHaiku are a form of poetry originating in Japan. Each haiku contains seventeen syllables divided into three lines. The first and last line each contain five syllables while the second line contains seven syllables. Here’s a bear-themed haiku by Megan Sharkey of Alaska: \nGarbage on the porch\nis the best way to get a\nbear on short notice \nWe welcome submissions by children\, teens\, and adults. Everyone who submits a haiku may pick up a free MRV Bear Initiative magnet available at any MRV library. Let’s celebrate poetry\, community\, and bear awareness together! \nWhat is the Mad River Valley Bear Initiative?\nThe Mad River Valley Bear Initiative is a local volunteer group that raises awareness about the bears that live around us in the Valley. Members come from the 5 towns in our watershed: Warren\, Waitsfield\, Fayston\, Duxbury\, and Moretown. Find out more at https://mrvbears.org.
URL:https://mrvvillage.com/event/bear-haiku-challenge-37/
LOCATION:Moretown Town Hall and Library\, 1147 Route 100B\, Moretown\, 05660
CATEGORIES:Special Events
ATTACH;FMTTYPE=image/png:https://mrvvillage.com/wp-content/uploads/2025/03/Bear-Haiku-Template-and-poster-doV3ey.tmp_.png
ORGANIZER;CN="MRV%20LIbraries%2F%20Cory%20Stephenson":MAILTO:moretownlibrary@gmail.com
GEO:44.2476272;-72.7639304
X-APPLE-STRUCTURED-LOCATION;VALUE=URI;X-ADDRESS=Moretown Town Hall and Library 1147 Route 100B Moretown 05660;X-APPLE-RADIUS=500;X-TITLE=1147 Route 100B:geo:-72.7639304,44.2476272
END:VEVENT
BEGIN:VEVENT
DTSTART;TZID=America/New_York:20250430T110000
DTEND;TZID=America/New_York:20250430T170000
DTSTAMP:20260425T090815
CREATED:20250411T152459Z
LAST-MODIFIED:20250430T215311Z
UID:10007976-1746010800-1746032400@mrvvillage.com
SUMMARY:PROM SWAP
DESCRIPTION:Someday Boutique is so excited to host our very first PROM SWAP\, in collaboration with Harwood Union High School! This is your chance to give pre-loved dresses and suits a second dance and help someone else feel FABULOUS for their big night! ✨ \nHow It Works:\nBring your gently used dresses + suits to Someday Boutique during our drop-off dates listed below. Then\, come back for our Prom Swap event to shop the collection for free! \nWe want this event to be accessible\, sustainable\, and full of community love 💚 Let’s help everyone in the Mad River Valley feel AMAZING at prom! \nDROP-OFF DATES:\nDrop off your clean\, on-trend\, like-new dresses or suits at Someday Boutique during store hours: \n📍 40 Bridge Street\, Waitsfield\, VT\n🕚 11 AM – 5 PM\nApril 11 – April 13\nApril 16 – April 19\nApril 30 – May 1 \n(Please note: We cannot accept shoes or accessories.) \nWHAT WE’RE LOOKING FOR:\n✨ Dresses + Suits\n✨ On-trend styles\n✨ Like-new condition\n✨ Clean & ready to wear \n(No shoes or accessories\, please!) \nSAVE THE DATE to come shop the Prom Swap collection! \n💃 Saturday\, May 3rd | 11 AM – 5 PM\n💃 Sunday\, May 4th | 11 AM – 3 PM \nALL ARE WELCOME! Whether you’re shopping for prom\, formal events\, or just love a little dress-up moment… come find your dream look! \nWHY WE LOVE THIS:\n♻️ Sustainable fashion\n💚 Community love\n✨ Empowering everyone to feel their best self\n💃 Giving your clothes a second life \nTag us in your swap finds! @SomedayBoutiqueVT
URL:https://mrvvillage.com/event/prom-swap-8/
LOCATION:Someday Boutique\, 40 BRIDGE STREET\, WAITSFIELD\, VT\, 05673
CATEGORIES:Special Events
ATTACH;FMTTYPE=image/png:https://mrvvillage.com/wp-content/uploads/2025/04/Someday-Prom-Swap-Donation-FLYER-RPuUvl.tmp_.png
ORGANIZER;CN="SomeDay%20Boutique":MAILTO:shopsomedayvt@gmail.com
GEO:44.1896537;-72.824093
X-APPLE-STRUCTURED-LOCATION;VALUE=URI;X-ADDRESS=Someday Boutique 40 BRIDGE STREET WAITSFIELD VT 05673;X-APPLE-RADIUS=500;X-TITLE=40 BRIDGE STREET:geo:-72.824093,44.1896537
END:VEVENT
BEGIN:VEVENT
DTSTART;TZID=America/New_York:20250501T110000
DTEND;TZID=America/New_York:20250501T170000
DTSTAMP:20260425T090815
CREATED:20250411T152512Z
LAST-MODIFIED:20250501T215313Z
UID:10007977-1746097200-1746118800@mrvvillage.com
SUMMARY:PROM SWAP
DESCRIPTION:Someday Boutique is so excited to host our very first PROM SWAP\, in collaboration with Harwood Union High School! This is your chance to give pre-loved dresses and suits a second dance and help someone else feel FABULOUS for their big night! ✨ \nHow It Works:\nBring your gently used dresses + suits to Someday Boutique during our drop-off dates listed below. Then\, come back for our Prom Swap event to shop the collection for free! \nWe want this event to be accessible\, sustainable\, and full of community love 💚 Let’s help everyone in the Mad River Valley feel AMAZING at prom! \nDROP-OFF DATES:\nDrop off your clean\, on-trend\, like-new dresses or suits at Someday Boutique during store hours: \n📍 40 Bridge Street\, Waitsfield\, VT\n🕚 11 AM – 5 PM\nApril 11 – April 13\nApril 16 – April 19\nApril 30 – May 1 \n(Please note: We cannot accept shoes or accessories.) \nWHAT WE’RE LOOKING FOR:\n✨ Dresses + Suits\n✨ On-trend styles\n✨ Like-new condition\n✨ Clean & ready to wear \n(No shoes or accessories\, please!) \nSAVE THE DATE to come shop the Prom Swap collection! \n💃 Saturday\, May 3rd | 11 AM – 5 PM\n💃 Sunday\, May 4th | 11 AM – 3 PM \nALL ARE WELCOME! Whether you’re shopping for prom\, formal events\, or just love a little dress-up moment… come find your dream look! \nWHY WE LOVE THIS:\n♻️ Sustainable fashion\n💚 Community love\n✨ Empowering everyone to feel their best self\n💃 Giving your clothes a second life \nTag us in your swap finds! @SomedayBoutiqueVT
URL:https://mrvvillage.com/event/prom-swap-9/
LOCATION:Someday Boutique\, 40 BRIDGE STREET\, WAITSFIELD\, VT\, 05673
CATEGORIES:Special Events
ATTACH;FMTTYPE=image/png:https://mrvvillage.com/wp-content/uploads/2025/04/Someday-Prom-Swap-Donation-FLYER-RPuUvl.tmp_.png
ORGANIZER;CN="SomeDay%20Boutique":MAILTO:shopsomedayvt@gmail.com
GEO:44.1896537;-72.824093
X-APPLE-STRUCTURED-LOCATION;VALUE=URI;X-ADDRESS=Someday Boutique 40 BRIDGE STREET WAITSFIELD VT 05673;X-APPLE-RADIUS=500;X-TITLE=40 BRIDGE STREET:geo:-72.824093,44.1896537
END:VEVENT
BEGIN:VEVENT
DTSTART;TZID=America/New_York:20250501T190000
DTEND;TZID=America/New_York:20250501T200000
DTSTAMP:20260425T090815
CREATED:20250421T165411Z
LAST-MODIFIED:20250501T215314Z
UID:10008009-1746126000-1746129600@mrvvillage.com
SUMMARY:MRV Libraries Pub Trivia
DESCRIPTION:The MRV Libraries May Pub Trivia is a special one as we are celebrating our third anniversary. \nIn honor of this milestone\, our theme is Happy Anniversary and the questions are all about historical\, movie\, book and musical anniversaries in 2025. .
URL:https://mrvvillage.com/event/mrv-libraries-pub-trivia-7/
LOCATION:Hostel Tevere\, 203 Powderhound Rd\, Warren\, VT\, 05674\, United States
CATEGORIES:Food & Drink,Special Events
ATTACH;FMTTYPE=image/png:https://mrvvillage.com/wp-content/uploads/2025/04/May-2025-Pub-Trivia-Instagram-Post-ryEBhP.png
ORGANIZER;CN="Mad%20River%20Libraries":MAILTO:programs@warrenlibrary.com
GEO:44.1341751;-72.8481846
X-APPLE-STRUCTURED-LOCATION;VALUE=URI;X-ADDRESS=Hostel Tevere 203 Powderhound Rd Warren VT 05674 United States;X-APPLE-RADIUS=500;X-TITLE=203 Powderhound Rd:geo:-72.8481846,44.1341751
END:VEVENT
BEGIN:VEVENT
DTSTART;TZID=America/New_York:20250503T090000
DTEND;TZID=America/New_York:20250503T120000
DTSTAMP:20260425T090815
CREATED:20250416T160929Z
LAST-MODIFIED:20250503T220814Z
UID:10007986-1746262800-1746273600@mrvvillage.com
SUMMARY:Baby Gear Donation
DESCRIPTION:Now is a great time to declutter while supporting local families with your used baby gear. \nYour gear will be donated to the Baby Product Exchange\, a local program supporting low-income families with free baby equipment and diapers.
URL:https://mrvvillage.com/event/baby-gear-donation/
LOCATION:Waitsfield Elementary School\, 3951 Main St\, Waitsfield\, VT\, 05673\, United States
CATEGORIES:Special Events
ATTACH;FMTTYPE=image/png:https://mrvvillage.com/wp-content/uploads/2025/04/Time-for-Spring-cleaning-9ONkhF.png
ORGANIZER;CN="Wendy%20Rice":MAILTO:wendy@vermontconnector.org
GEO:44.1944558;-72.8193325
X-APPLE-STRUCTURED-LOCATION;VALUE=URI;X-ADDRESS=Waitsfield Elementary School 3951 Main St Waitsfield VT 05673 United States;X-APPLE-RADIUS=500;X-TITLE=3951 Main St:geo:-72.8193325,44.1944558
END:VEVENT
BEGIN:VEVENT
DTSTART;TZID=America/New_York:20250503T100000
DTEND;TZID=America/New_York:20250503T120000
DTSTAMP:20260425T090815
CREATED:20250429T173825Z
LAST-MODIFIED:20250503T220815Z
UID:10008031-1746266400-1746273600@mrvvillage.com
SUMMARY:Cinco de Mayo  – Dog Adoption Event
DESCRIPTION:For the Love of Dogs Vermont\, a locally run dog rescue\, is holding a dog adoption event where lots of adorable dogs will be available to adopt.
URL:https://mrvvillage.com/event/cinco-de-mayo-dog-adoption-event/
LOCATION:Middlesex Fire Station\, 55 Welch Park Drive\, Middlesex\, Vermont\, 05602\, United States
CATEGORIES:Special Events
ATTACH;FMTTYPE=image/png:https://mrvvillage.com/wp-content/uploads/2025/04/CincodeMayoAdoptionEvent-hPUy7d.png
ORGANIZER;CN="For%20the%20Love%20of%20Dogs%20Vermont":MAILTO:fortheloveofdogsvermont@gmail.com
GEO:44.2997995;-72.693521
X-APPLE-STRUCTURED-LOCATION;VALUE=URI;X-ADDRESS=Middlesex Fire Station 55 Welch Park Drive Middlesex Vermont 05602 United States;X-APPLE-RADIUS=500;X-TITLE=55 Welch Park Drive:geo:-72.693521,44.2997995
END:VEVENT
BEGIN:VEVENT
DTSTART;TZID=America/New_York:20250503T110000
DTEND;TZID=America/New_York:20250503T170000
DTSTAMP:20260425T090815
CREATED:20250411T152524Z
LAST-MODIFIED:20250503T220815Z
UID:10007978-1746270000-1746291600@mrvvillage.com
SUMMARY:PROM SWAP
DESCRIPTION:Someday Boutique is so excited to host our very first PROM SWAP\, in collaboration with Harwood Union High School! This is your chance to give pre-loved dresses and suits a second dance and help someone else feel FABULOUS for their big night! ✨ \nHow It Works:\nBring your gently used dresses + suits to Someday Boutique during our drop-off dates listed below. Then\, come back for our Prom Swap event to shop the collection for free! \nWe want this event to be accessible\, sustainable\, and full of community love 💚 Let’s help everyone in the Mad River Valley feel AMAZING at prom! \nDROP-OFF DATES:\nDrop off your clean\, on-trend\, like-new dresses or suits at Someday Boutique during store hours: \n📍 40 Bridge Street\, Waitsfield\, VT\n🕚 11 AM – 5 PM\nApril 11 – April 13\nApril 16 – April 19\nApril 30 – May 1 \n(Please note: We cannot accept shoes or accessories.) \nWHAT WE’RE LOOKING FOR:\n✨ Dresses + Suits\n✨ On-trend styles\n✨ Like-new condition\n✨ Clean & ready to wear \n(No shoes or accessories\, please!) \nSAVE THE DATE to come shop the Prom Swap collection! \n💃 Saturday\, May 3rd | 11 AM – 5 PM\n💃 Sunday\, May 4th | 11 AM – 3 PM \nALL ARE WELCOME! Whether you’re shopping for prom\, formal events\, or just love a little dress-up moment… come find your dream look! \nWHY WE LOVE THIS:\n♻️ Sustainable fashion\n💚 Community love\n✨ Empowering everyone to feel their best self\n💃 Giving your clothes a second life \nTag us in your swap finds! @SomedayBoutiqueVT
URL:https://mrvvillage.com/event/prom-swap-10/
LOCATION:Someday Boutique\, 40 BRIDGE STREET\, WAITSFIELD\, VT\, 05673
CATEGORIES:Special Events
ATTACH;FMTTYPE=image/png:https://mrvvillage.com/wp-content/uploads/2025/04/Someday-Prom-Swap-Donation-FLYER-RPuUvl.tmp_.png
ORGANIZER;CN="SomeDay%20Boutique":MAILTO:shopsomedayvt@gmail.com
GEO:44.1896537;-72.824093
X-APPLE-STRUCTURED-LOCATION;VALUE=URI;X-ADDRESS=Someday Boutique 40 BRIDGE STREET WAITSFIELD VT 05673;X-APPLE-RADIUS=500;X-TITLE=40 BRIDGE STREET:geo:-72.824093,44.1896537
END:VEVENT
BEGIN:VEVENT
DTSTART;TZID=America/New_York:20250503T173000
DTEND;TZID=America/New_York:20250503T203000
DTSTAMP:20260425T090815
CREATED:20250424T170908Z
LAST-MODIFIED:20250503T220815Z
UID:10008011-1746293400-1746304200@mrvvillage.com
SUMMARY:Kentucky Derby Watch Party
DESCRIPTION:Our Kentucky Derby Party is back again this year.\nCome watch the “Fastest 2 Minutes in Sports” on the big screen in our barn.\nWe are offering a Kentucky inspired light bite buffet and of course Mint Juleps \nPost time is 6:57 PM \nDerby attire highly encouraged!
URL:https://mrvvillage.com/event/kentucky-derby-watch-party-2/
LOCATION:1824 House\, 2150 Main St.\, Waitsfield\, VT\, 05673
CATEGORIES:Special Events
ATTACH;FMTTYPE=image/png:https://mrvvillage.com/wp-content/uploads/2025/04/kentuckyderbylogo_orig-zgW17j.png
ORGANIZER;CN="1824%20House":MAILTO:stay@1824house.com
GEO:44.1926386;-72.7798479
X-APPLE-STRUCTURED-LOCATION;VALUE=URI;X-ADDRESS=1824 House 2150 Main St. Waitsfield VT 05673;X-APPLE-RADIUS=500;X-TITLE=2150 Main St.:geo:-72.7798479,44.1926386
END:VEVENT
BEGIN:VEVENT
DTSTART;TZID=America/New_York:20250503T193000
DTEND;TZID=America/New_York:20250503T213000
DTSTAMP:20260425T090815
CREATED:20250428T173842Z
LAST-MODIFIED:20250503T220815Z
UID:10008029-1746300600-1746307800@mrvvillage.com
SUMMARY:Mad River Chorale Spring Concert
DESCRIPTION:“Luminous Night of the Soul” \nMary Jane Austin\, Conductor \nwith Alison Cerutti at Piano & String Quartet \nMusic of Beethoven\, Rachmaninoff\, Lauridsen & Gjeilo \n  \nSaturday\, May 3 at 7:30 p.m. – Waitsfield United Church of Christ \nSunday\, May 4 at 4 p.m. – Waterbury Congregational Church \n  \nAdults: $20; Seniors/ Students: $15; 11 & under Free \nmadriverchorale.org \n802-496-4781 \n 
URL:https://mrvvillage.com/event/mad-river-chorale-spring-concert/
LOCATION:Waitsfield United Church of Christ\, 4355 Main Street\, Waitsfield\, Vermont\, 05673\, United States
CATEGORIES:Arts & Entertainment,Live Music,Special Events
ATTACH;FMTTYPE=image/jpeg:https://mrvvillage.com/wp-content/uploads/2025/04/Mad-River-Chorale-2HHJHm.jpg
GEO:44.1926386;-72.7798479
X-APPLE-STRUCTURED-LOCATION;VALUE=URI;X-ADDRESS=Waitsfield United Church of Christ 4355 Main Street Waitsfield Vermont 05673 United States;X-APPLE-RADIUS=500;X-TITLE=4355 Main Street:geo:-72.7798479,44.1926386
END:VEVENT
BEGIN:VEVENT
DTSTART;TZID=America/New_York:20250504T110000
DTEND;TZID=America/New_York:20250504T150000
DTSTAMP:20260425T090815
CREATED:20250411T152525Z
LAST-MODIFIED:20250504T220812Z
UID:10007979-1746356400-1746370800@mrvvillage.com
SUMMARY:PROM SWAP
DESCRIPTION:Someday Boutique is so excited to host our very first PROM SWAP\, in collaboration with Harwood Union High School! This is your chance to give pre-loved dresses and suits a second dance and help someone else feel FABULOUS for their big night! ✨ \nHow It Works:\nBring your gently used dresses + suits to Someday Boutique during our drop-off dates listed below. Then\, come back for our Prom Swap event to shop the collection for free! \nWe want this event to be accessible\, sustainable\, and full of community love 💚 Let’s help everyone in the Mad River Valley feel AMAZING at prom! \nDROP-OFF DATES:\nDrop off your clean\, on-trend\, like-new dresses or suits at Someday Boutique during store hours: \n📍 40 Bridge Street\, Waitsfield\, VT\n🕚 11 AM – 5 PM\nApril 11 – April 13\nApril 16 – April 19\nApril 30 – May 1 \n(Please note: We cannot accept shoes or accessories.) \nWHAT WE’RE LOOKING FOR:\n✨ Dresses + Suits\n✨ On-trend styles\n✨ Like-new condition\n✨ Clean & ready to wear \n(No shoes or accessories\, please!) \nSAVE THE DATE to come shop the Prom Swap collection! \n💃 Saturday\, May 3rd | 11 AM – 5 PM\n💃 Sunday\, May 4th | 11 AM – 3 PM \nALL ARE WELCOME! Whether you’re shopping for prom\, formal events\, or just love a little dress-up moment… come find your dream look! \nWHY WE LOVE THIS:\n♻️ Sustainable fashion\n💚 Community love\n✨ Empowering everyone to feel their best self\n💃 Giving your clothes a second life \nTag us in your swap finds! @SomedayBoutiqueVT
URL:https://mrvvillage.com/event/prom-swap-11/
LOCATION:Someday Boutique\, 40 BRIDGE STREET\, WAITSFIELD\, VT\, 05673
CATEGORIES:Special Events
ATTACH;FMTTYPE=image/png:https://mrvvillage.com/wp-content/uploads/2025/04/Someday-Prom-Swap-Donation-FLYER-RPuUvl.tmp_.png
ORGANIZER;CN="SomeDay%20Boutique":MAILTO:shopsomedayvt@gmail.com
GEO:44.1896537;-72.824093
X-APPLE-STRUCTURED-LOCATION;VALUE=URI;X-ADDRESS=Someday Boutique 40 BRIDGE STREET WAITSFIELD VT 05673;X-APPLE-RADIUS=500;X-TITLE=40 BRIDGE STREET:geo:-72.824093,44.1896537
END:VEVENT
BEGIN:VEVENT
DTSTART;TZID=America/New_York:20250504T160000
DTEND;TZID=America/New_York:20250504T183000
DTSTAMP:20260425T090815
CREATED:20250428T173843Z
LAST-MODIFIED:20250504T220812Z
UID:10008030-1746374400-1746383400@mrvvillage.com
SUMMARY:Mad River Chorale Spring Concert
DESCRIPTION:“Luminous Night of the Soul” \nMary Jane Austin\, Conductor \nwith Alison Cerutti at Piano & String Quartet \nMusic of Beethoven\, Rachmaninoff\, Lauridsen & Gjeilo \n  \nSaturday\, May 3 at 7:30 p.m. – Waitsfield United Church of Christ \nSunday\, May 4 at 4 p.m. – Waterbury Congregational Church \n  \nAdults: $20; Seniors/ Students: $15; 11 & under Free \nmadriverchorale.org \n802-496-4781 \n 
URL:https://mrvvillage.com/event/mad-river-chorale-spring-concert-2/
LOCATION:Waterbury Congregational Church\, 8 N Main St\, Waterbury\, VT
CATEGORIES:Arts & Entertainment,Live Music,Special Events
ATTACH;FMTTYPE=image/jpeg:https://mrvvillage.com/wp-content/uploads/2025/04/Mad-River-Chorale-2HHJHm.jpg
GEO:44.3378343;-72.756229
X-APPLE-STRUCTURED-LOCATION;VALUE=URI;X-ADDRESS=Waterbury Congregational Church 8 N Main St Waterbury VT;X-APPLE-RADIUS=500;X-TITLE=8 N Main St:geo:-72.756229,44.3378343
END:VEVENT
END:VCALENDAR