BEGIN:VCALENDAR
VERSION:2.0
PRODID:-//The Mad River Valley Village - ECPv6.0.13//NONSGML v1.0//EN
CALSCALE:GREGORIAN
METHOD:PUBLISH
X-WR-CALNAME:The Mad River Valley Village
X-ORIGINAL-URL:https://mrvvillage.com
X-WR-CALDESC:Events for The Mad River Valley Village
REFRESH-INTERVAL;VALUE=DURATION:PT1H
X-Robots-Tag:noindex
X-PUBLISHED-TTL:PT1H
BEGIN:VTIMEZONE
TZID:America/New_York
BEGIN:DAYLIGHT
TZOFFSETFROM:-0500
TZOFFSETTO:-0400
TZNAME:EDT
DTSTART:20250309T070000
END:DAYLIGHT
BEGIN:STANDARD
TZOFFSETFROM:-0400
TZOFFSETTO:-0500
TZNAME:EST
DTSTART:20251102T060000
END:STANDARD
END:VTIMEZONE
BEGIN:VEVENT
DTSTART;TZID=America/New_York:20250624T130000
DTEND;TZID=America/New_York:20250624T170000
DTSTAMP:20260425T134235
CREATED:20250606T222510Z
LAST-MODIFIED:20250624T143826Z
UID:10008288-1750770000-1750784400@mrvvillage.com
SUMMARY:Build Your Own Adirondack Chair
DESCRIPTION:Build your own pine Adirondack chair to use in your backyard or on your porch! This course will cover how to cut your materials\, assemble\, and finish your chair. \nYou’ll cover the safety and use of the chop saw\, circular saws\, band saws\, jigsaws\, routers\, drills\, impact drivers\, and orbital sanders. \nThis course will meet on Tuesday and Thursday afternoons from 1-5pm. \nNo previous woodworking skills required.
URL:https://mrvvillage.com/event/build-your-own-adirondack-chair/
LOCATION:Yestermorrow Design/Build School\, 7865 Main Street\, Waitsfield\, 05673
CATEGORIES:Schools,Special Events
ATTACH;FMTTYPE=image/png:https://mrvvillage.com/wp-content/uploads/2025/06/untitled_design_2-kPvlfm.png
ORGANIZER;CN="Yestermorrow%20Design%2FBuild%20School":MAILTO:info@yestermorrow.org
GEO:44.1490529;-72.8380281
X-APPLE-STRUCTURED-LOCATION;VALUE=URI;X-ADDRESS=Yestermorrow Design/Build School 7865 Main Street Waitsfield 05673;X-APPLE-RADIUS=500;X-TITLE=7865 Main Street:geo:-72.8380281,44.1490529
END:VEVENT
BEGIN:VEVENT
DTSTART;TZID=America/New_York:20250624T170000
DTEND;TZID=America/New_York:20250624T190000
DTSTAMP:20260425T134235
CREATED:20250522T195513Z
LAST-MODIFIED:20250624T143826Z
UID:10008163-1750784400-1750791600@mrvvillage.com
SUMMARY:Trades Meet-Up
DESCRIPTION:Casual\, fun\, and free meet-up for women\, trans\, & non-binary folks in construction and the trades. \nJoin us to connect\, share experiences\, and build a supportive community in a safe space. Feel free to bring a friend or colleague — the more the merrier! \nCo-hosted by HELM Construction Solutions\, Vermont Works for Women\, and Yestermorrow Design/Build School.
URL:https://mrvvillage.com/event/trades-meet-up/
LOCATION:Yestermorrow Design/Build School\, 7865 Main Street\, Waitsfield\, 05673
CATEGORIES:Special Events
ATTACH;FMTTYPE=image/jpeg:https://mrvvillage.com/wp-content/uploads/2025/05/Trades-Meet-Up-er8fzO.jpg
GEO:44.1490529;-72.8380281
X-APPLE-STRUCTURED-LOCATION;VALUE=URI;X-ADDRESS=Yestermorrow Design/Build School 7865 Main Street Waitsfield 05673;X-APPLE-RADIUS=500;X-TITLE=7865 Main Street:geo:-72.8380281,44.1490529
END:VEVENT
BEGIN:VEVENT
DTSTART;TZID=America/New_York:20250626T130000
DTEND;TZID=America/New_York:20250626T170000
DTSTAMP:20260425T134235
CREATED:20250606T222513Z
LAST-MODIFIED:20250626T150824Z
UID:10008289-1750942800-1750957200@mrvvillage.com
SUMMARY:Build Your Own Adirondack Chair
DESCRIPTION:Build your own pine Adirondack chair to use in your backyard or on your porch! This course will cover how to cut your materials\, assemble\, and finish your chair. \nYou’ll cover the safety and use of the chop saw\, circular saws\, band saws\, jigsaws\, routers\, drills\, impact drivers\, and orbital sanders. \nThis course will meet on Tuesday and Thursday afternoons from 1-5pm. \nNo previous woodworking skills required.
URL:https://mrvvillage.com/event/build-your-own-adirondack-chair-2/
LOCATION:Yestermorrow Design/Build School\, 7865 Main Street\, Waitsfield\, 05673
CATEGORIES:Schools,Special Events
ATTACH;FMTTYPE=image/png:https://mrvvillage.com/wp-content/uploads/2025/06/untitled_design_2-kPvlfm.png
ORGANIZER;CN="Yestermorrow%20Design%2FBuild%20School":MAILTO:info@yestermorrow.org
GEO:44.1490529;-72.8380281
X-APPLE-STRUCTURED-LOCATION;VALUE=URI;X-ADDRESS=Yestermorrow Design/Build School 7865 Main Street Waitsfield 05673;X-APPLE-RADIUS=500;X-TITLE=7865 Main Street:geo:-72.8380281,44.1490529
END:VEVENT
BEGIN:VEVENT
DTSTART;TZID=America/New_York:20250628T090000
DTEND;TZID=America/New_York:20250628T130000
DTSTAMP:20260425T134235
CREATED:20250509T185538Z
LAST-MODIFIED:20250618T130918Z
UID:10008079-1751101200-1751115600@mrvvillage.com
SUMMARY:Waitsfield Farmer’s Market
DESCRIPTION:Rain or Shine\, May 17th to October 18th. 9AM to 1PM. \nEnjoy local food\, live music\, and support local Vermont small businesses. \nOur vendors consist of 57+ small family farms\, handmade artisans\, and unique culinary producers.
URL:https://mrvvillage.com/event/waitsfield-farmers-market-30/
LOCATION:Mad River Green Shops\, 107 M\, waitsfield\, VT\, 05673\, United States
CATEGORIES:Family Friendly,Food & Drink,Live Music,Public Welcome,Special Events
ATTACH;FMTTYPE=image/png:https://mrvvillage.com/wp-content/uploads/2025/05/Untitled-design-15-QqCNuT.png
ORGANIZER;CN="Waitsfield%20Farmers%20Market":MAILTO:waitsfieldmarketmanager@gmail.com
GEO:44.1926386;-72.7798479
X-APPLE-STRUCTURED-LOCATION;VALUE=URI;X-ADDRESS=Mad River Green Shops 107 M waitsfield VT 05673 United States;X-APPLE-RADIUS=500;X-TITLE=107 M:geo:-72.7798479,44.1926386
END:VEVENT
BEGIN:VEVENT
DTSTART;TZID=America/New_York:20250628T140000
DTEND;TZID=America/New_York:20250628T160000
DTSTAMP:20260425T134235
CREATED:20250514T192527Z
LAST-MODIFIED:20250628T153823Z
UID:10008111-1751119200-1751126400@mrvvillage.com
SUMMARY:Explore the Seasons with Naturalist-Led Hikes at Stark Mountain
DESCRIPTION:Waitsfield\, VT — The Stark Mountain Foundation is excited to announce a new series of free\, family-friendly naturalist hikes on Stark Mountain\, led by Vermont Master Naturalist Gene O. Desideraggio. These guided hikes offer a unique opportunity to explore the mountain’s diverse ecosystems throughout the changing seasons. \nFrom vibrant spring wildflowers to the brilliant colors of fall foliage\, participants will immerse themselves in the natural beauty of the Green Mountains. Along the way\, Gene will help hikers discover signs of wildlife\, listen for bird calls echoing through the forest\, spot animal tracks on the trail\, or even find a well-worn bear tree. \nThe hikes will take place from 2:00 PM to 4:00 PM on the last Saturday of every month:\nMay 31\, June 28\, July 26\, August 30\, September 27\, and October 25 \nAfter each hike\, participants are invited to unwind at the Mad River Glen Stark’s Pub\, where they can grab a bite or a drink and enjoy the stunning mountain views. \nThe hikes are free\, but registration is required and space is limited. \nTo register or learn more\, visit:\nbit.ly/NatureHikes2025
URL:https://mrvvillage.com/event/explore-the-seasons-with-naturalist-led-hikes-at-stark-mountain-2/
LOCATION:Mad River Glen\, 57 Schuss Pass Road\, Waitsfield\, 05673
CATEGORIES:Family Friendly,Mad River Glen,Special Events,Stark Mountain Foundation
ORGANIZER;CN="Stark%20Mountain%20Foundation":MAILTO:contact@starkmountain.org
GEO:44.2023162;-72.9182617
X-APPLE-STRUCTURED-LOCATION;VALUE=URI;X-ADDRESS=Mad River Glen 57 Schuss Pass Road Waitsfield 05673;X-APPLE-RADIUS=500;X-TITLE=57 Schuss Pass Road:geo:-72.9182617,44.2023162
END:VEVENT
BEGIN:VEVENT
DTSTART;TZID=America/New_York:20250629T123000
DTEND;TZID=America/New_York:20250629T143000
DTSTAMP:20260425T134235
CREATED:20250529T202519Z
LAST-MODIFIED:20250629T155322Z
UID:10008210-1751200200-1751207400@mrvvillage.com
SUMMARY:Art & Conversations of Freedom
DESCRIPTION:The Art & Conversations of Freedom workshop provides space to explore our relationship with the idea of freedom through conversation\, theater-based activities\, and artistic creation. \nInspired by Robin D.G. Kelley’s concept of ‘freedom dreaming’\, all we need is love and our imagination to create environments that exist beyond our current reality. \nhe workshop is led by Interdisciplinary Artivist\, Educator & Organizer\, and Warren resident\, janet e. dandridge. The workshop is best suited for adults and teens (ages 14+). Children 8+ are welcome to attend with caregiver support. \nThis free workshop is presented by the MRV Libraries. \nRegister here: https://forms.gle/Z7Tz5GyXHz82YzPU7
URL:https://mrvvillage.com/event/art-conversations-of-freedom/
LOCATION:Warren Public Library\, 413 Main Street\, Warren\, 05674
CATEGORIES:Arts & Entertainment,Special Events
ATTACH;FMTTYPE=image/jpeg:https://mrvvillage.com/wp-content/uploads/2025/05/2025-art-conversations-RC4wmw.jpg
GEO:44.118347;-72.8576681
X-APPLE-STRUCTURED-LOCATION;VALUE=URI;X-ADDRESS=Warren Public Library 413 Main Street Warren 05674;X-APPLE-RADIUS=500;X-TITLE=413 Main Street:geo:-72.8576681,44.118347
END:VEVENT
END:VCALENDAR