BEGIN:VCALENDAR
VERSION:2.0
PRODID:-//The Mad River Valley Village - ECPv6.0.13//NONSGML v1.0//EN
CALSCALE:GREGORIAN
METHOD:PUBLISH
X-WR-CALNAME:The Mad River Valley Village
X-ORIGINAL-URL:https://mrvvillage.com
X-WR-CALDESC:Events for The Mad River Valley Village
REFRESH-INTERVAL;VALUE=DURATION:PT1H
X-Robots-Tag:noindex
X-PUBLISHED-TTL:PT1H
BEGIN:VTIMEZONE
TZID:America/New_York
BEGIN:DAYLIGHT
TZOFFSETFROM:-0500
TZOFFSETTO:-0400
TZNAME:EDT
DTSTART:20250309T070000
END:DAYLIGHT
BEGIN:STANDARD
TZOFFSETFROM:-0400
TZOFFSETTO:-0500
TZNAME:EST
DTSTART:20251102T060000
END:STANDARD
END:VTIMEZONE
BEGIN:VEVENT
DTSTART;TZID=America/New_York:20250830T000000
DTEND;TZID=America/New_York:20250830T235959
DTSTAMP:20260425T215504
CREATED:20250629T081401Z
LAST-MODIFIED:20250830T232319Z
UID:10008516-1756512000-1756598399@mrvvillage.com
SUMMARY:Yestermorrow Alumni Reunion – 45th Anniversary Edition!
DESCRIPTION:Join us to celebrate our 45th year with a celebration for alumni and friends! \nFeaturing:\n-the debut of our new logo\, branding\, and website\n-sneak peek of Prickly Mountain: My Design/Build Life film by Allie Rood\n-Woodbelly Pizza and cash bar\n-DJ sets from local talent \nFree and open to the public. RSVPs greatly appreciated – please visit https://ym45.eventbrite.com
URL:https://mrvvillage.com/event/yestermorrow-alumni-reunion-45th-anniversary-edition/
LOCATION:Yestermorrow Design/Build School\, 7865 Main Street\, Waitsfield\, 05673
CATEGORIES:Special Events
ATTACH;FMTTYPE=image/png:https://mrvvillage.com/wp-content/uploads/2025/06/alumni-reunion-insta-9gkZsx.png
ORGANIZER;CN="Yestermorrow%20Design%2FBuild%20School":MAILTO:info@yestermorrow.org
GEO:44.1490529;-72.8380281
X-APPLE-STRUCTURED-LOCATION;VALUE=URI;X-ADDRESS=Yestermorrow Design/Build School 7865 Main Street Waitsfield 05673;X-APPLE-RADIUS=500;X-TITLE=7865 Main Street:geo:-72.8380281,44.1490529
END:VEVENT
BEGIN:VEVENT
DTSTART;TZID=America/New_York:20250830T090000
DTEND;TZID=America/New_York:20250830T130000
DTSTAMP:20260425T215504
CREATED:20250601T012646Z
LAST-MODIFIED:20250618T131231Z
UID:10008223-1756544400-1756558800@mrvvillage.com
SUMMARY:Waitsfield Farmer’s Market
DESCRIPTION:Rain or Shine\, May 17th to October 18th. 9AM to 1PM. \nEnjoy local food\, live music\, and support local Vermont small businesses. \nOur vendors consist of 57+ small family farms\, handmade artisans\, and unique culinary producers.
URL:https://mrvvillage.com/event/waitsfield-farmers-market-39/
LOCATION:Mad River Green Shops\, 107 M\, waitsfield\, VT\, 05673\, United States
CATEGORIES:Family Friendly,Food & Drink,Live Music,Public Welcome,Special Events
ATTACH;FMTTYPE=image/png:https://mrvvillage.com/wp-content/uploads/2025/05/Untitled-design-15-QqCNuT.png
ORGANIZER;CN="Waitsfield%20Farmers%20Market":MAILTO:waitsfieldmarketmanager@gmail.com
GEO:44.1926386;-72.7798479
X-APPLE-STRUCTURED-LOCATION;VALUE=URI;X-ADDRESS=Mad River Green Shops 107 M waitsfield VT 05673 United States;X-APPLE-RADIUS=500;X-TITLE=107 M:geo:-72.7798479,44.1926386
END:VEVENT
BEGIN:VEVENT
DTSTART;TZID=America/New_York:20250830T100000
DTEND;TZID=America/New_York:20250830T170000
DTSTAMP:20260425T215504
CREATED:20250718T204237Z
LAST-MODIFIED:20250830T232319Z
UID:10008691-1756548000-1756573200@mrvvillage.com
SUMMARY:54th Annual Mad River Valley Craft Fair
DESCRIPTION:Great family day at the 54th annual Mad River Valley Craft Fair\, Labor Day weekend\, Aug. 30 & 31\, 10 am – 5 pm\, at Kenyon’s Field\, 3337 Main St.\, Waitsfield to benefit Valley Players Theater. \nGreat food court (Including American Flatbread)\, four live bands\, door prizes and shopping galore for handmade items! \nFrom practical things like furniture\, pottery and clothing to decorative items like framed art\, jewelry and whimsical keepsakes\, we have it all! Free kids’ show\, Dinoman with giant blow-up dinosaurs and real fossils at noon both days\, face painting\, kids 12 and under get in free (adults and teens $5 per person\, free parking). \nStay for lunch\, great music\, an adult beverage and great mt. views! \nwww.madrivercraftfair.com
URL:https://mrvvillage.com/event/54th-annual-mad-river-valley-craft-fair/
LOCATION:Kenyon’s Field\, 3337 Main St.\, Waitsfield\, 05673
CATEGORIES:Food & Drink,Live Music,Special Events
ATTACH;FMTTYPE=image/jpeg:https://mrvvillage.com/wp-content/uploads/2025/07/Outdoor-booths-at-the-Mad-River-Craft-Fair-1jcvgZ.jpg
GEO:44.20203;-72.8113874
X-APPLE-STRUCTURED-LOCATION;VALUE=URI;X-ADDRESS=Kenyon’s Field 3337 Main St. Waitsfield 05673;X-APPLE-RADIUS=500;X-TITLE=3337 Main St.:geo:-72.8113874,44.20203
END:VEVENT
BEGIN:VEVENT
DTSTART;TZID=America/New_York:20250830T140000
DTEND;TZID=America/New_York:20250830T160000
DTSTAMP:20260425T215504
CREATED:20250601T012646Z
LAST-MODIFIED:20250701T084334Z
UID:10008224-1756562400-1756569600@mrvvillage.com
SUMMARY:Explore the Seasons with Naturalist-Led Hikes at Stark Mountain
DESCRIPTION:Waitsfield\, VT — The Stark Mountain Foundation is excited to announce a new series of free\, family-friendly naturalist hikes on Stark Mountain\, led by Vermont Master Naturalist Gene O. Desideraggio. These guided hikes offer a unique opportunity to explore the mountain’s diverse ecosystems throughout the changing seasons. \nFrom vibrant spring wildflowers to the brilliant colors of fall foliage\, participants will immerse themselves in the natural beauty of the Green Mountains. Along the way\, Gene will help hikers discover signs of wildlife\, listen for bird calls echoing through the forest\, spot animal tracks on the trail\, or even find a well-worn bear tree. \nThe hikes will take place from 2:00 PM to 4:00 PM on the last Saturday of every month:\nMay 31\, June 28\, July 26\, August 30\, September 27\, and October 25 \nAfter each hike\, participants are invited to unwind at the Mad River Glen Stark’s Pub\, where they can grab a bite or a drink and enjoy the stunning mountain views. \nThe hikes are free\, but registration is required and space is limited. \nTo register or learn more\, visit:\nbit.ly/NatureHikes2025
URL:https://mrvvillage.com/event/explore-the-seasons-with-naturalist-led-hikes-at-stark-mountain-4/
LOCATION:Mad River Glen\, 57 Schuss Pass Road\, Waitsfield\, 05673
CATEGORIES:Family Friendly,Mad River Glen,Special Events,Stark Mountain Foundation
ORGANIZER;CN="Stark%20Mountain%20Foundation":MAILTO:contact@starkmountain.org
GEO:44.2023162;-72.9182617
X-APPLE-STRUCTURED-LOCATION;VALUE=URI;X-ADDRESS=Mad River Glen 57 Schuss Pass Road Waitsfield 05673;X-APPLE-RADIUS=500;X-TITLE=57 Schuss Pass Road:geo:-72.9182617,44.2023162
END:VEVENT
BEGIN:VEVENT
DTSTART;TZID=America/New_York:20250831T100000
DTEND;TZID=America/New_York:20250831T170000
DTSTAMP:20260425T215504
CREATED:20250718T204251Z
LAST-MODIFIED:20250831T233819Z
UID:10008693-1756634400-1756659600@mrvvillage.com
SUMMARY:54th Annual Mad River Valley Craft Fair
DESCRIPTION:Great family day at the 54th annual Mad River Valley Craft Fair\, Labor Day weekend\, Aug. 30 & 31\, 10 am – 5 pm\, at Kenyon’s Field\, 3337 Main St.\, Waitsfield to benefit Valley Players Theater. \nGreat food court (Including American Flatbread)\, four live bands\, door prizes and shopping galore for handmade items! \nFrom practical things like furniture\, pottery and clothing to decorative items like framed art\, jewelry and whimsical keepsakes\, we have it all! Free kids’ show\, Dinoman with giant blow-up dinosaurs and real fossils at noon both days\, face painting\, kids 12 and under get in free (adults and teens $5 per person\, free parking). \nStay for lunch\, great music\, an adult beverage and great mt. views! \nwww.madrivercraftfair.com
URL:https://mrvvillage.com/event/54th-annual-mad-river-valley-craft-fair-2/
LOCATION:Kenyon’s Field\, 3337 Main St.\, Waitsfield\, 05673
CATEGORIES:Food & Drink,Live Music,Special Events
ATTACH;FMTTYPE=image/jpeg:https://mrvvillage.com/wp-content/uploads/2025/07/Outdoor-booths-at-the-Mad-River-Craft-Fair-1jcvgZ.jpg
GEO:44.20203;-72.8113874
X-APPLE-STRUCTURED-LOCATION;VALUE=URI;X-ADDRESS=Kenyon’s Field 3337 Main St. Waitsfield 05673;X-APPLE-RADIUS=500;X-TITLE=3337 Main St.:geo:-72.8113874,44.20203
END:VEVENT
BEGIN:VEVENT
DTSTART;TZID=America/New_York:20250831T140000
DTEND;TZID=America/New_York:20250831T160000
DTSTAMP:20260425T215504
CREATED:20250703T091425Z
LAST-MODIFIED:20250831T233819Z
UID:10008557-1756648800-1756656000@mrvvillage.com
SUMMARY:The Great Duck Race with Kid Activities
DESCRIPTION:2025 is bringing DOUBLE the ducky fun with two races this year. Not required\, but for both races\, you have the option to “adopt” a plastic duck\, we chuck it into the Mad River\, and then nature takes over. Your noble little duck will bob\, weave\, and battle its way downstream for about 100 yards\, all in the name of glory. \nEvent Day: Sunday\, August 31st — races start at 3 PM sharp. Join us at Lareau Park (6051 VT Rte 100\, Waitsfield)\, across from Lareau Farm/Flatbread Pizza. Free Activities: Bring the kids to help collect ducks\, play lawn games\, see a magic show\, enjoy good food\, and soak up small-town fun. Kid activities start at 2pm. \nAnd yes\, 100% of the funds raised from both go straight to the MRV Rotary Club charitable fund\, helping make awesome things happen right here in the Valley. \nhttps://mrvrotary.rallyup.com/duckrace2025
URL:https://mrvvillage.com/event/the-great-duck-race-with-kid-activities/
LOCATION:Lareau Park\, 6051 Vermont Rte 100\, Waitesfield\, VT\, 05673
CATEGORIES:Family Friendly,Special Events
ATTACH;FMTTYPE=image/jpeg:https://mrvvillage.com/wp-content/uploads/2025/07/2024-duck-race-16-cpyogf.jpg
GEO:44.1754604;-72.8332866
X-APPLE-STRUCTURED-LOCATION;VALUE=URI;X-ADDRESS=Lareau Park 6051 Vermont Rte 100 Waitesfield VT 05673;X-APPLE-RADIUS=500;X-TITLE=6051 Vermont Rte 100:geo:-72.8332866,44.1754604
END:VEVENT
BEGIN:VEVENT
DTSTART;TZID=America/New_York:20250831T190000
DTEND;TZID=America/New_York:20250831T203000
DTSTAMP:20260425T215504
CREATED:20250827T182406Z
LAST-MODIFIED:20250831T233820Z
UID:10008919-1756666800-1756672200@mrvvillage.com
SUMMARY:Comedy Illusionist: Ben Pratt
DESCRIPTION:Magic\, laughs and sleight of hand.\nBen has created an 80 minute in your face stand up comedy show combined with magic and Illusions that widely appeals to both adults and kids. Ben has won multiple awards and has performed all over New England\, as well as Las Vegas. From the moment he walks into a room ready to perform\, to the moment he leaves he will ALWAYS leave people begging for more. Limited seating available. Get your tickets before they all disappear!
URL:https://mrvvillage.com/event/comedy-illusionist-ben-pratt/
LOCATION:Big Picture Theater\, 44 Carroll Road\, Waitsfield\, 05673
CATEGORIES:Arts & Entertainment,Community,Family Friendly,Special Events
ATTACH;FMTTYPE=image/png:https://mrvvillage.com/wp-content/uploads/2025/08/Fwd_-The-Bigger-Picture-Upcoming-Event-mjohnson112usmc@gmail.com-Gmail-BBYvyY.png
ORGANIZER;CN="Big%20Picture%20Theater":MAILTO:beths@madriver.com
GEO:44.1874779;-72.8335286
X-APPLE-STRUCTURED-LOCATION;VALUE=URI;X-ADDRESS=Big Picture Theater 44 Carroll Road Waitsfield 05673;X-APPLE-RADIUS=500;X-TITLE=44 Carroll Road:geo:-72.8335286,44.1874779
END:VEVENT
END:VCALENDAR