BEGIN:VCALENDAR
VERSION:2.0
PRODID:-//The Mad River Valley Village - ECPv6.0.13//NONSGML v1.0//EN
CALSCALE:GREGORIAN
METHOD:PUBLISH
X-WR-CALNAME:The Mad River Valley Village
X-ORIGINAL-URL:https://mrvvillage.com
X-WR-CALDESC:Events for The Mad River Valley Village
REFRESH-INTERVAL;VALUE=DURATION:PT1H
X-Robots-Tag:noindex
X-PUBLISHED-TTL:PT1H
BEGIN:VTIMEZONE
TZID:America/New_York
BEGIN:DAYLIGHT
TZOFFSETFROM:-0500
TZOFFSETTO:-0400
TZNAME:EDT
DTSTART:20250309T070000
END:DAYLIGHT
BEGIN:STANDARD
TZOFFSETFROM:-0400
TZOFFSETTO:-0500
TZNAME:EST
DTSTART:20251102T060000
END:STANDARD
END:VTIMEZONE
BEGIN:VEVENT
DTSTART;TZID=America/New_York:20250908T000000
DTEND;TZID=America/New_York:20250908T235959
DTSTAMP:20260425T233104
CREATED:20250610T032813Z
LAST-MODIFIED:20250908T203818Z
UID:10008309-1757289600-1757375999@mrvvillage.com
SUMMARY:Vermont Cheese Council
DESCRIPTION:Vermont Cheese Week is a statewide\, weeklong celebration designed to feed the fanaticisms of all you cheese lovers out there. (We see you!) \nEnjoy unique\, authentic Vermont experiences that celebrate our beloved cheesemakers\, and the land and animals that make cheese possible. \nVermont Cheese Week features lodging and dining specials\, educational experiences\, tastings and pairings\, cheese dinners\, farm and facility visits\, and more! \nVisit https://vtcheese.com/cheeseweek for more information and check back frequently for updates.
URL:https://mrvvillage.com/event/vermont-cheese-council-3/
LOCATION:Around the Valley
CATEGORIES:Food & Drink,Special Events
ATTACH;FMTTYPE=image/jpeg:https://mrvvillage.com/wp-content/uploads/2025/06/Vermont-Cheese-Week-2025-Banner-M9XwP8.jpg
ORGANIZER;CN="Vermont%20Cheese%20Council":MAILTO:cheeseweek@vtcheese.com
END:VEVENT
BEGIN:VEVENT
DTSTART;TZID=America/New_York:20250909T000000
DTEND;TZID=America/New_York:20250909T235959
DTSTAMP:20260425T233104
CREATED:20250611T034300Z
LAST-MODIFIED:20250909T203817Z
UID:10008312-1757376000-1757462399@mrvvillage.com
SUMMARY:Vermont Cheese Council
DESCRIPTION:Vermont Cheese Week is a statewide\, weeklong celebration designed to feed the fanaticisms of all you cheese lovers out there. (We see you!) \nEnjoy unique\, authentic Vermont experiences that celebrate our beloved cheesemakers\, and the land and animals that make cheese possible. \nVermont Cheese Week features lodging and dining specials\, educational experiences\, tastings and pairings\, cheese dinners\, farm and facility visits\, and more! \nVisit https://vtcheese.com/cheeseweek for more information and check back frequently for updates.
URL:https://mrvvillage.com/event/vermont-cheese-council-4/
LOCATION:Around the Valley
CATEGORIES:Food & Drink,Special Events
ATTACH;FMTTYPE=image/jpeg:https://mrvvillage.com/wp-content/uploads/2025/06/Vermont-Cheese-Week-2025-Banner-M9XwP8.jpg
ORGANIZER;CN="Vermont%20Cheese%20Council":MAILTO:cheeseweek@vtcheese.com
END:VEVENT
BEGIN:VEVENT
DTSTART;TZID=America/New_York:20250910T000000
DTEND;TZID=America/New_York:20250910T235959
DTSTAMP:20260425T233104
CREATED:20250612T035822Z
LAST-MODIFIED:20250910T205325Z
UID:10008314-1757462400-1757548799@mrvvillage.com
SUMMARY:Vermont Cheese Council
DESCRIPTION:Vermont Cheese Week is a statewide\, weeklong celebration designed to feed the fanaticisms of all you cheese lovers out there. (We see you!) \nEnjoy unique\, authentic Vermont experiences that celebrate our beloved cheesemakers\, and the land and animals that make cheese possible. \nVermont Cheese Week features lodging and dining specials\, educational experiences\, tastings and pairings\, cheese dinners\, farm and facility visits\, and more! \nVisit https://vtcheese.com/cheeseweek for more information and check back frequently for updates.
URL:https://mrvvillage.com/event/vermont-cheese-council-5/
LOCATION:Around the Valley
CATEGORIES:Food & Drink,Special Events
ATTACH;FMTTYPE=image/jpeg:https://mrvvillage.com/wp-content/uploads/2025/06/Vermont-Cheese-Week-2025-Banner-M9XwP8.jpg
ORGANIZER;CN="Vermont%20Cheese%20Council":MAILTO:cheeseweek@vtcheese.com
END:VEVENT
BEGIN:VEVENT
DTSTART;TZID=America/New_York:20250911T000000
DTEND;TZID=America/New_York:20250911T235959
DTSTAMP:20260425T233104
CREATED:20250613T041313Z
LAST-MODIFIED:20250911T210818Z
UID:10008324-1757548800-1757635199@mrvvillage.com
SUMMARY:Vermont Cheese Council
DESCRIPTION:Vermont Cheese Week is a statewide\, weeklong celebration designed to feed the fanaticisms of all you cheese lovers out there. (We see you!) \nEnjoy unique\, authentic Vermont experiences that celebrate our beloved cheesemakers\, and the land and animals that make cheese possible. \nVermont Cheese Week features lodging and dining specials\, educational experiences\, tastings and pairings\, cheese dinners\, farm and facility visits\, and more! \nVisit https://vtcheese.com/cheeseweek for more information and check back frequently for updates.
URL:https://mrvvillage.com/event/vermont-cheese-council-6/
LOCATION:Around the Valley
CATEGORIES:Food & Drink,Special Events
ATTACH;FMTTYPE=image/jpeg:https://mrvvillage.com/wp-content/uploads/2025/06/Vermont-Cheese-Week-2025-Banner-M9XwP8.jpg
ORGANIZER;CN="Vermont%20Cheese%20Council":MAILTO:cheeseweek@vtcheese.com
END:VEVENT
BEGIN:VEVENT
DTSTART;TZID=America/New_York:20250912T000000
DTEND;TZID=America/New_York:20250912T235959
DTSTAMP:20260425T233104
CREATED:20250614T042811Z
LAST-MODIFIED:20250912T210820Z
UID:10008326-1757635200-1757721599@mrvvillage.com
SUMMARY:Vermont Cheese Council
DESCRIPTION:Vermont Cheese Week is a statewide\, weeklong celebration designed to feed the fanaticisms of all you cheese lovers out there. (We see you!) \nEnjoy unique\, authentic Vermont experiences that celebrate our beloved cheesemakers\, and the land and animals that make cheese possible. \nVermont Cheese Week features lodging and dining specials\, educational experiences\, tastings and pairings\, cheese dinners\, farm and facility visits\, and more! \nVisit https://vtcheese.com/cheeseweek for more information and check back frequently for updates.
URL:https://mrvvillage.com/event/vermont-cheese-council-7/
LOCATION:Around the Valley
CATEGORIES:Food & Drink,Special Events
ATTACH;FMTTYPE=image/jpeg:https://mrvvillage.com/wp-content/uploads/2025/06/Vermont-Cheese-Week-2025-Banner-M9XwP8.jpg
ORGANIZER;CN="Vermont%20Cheese%20Council":MAILTO:cheeseweek@vtcheese.com
END:VEVENT
BEGIN:VEVENT
DTSTART;TZID=America/New_York:20250913T000000
DTEND;TZID=America/New_York:20250913T235959
DTSTAMP:20260425T233104
CREATED:20250615T044256Z
LAST-MODIFIED:20250912T210824Z
UID:10008327-1757721600-1757807999@mrvvillage.com
SUMMARY:Vermont Cheese Council
DESCRIPTION:Vermont Cheese Week is a statewide\, weeklong celebration designed to feed the fanaticisms of all you cheese lovers out there. (We see you!) \nEnjoy unique\, authentic Vermont experiences that celebrate our beloved cheesemakers\, and the land and animals that make cheese possible. \nVermont Cheese Week features lodging and dining specials\, educational experiences\, tastings and pairings\, cheese dinners\, farm and facility visits\, and more! \nVisit https://vtcheese.com/cheeseweek for more information and check back frequently for updates.
URL:https://mrvvillage.com/event/vermont-cheese-council-8/
LOCATION:Around the Valley
CATEGORIES:Food & Drink,Special Events
ATTACH;FMTTYPE=image/jpeg:https://mrvvillage.com/wp-content/uploads/2025/06/Vermont-Cheese-Week-2025-Banner-M9XwP8.jpg
ORGANIZER;CN="Vermont%20Cheese%20Council":MAILTO:cheeseweek@vtcheese.com
END:VEVENT
BEGIN:VEVENT
DTSTART;TZID=America/New_York:20250913T090000
DTEND;TZID=America/New_York:20250913T130000
DTSTAMP:20260425T233104
CREATED:20250615T044256Z
LAST-MODIFIED:20250618T131257Z
UID:10008328-1757754000-1757768400@mrvvillage.com
SUMMARY:Waitsfield Farmer’s Market
DESCRIPTION:Rain or Shine\, May 17th to October 18th. 9AM to 1PM. \nEnjoy local food\, live music\, and support local Vermont small businesses. \nOur vendors consist of 57+ small family farms\, handmade artisans\, and unique culinary producers.
URL:https://mrvvillage.com/event/waitsfield-farmers-market-41/
LOCATION:Mad River Green Shops\, 107 M\, waitsfield\, VT\, 05673\, United States
CATEGORIES:Family Friendly,Food & Drink,Live Music,Public Welcome,Special Events
ATTACH;FMTTYPE=image/png:https://mrvvillage.com/wp-content/uploads/2025/05/Untitled-design-15-QqCNuT.png
ORGANIZER;CN="Waitsfield%20Farmers%20Market":MAILTO:waitsfieldmarketmanager@gmail.com
GEO:44.1926386;-72.7798479
X-APPLE-STRUCTURED-LOCATION;VALUE=URI;X-ADDRESS=Mad River Green Shops 107 M waitsfield VT 05673 United States;X-APPLE-RADIUS=500;X-TITLE=107 M:geo:-72.7798479,44.1926386
END:VEVENT
END:VCALENDAR