BEGIN:VCALENDAR
VERSION:2.0
PRODID:-//The Mad River Valley Village - ECPv6.0.13//NONSGML v1.0//EN
CALSCALE:GREGORIAN
METHOD:PUBLISH
X-WR-CALNAME:The Mad River Valley Village
X-ORIGINAL-URL:https://mrvvillage.com
X-WR-CALDESC:Events for The Mad River Valley Village
REFRESH-INTERVAL;VALUE=DURATION:PT1H
X-Robots-Tag:noindex
X-PUBLISHED-TTL:PT1H
BEGIN:VTIMEZONE
TZID:America/New_York
BEGIN:DAYLIGHT
TZOFFSETFROM:-0500
TZOFFSETTO:-0400
TZNAME:EDT
DTSTART:20250309T070000
END:DAYLIGHT
BEGIN:STANDARD
TZOFFSETFROM:-0400
TZOFFSETTO:-0500
TZNAME:EST
DTSTART:20251102T060000
END:STANDARD
END:VTIMEZONE
BEGIN:VEVENT
DTSTART;TZID=America/New_York:20251004T110000
DTEND;TZID=America/New_York:20251004T130000
DTSTAMP:20260425T085732
CREATED:20250910T014031Z
LAST-MODIFIED:20251004T122324Z
UID:10008972-1759575600-1759582800@mrvvillage.com
SUMMARY:Symbols of the Sun: Raptors & Us
DESCRIPTION:At 11:00 AM on Saturday\, October 4\, SMF proudly sponsors Symbols of the Sun\, an interactive slideshow and discussion led by the Vermont Museum of Natural History. \nAccompanied by two live birds of prey\, the presenter will illuminate the relationship between humans and birds of prey that has evolved over thousands of years. It will help you see what our ancestors saw as they watched these magnificent predators. \nPerfect for families\, this presentation runs from 11:00 – 1:00 PM in the Basebox. \nThe event is free but we kindly ask that you register ahead of time by clicking here.
URL:https://mrvvillage.com/event/symbols-of-the-sun-raptors-us/
CATEGORIES:Stark Mountain Foundation
ATTACH;FMTTYPE=image/png:https://mrvvillage.com/wp-content/uploads/2025/09/Screenshot-2025-09-09-at-11.23.24-AM-scaled-e1757431452614-2tI2Yw-KOBRqg.png
END:VEVENT
BEGIN:VEVENT
DTSTART;TZID=America/New_York:20251004T130000
DTEND;TZID=America/New_York:20251004T160000
DTSTAMP:20260425T085732
CREATED:20250910T014031Z
LAST-MODIFIED:20251004T122324Z
UID:10008973-1759582800-1759593600@mrvvillage.com
SUMMARY:Naturalist (Downhill) Hike
DESCRIPTION:Join us for a free guided hike starting at the top of Stark Mountain with naturalist Gene O. Desideraggio from 1:00 – 4:00 PM. \nUse the lift or hike to the summit to join the group. If using the lift\, we recommend leaving the base area no later than 12:40. If hiking\, start no later than 11:30 AM. \nDetails:\n• Meeting Spot:\nThe deck of the Stark’s Nest at the Top of MRG’s\nSingle Chair\n• Duration: ~3 hours\n• Fairly strenuous \nWhat to Bring:\n• Hat & sunglasses\n• Water & snacks\n• Sunscreen & bug spray\n• Raincoat\n• Sturdy shoes\n• Please do not bring your pet \nWalking/hiking sticks are highly recommended. \nThis free hike is by registration only: Click Here
URL:https://mrvvillage.com/event/naturalist-downhill-hike/
CATEGORIES:Stark Mountain Foundation
ATTACH;FMTTYPE=image/jpeg:https://mrvvillage.com/wp-content/uploads/2025/09/Eric-Friedman-Stark-Mountain-Trail-summer-hike-JEB-1-scaled-e1757432335815-LhoFLR-shTKVd.jpg
END:VEVENT
END:VCALENDAR