BEGIN:VCALENDAR
VERSION:2.0
PRODID:-//The Mad River Valley Village - ECPv6.0.13//NONSGML v1.0//EN
CALSCALE:GREGORIAN
METHOD:PUBLISH
X-WR-CALNAME:The Mad River Valley Village
X-ORIGINAL-URL:https://mrvvillage.com
X-WR-CALDESC:Events for The Mad River Valley Village
REFRESH-INTERVAL;VALUE=DURATION:PT1H
X-Robots-Tag:noindex
X-PUBLISHED-TTL:PT1H
BEGIN:VTIMEZONE
TZID:America/New_York
BEGIN:DAYLIGHT
TZOFFSETFROM:-0500
TZOFFSETTO:-0400
TZNAME:EDT
DTSTART:20260308T070000
END:DAYLIGHT
BEGIN:STANDARD
TZOFFSETFROM:-0400
TZOFFSETTO:-0500
TZNAME:EST
DTSTART:20261101T060000
END:STANDARD
END:VTIMEZONE
BEGIN:VEVENT
DTSTART;TZID=America/New_York:20260228T170000
DTEND;TZID=America/New_York:20260228T180000
DTSTAMP:20260422T224033
CREATED:20260101T160956Z
LAST-MODIFIED:20260228T182331Z
UID:10009589-1772298000-1772301600@mrvvillage.com
SUMMARY:Owls of Vermont
DESCRIPTION:What makes an owl the perfect nocturnal predator? Find out Saturday\, February 28th\, 2026 at 5pm on the 3rd floor in the Basebox at Mad River Glen! Join Stark Mountain Foundation and the Vermont Museum of Natural History for an engaging birds of prey program and the chance to meet live owls up close\, handle artifacts\, and participate in interactive demonstrations! You’ll learn about the “raptor night shift\,” diving into the unique adaptations of owls\, and learn about their specialized feathers\, hearing\, and hunting techniques that give them a supreme advantage after dark. The free family\, friendly presentation will feature an exploration of various owl species native to the Northeast. Perfect for nature lovers and curious minds of all ages! \nThis event is free and pre-registration is appreciated (not required). Donations to Stark Mountain Foundation are encouraged to support educational programs in the future! \nRegister Here!
URL:https://mrvvillage.com/event/owls-of-vermont/
CATEGORIES:Stark Mountain Foundation
ATTACH;FMTTYPE=image/jpeg:https://mrvvillage.com/wp-content/uploads/2026/01/artemis-e1767188119214-IYKgV3-xweTwQ.jpg
END:VEVENT
END:VCALENDAR