BEGIN:VCALENDAR
VERSION:2.0
PRODID:-//The Mad River Valley Village - ECPv6.0.13//NONSGML v1.0//EN
CALSCALE:GREGORIAN
METHOD:PUBLISH
X-ORIGINAL-URL:https://mrvvillage.com
X-WR-CALDESC:Events for The Mad River Valley Village
REFRESH-INTERVAL;VALUE=DURATION:PT1H
X-Robots-Tag:noindex
X-PUBLISHED-TTL:PT1H
BEGIN:VTIMEZONE
TZID:America/New_York
BEGIN:DAYLIGHT
TZOFFSETFROM:-0500
TZOFFSETTO:-0400
TZNAME:EDT
DTSTART:20240310T070000
END:DAYLIGHT
BEGIN:STANDARD
TZOFFSETFROM:-0400
TZOFFSETTO:-0500
TZNAME:EST
DTSTART:20241103T060000
END:STANDARD
BEGIN:DAYLIGHT
TZOFFSETFROM:-0500
TZOFFSETTO:-0400
TZNAME:EDT
DTSTART:20250309T070000
END:DAYLIGHT
BEGIN:STANDARD
TZOFFSETFROM:-0400
TZOFFSETTO:-0500
TZNAME:EST
DTSTART:20251102T060000
END:STANDARD
END:VTIMEZONE
BEGIN:VEVENT
DTSTART;TZID=America/New_York:20241221T000000
DTEND;TZID=America/New_York:20250101T235959
DTSTAMP:20260424T012337
CREATED:20241009T012530Z
LAST-MODIFIED:20241221T202317Z
UID:10007135-1734739200-1735775999@mrvvillage.com
SUMMARY:Holiday Week
DESCRIPTION:Join us for the holidays!More information coming soon.
URL:https://mrvvillage.com/event/holiday-week/
LOCATION:Sugarbush Resort\, 102 Forest Drive Warren\, VT 05674\, Warren\, 05674
CATEGORIES:Food & Drink,Sugarbush
ATTACH;FMTTYPE=image/webp:https://mrvvillage.com/wp-content/uploads/2024/10/christmas-1-paGUXG.tmp_.webp
GEO:44.1272818;-72.9284492
X-APPLE-STRUCTURED-LOCATION;VALUE=URI;X-ADDRESS=Sugarbush Resort 102 Forest Drive Warren VT 05674 Warren 05674;X-APPLE-RADIUS=500;X-TITLE=102 Forest Drive Warren\, VT 05674:geo:-72.9284492,44.1272818
END:VEVENT
BEGIN:VEVENT
DTSTART;TZID=America/New_York:20250103T170000
DTEND;TZID=America/New_York:20250103T220000
DTSTAMP:20260424T012337
CREATED:20241009T012546Z
LAST-MODIFIED:20250103T233822Z
UID:10007138-1735923600-1735941600@mrvvillage.com
SUMMARY:The Allyn’s Lodge Experience: À La Carte Dinner
DESCRIPTION:Allyn’s Lodge provides an intimate atmosphere lit by candles and a crackling fire. Guests are welcomed to Allyn’s Lodge with a champagne toast\, followed by an elegant five-course meal. Beer and wine are available for additional purchase. The dinner at Allyn’s Lodge typically lasts from 5:30 – 9:00 PM. Following the fireside dinner\, guests bundle up to either ski or snowboard down a freshly groomed trail or descend to the base in the comfort of the heated cabin cat. Skiing down in the quiet of the night heightens the senses\, providing an experience many guests return for again and again. (This experience is for advanced skiers and snowboarders only.) BOOK NOW
URL:https://mrvvillage.com/event/the-allyns-lodge-experience-a-la-carte-dinner/
LOCATION:Allyn’s Lodge\, 102 Forest Drive Warren\, VT 05674
CATEGORIES:Food & Drink,Sugarbush
ATTACH;FMTTYPE=image/jpeg:https://mrvvillage.com/wp-content/uploads/2024/10/ale-1-ARw14r.tmp_.jpg
GEO:44.1272818;-72.9284492
X-APPLE-STRUCTURED-LOCATION;VALUE=URI;X-ADDRESS=Allyn’s Lodge 102 Forest Drive Warren VT 05674;X-APPLE-RADIUS=500;X-TITLE=102 Forest Drive Warren\, VT 05674:geo:-72.9284492,44.1272818
END:VEVENT
BEGIN:VEVENT
DTSTART;TZID=America/New_York:20250105T170000
DTEND;TZID=America/New_York:20250105T220000
DTSTAMP:20260424T012337
CREATED:20241009T012547Z
LAST-MODIFIED:20250105T222321Z
UID:10007139-1736096400-1736114400@mrvvillage.com
SUMMARY:The Allyn’s Lodge Experience: À La Carte Dinner with Frost Beer Works
DESCRIPTION:Join us\, and our friends\, at Frost Beer Works for an evening at Allyn’s Lodge\, midway up Lincoln Peak\, for an intimate and elegant five-course meal in a rustic atmosphere. Arrive at Allyn’s Lodge via our Cabin Cat* and enjoy a champagne toast followed by a delicious fireside meal paired with Frost Beers. View the sample menu below. Additional beer and wine will be available for purchase. After dinner\, advanced skiers and riders may bundle up to ski and/or snowboard back to the base area on a freshly groomed trail under the cover of darkness with a guide. Non-skiers and riders may take the Cabin Cat back down. Dinners typically run from about 5-10pm. BOOK NOW*Or tour/skin up with a guide.
URL:https://mrvvillage.com/event/the-allyns-lodge-experience-a-la-carte-dinner-with-frost-beer-works/
LOCATION:Allyn’s Lodge\, 102 Forest Drive Warren\, VT 05674
CATEGORIES:Food & Drink,Sugarbush
ATTACH;FMTTYPE=image/jpeg:https://mrvvillage.com/wp-content/uploads/2024/10/ale-frost-4BBEQ4.tmp_.jpg
GEO:44.1272818;-72.9284492
X-APPLE-STRUCTURED-LOCATION;VALUE=URI;X-ADDRESS=Allyn’s Lodge 102 Forest Drive Warren VT 05674;X-APPLE-RADIUS=500;X-TITLE=102 Forest Drive Warren\, VT 05674:geo:-72.9284492,44.1272818
END:VEVENT
BEGIN:VEVENT
DTSTART;TZID=America/New_York:20250111T073000
DTEND;TZID=America/New_York:20250111T080000
DTSTAMP:20260424T012337
CREATED:20241013T012500Z
LAST-MODIFIED:20250111T235324Z
UID:10007148-1736580600-1736582400@mrvvillage.com
SUMMARY:Ikon Pass First Tracks
DESCRIPTION:Ikon Pass holders can unlock untouched powder and crispy corduroy with free Ikon Pass First Tracks. Grab early morning laps before the lifts open to the public. Your Ikon Pass will allow you to get on Super Bravo a half hour early on Saturday January 11th.Learn MoreWant early ups every weekend and holiday?Add-On Early Ups
URL:https://mrvvillage.com/event/ikon-pass-first-tracks/
LOCATION:Super Bravo Lift\, Lincoln Peak
CATEGORIES:Sugarbush
ATTACH;FMTTYPE=image/jpeg:https://mrvvillage.com/wp-content/uploads/2024/10/first-tracks-unDqEM.tmp_.jpg
GEO:44.1272818;-72.9284492
X-APPLE-STRUCTURED-LOCATION;VALUE=URI;X-ADDRESS=Super Bravo Lift Lincoln Peak;X-APPLE-RADIUS=500;X-TITLE=Lincoln Peak:geo:-72.9284492,44.1272818
END:VEVENT
BEGIN:VEVENT
DTSTART;TZID=America/New_York:20250112T073000
DTEND;TZID=America/New_York:20250112T080000
DTSTAMP:20260424T012337
CREATED:20241014T014002Z
LAST-MODIFIED:20250112T013823Z
UID:10007149-1736667000-1736668800@mrvvillage.com
SUMMARY:Ikon Pass First Tracks
DESCRIPTION:Ikon Pass holders can unlock untouched powder and crispy corduroy with free Ikon Pass First Tracks. Grab early morning laps before the lifts open to the public. Your Ikon Pass will allow you to get on Super Bravo a half hour early on Sunday January 12th.Learn MoreWant early ups every weekend and holiday?Add-On Early Ups
URL:https://mrvvillage.com/event/ikon-pass-first-tracks-2/
LOCATION:Super Bravo Lift\, Lincoln Peak
CATEGORIES:Sugarbush
ATTACH;FMTTYPE=image/jpeg:https://mrvvillage.com/wp-content/uploads/2024/10/first-tracks-unDqEM.tmp_.jpg
GEO:44.1272818;-72.9284492
X-APPLE-STRUCTURED-LOCATION;VALUE=URI;X-ADDRESS=Super Bravo Lift Lincoln Peak;X-APPLE-RADIUS=500;X-TITLE=Lincoln Peak:geo:-72.9284492,44.1272818
END:VEVENT
BEGIN:VEVENT
DTSTART;TZID=America/New_York:20250113T170000
DTEND;TZID=America/New_York:20250113T220000
DTSTAMP:20260424T012337
CREATED:20241015T013959Z
LAST-MODIFIED:20250113T120826Z
UID:10007152-1736787600-1736805600@mrvvillage.com
SUMMARY:The Allyn’s Lodge Experience: À La Carte Dinner
DESCRIPTION:Join us for an evening at Allyn’s Lodge\, midway up Lincoln Peak\, for an intimate and elegant five-course meal in a rustic atmosphere. Arrive at Allyn’s Lodge via our Cabin Cat* and enjoy a champagne toast followed by a delicious fireside meal. Beer and wine are available for additional purchase.After dinner\, advanced skiers and riders may bundle up to ski and/or snowboard back to the base area on a freshly groomed trail under the cover of darkness with a guide. Non-skiers and riders may take the Cabin Cat back down. Dinners typically run from about 5-10pm.BOOK NOW*Or tour/skin up with a guide.
URL:https://mrvvillage.com/event/the-allyns-lodge-experience-a-la-carte-dinner-2/
LOCATION:Allyn’s Lodge\, 102 Forest Drive Warren\, VT 05674
CATEGORIES:Food & Drink,Sugarbush
ATTACH;FMTTYPE=image/jpeg:https://mrvvillage.com/wp-content/uploads/2024/10/ale-1-ARw14r.tmp_.jpg
GEO:44.1272818;-72.9284492
X-APPLE-STRUCTURED-LOCATION;VALUE=URI;X-ADDRESS=Allyn’s Lodge 102 Forest Drive Warren VT 05674;X-APPLE-RADIUS=500;X-TITLE=102 Forest Drive Warren\, VT 05674:geo:-72.9284492,44.1272818
END:VEVENT
BEGIN:VEVENT
DTSTART;TZID=America/New_York:20250117T000000
DTEND;TZID=America/New_York:20250120T235959
DTSTAMP:20260424T012337
CREATED:20241022T023932Z
LAST-MODIFIED:20250117T130825Z
UID:10007160-1737072000-1737417599@mrvvillage.com
SUMMARY:Martin Luther Kind Jr. Weekend ’25
DESCRIPTION:Join us for Martin Luther Kind Jr. Weekend ’25.More information coming soon.
URL:https://mrvvillage.com/event/martin-luther-kind-jr-weekend-25/
LOCATION:Sugarbush Resort\, 102 Forest Drive Warren\, VT 05674\, Warren\, 05674
CATEGORIES:Food & Drink,Sugarbush
ATTACH;FMTTYPE=image/webp:https://mrvvillage.com/wp-content/uploads/2024/10/mlk-Jc2gRW.tmp_.webp
GEO:44.1272818;-72.9284492
X-APPLE-STRUCTURED-LOCATION;VALUE=URI;X-ADDRESS=Sugarbush Resort 102 Forest Drive Warren VT 05674 Warren 05674;X-APPLE-RADIUS=500;X-TITLE=102 Forest Drive Warren\, VT 05674:geo:-72.9284492,44.1272818
END:VEVENT
BEGIN:VEVENT
DTSTART;TZID=America/New_York:20250119T190000
DTEND;TZID=America/New_York:20250119T220000
DTSTAMP:20260424T012337
CREATED:20241021T022431Z
LAST-MODIFIED:20250119T133820Z
UID:10007158-1737313200-1737324000@mrvvillage.com
SUMMARY:Martin Luther King Jr. Day Torchlight Parade & Fireworks
DESCRIPTION:Celebrate Martin Luther King Jr. Day with a special fireworks display\, and torchlight parade held on Spring Fling. Remember please leave all pets at home.More information coming soon!
URL:https://mrvvillage.com/event/martin-luther-king-jr-day-torchlight-parade-fireworks-2/
LOCATION:Sugarbush Resort\, 102 Forest Drive Warren\, VT 05674\, Warren\, 05674
CATEGORIES:Food & Drink,Sugarbush
ATTACH;FMTTYPE=image/webp:https://mrvvillage.com/wp-content/uploads/2024/10/fireworks-1-8rXBgl.tmp_.webp
GEO:44.1272818;-72.9284492
X-APPLE-STRUCTURED-LOCATION;VALUE=URI;X-ADDRESS=Sugarbush Resort 102 Forest Drive Warren VT 05674 Warren 05674;X-APPLE-RADIUS=500;X-TITLE=102 Forest Drive Warren\, VT 05674:geo:-72.9284492,44.1272818
END:VEVENT
BEGIN:VEVENT
DTSTART;TZID=America/New_York:20250124T180000
DTEND;TZID=America/New_York:20250124T210000
DTSTAMP:20260424T012337
CREATED:20250122T040834Z
LAST-MODIFIED:20250124T145322Z
UID:10007560-1737741600-1737752400@mrvvillage.com
SUMMARY:Kids SIM Take Over
DESCRIPTION:Parents\, Enjoy a Night Out—We’ll Keep the Kids Entertained! \nCalling all kids ages 6-12! Join us for an evening of fun and games at the SHARC SIM Rooms. While you’re immersed in exciting activities supervised by our friendly Sugarbush staff\, your parents can relax and enjoy a night out. \nHere’s what’s waiting for you: \nGaming adventures and activities in the SIM Rooms\nPizza\, popcorn\, and drinks included\nDrop-off is at 6 PM\, and pick-up is at 9 PM. Let us handle the fun while your parents take a well-deserved break. \nReservations are required\, and spots are limited to the first 18 kids. Cost is $60 per child. Secure your spot today!
URL:https://mrvvillage.com/event/kids-sim-take-over/
LOCATION:Sugarbush Resort\, 102 Forest Drive Warren\, VT 05674\, Warren\, 05674
CATEGORIES:Aprés,Family Friendly,Sugarbush
ATTACH;FMTTYPE=image/jpeg:https://mrvvillage.com/wp-content/uploads/2025/01/Copy-of-Kids-SIM-Takeover-11-x-17-in-yQnspz.tmp_.jpg
GEO:44.1272818;-72.9284492
X-APPLE-STRUCTURED-LOCATION;VALUE=URI;X-ADDRESS=Sugarbush Resort 102 Forest Drive Warren VT 05674 Warren 05674;X-APPLE-RADIUS=500;X-TITLE=102 Forest Drive Warren\, VT 05674:geo:-72.9284492,44.1272818
END:VEVENT
BEGIN:VEVENT
DTSTART;TZID=America/New_York:20250125T000000
DTEND;TZID=America/New_York:20250125T235959
DTSTAMP:20260424T012337
CREATED:20250122T040836Z
LAST-MODIFIED:20250125T150820Z
UID:10007561-1737763200-1737849599@mrvvillage.com
SUMMARY:Women’s Discovery Camp
DESCRIPTION:Elevate your skills and confidence with our Women’s Discovery Camps\, a transformative 2-day experience designed to meet the unique needs of every participant \nLed by expert coaches\, these camps strike the perfect balance of skill-building\, camaraderie\, and time on the slopes\, whether you’re new to Sugarbush and looking to build confidence or a seasoned skier eager to refine your technique. \nWith a focus on progression and connection\, you’ll leave feeling more capable and inspired than ever\, ready to embrace the mountain with newfound confidence.
URL:https://mrvvillage.com/event/womens-discovery-camp/
LOCATION:Sugarbush Resort\, 102 Forest Drive Warren\, VT 05674\, Warren\, 05674
CATEGORIES:Adult Ski School,Sports & Recreation,Sugarbush
ATTACH;FMTTYPE=image/jpeg:https://mrvvillage.com/wp-content/uploads/2025/01/Time-Warp-11-x-17-in-VMevBf.tmp_.jpg
GEO:44.1272818;-72.9284492
X-APPLE-STRUCTURED-LOCATION;VALUE=URI;X-ADDRESS=Sugarbush Resort 102 Forest Drive Warren VT 05674 Warren 05674;X-APPLE-RADIUS=500;X-TITLE=102 Forest Drive Warren\, VT 05674:geo:-72.9284492,44.1272818
END:VEVENT
BEGIN:VEVENT
DTSTART;TZID=America/New_York:20250126T000000
DTEND;TZID=America/New_York:20250126T235959
DTSTAMP:20260424T012337
CREATED:20250122T040850Z
LAST-MODIFIED:20250126T152319Z
UID:10007562-1737849600-1737935999@mrvvillage.com
SUMMARY:Women’s Discovery Camp
DESCRIPTION:Elevate your skills and confidence with our Women’s Discovery Camps\, a transformative 2-day experience designed to meet the unique needs of every participant \nLed by expert coaches\, these camps strike the perfect balance of skill-building\, camaraderie\, and time on the slopes\, whether you’re new to Sugarbush and looking to build confidence or a seasoned skier eager to refine your technique. \nWith a focus on progression and connection\, you’ll leave feeling more capable and inspired than ever\, ready to embrace the mountain with newfound confidence.
URL:https://mrvvillage.com/event/womens-discovery-camp-2/
LOCATION:Sugarbush Resort\, 102 Forest Drive Warren\, VT 05674\, Warren\, 05674
CATEGORIES:Adult Ski School,Sports & Recreation,Sugarbush
ATTACH;FMTTYPE=image/jpeg:https://mrvvillage.com/wp-content/uploads/2025/01/Time-Warp-11-x-17-in-VMevBf.tmp_.jpg
GEO:44.1272818;-72.9284492
X-APPLE-STRUCTURED-LOCATION;VALUE=URI;X-ADDRESS=Sugarbush Resort 102 Forest Drive Warren VT 05674 Warren 05674;X-APPLE-RADIUS=500;X-TITLE=102 Forest Drive Warren\, VT 05674:geo:-72.9284492,44.1272818
END:VEVENT
BEGIN:VEVENT
DTSTART;TZID=America/New_York:20250127T170000
DTEND;TZID=America/New_York:20250127T190000
DTSTAMP:20260424T012337
CREATED:20250122T040851Z
LAST-MODIFIED:20250127T153823Z
UID:10007563-1737997200-1738004400@mrvvillage.com
SUMMARY:Winter Golf Clinics at the SHaRC Simulators
DESCRIPTION:Sharpen Your Swing This Winter with PGA Pro Roger King! Take your golf game to the next level—even when the snow falls! Join PGA Pro Roger King at the SIM Suites in the SHaRC for exclusive winter golf lessons. Using state-of-the-art simulators\, you’ll get personalized tips and real-time feedback to improve your swing\, accuracy\, and overall game. \n2025 Winter Golf Clinic Dates:\nJanuary: 13\, 27\nFebruary: 10\, 24\nMarch: 10\, 24\nApril: 7\, 21 \nTime:\n5 PM – 7 PM \nCost:\n$50 per session \nCall the SHaRC at 802-583-6700 for more information.
URL:https://mrvvillage.com/event/winter-golf-clinics-at-the-sharc-simulators/
LOCATION:Sugarbush Resort\, 102 Forest Drive Warren\, VT 05674\, Warren\, 05674
CATEGORIES:Sports & Recreation,Sugarbush
ATTACH;FMTTYPE=image/jpeg:https://mrvvillage.com/wp-content/uploads/2025/01/Copy-of-Kids-SIM-Takeover-11-x-17-in-2-yrFJG6.tmp_.jpg
GEO:44.1272818;-72.9284492
X-APPLE-STRUCTURED-LOCATION;VALUE=URI;X-ADDRESS=Sugarbush Resort 102 Forest Drive Warren VT 05674 Warren 05674;X-APPLE-RADIUS=500;X-TITLE=102 Forest Drive Warren\, VT 05674:geo:-72.9284492,44.1272818
END:VEVENT
BEGIN:VEVENT
DTSTART;TZID=America/New_York:20250130T150000
DTEND;TZID=America/New_York:20250130T180000
DTSTAMP:20260424T012337
CREATED:20250129T153834Z
LAST-MODIFIED:20250130T155323Z
UID:10007588-1738249200-1738260000@mrvvillage.com
SUMMARY:Thursdays at Mt. Ellen
DESCRIPTION:Hit the slopes at Mt. Ellen on Thursdays for just $49 and enjoy a full day of skiing or riding! After the thrills on the mountain\, head to the Green Mountain Lounge for live après music from 3:00–6:00 PM featuring the sounds of She Was Right.Refresh with beer specials and giveaways from Long Trail Brewing—the perfect way to wrap up your day on the slopes. Don’t miss out on the fun!Christmas Week and Presidents’ Week are excluded from $49 Thursdays.
URL:https://mrvvillage.com/event/thursdays-at-mt-ellen/
LOCATION:Green Mountain Lounge\, 626 Mt Ellen Rd
CATEGORIES:Food & Drink,Sugarbush
ATTACH;FMTTYPE=image/webp:https://mrvvillage.com/wp-content/uploads/2025/01/thursdays-at-ellen-1-Yjumnz.tmp_.webp
GEO:44.1600589;-72.9292834
X-APPLE-STRUCTURED-LOCATION;VALUE=URI;X-ADDRESS=Green Mountain Lounge 626 Mt Ellen Rd;X-APPLE-RADIUS=500;X-TITLE=626 Mt Ellen Rd:geo:-72.9292834,44.1600589
END:VEVENT
BEGIN:VEVENT
DTSTART;TZID=America/New_York:20250131T110000
DTEND;TZID=America/New_York:20250131T180000
DTSTAMP:20260424T012337
CREATED:20250129T153835Z
LAST-MODIFIED:20250131T155321Z
UID:10007589-1738321200-1738346400@mrvvillage.com
SUMMARY:Fiddlehead Friday
DESCRIPTION:Kick off the weekend with Fiddlehead Fridays at Castlerock Pub! The Fiddlehead crew will be hanging out with fun swag\, good vibes\, and plenty of cheers over delicious Fiddlehead drafts. Enjoy a special discount on Fiddlehead pours while soaking in the après scene. Grab your friends\, raise a glass\, and make Fridays even better with Fiddlehead!
URL:https://mrvvillage.com/event/fiddlehead-friday/
LOCATION:Castlerock Pub\, Lincoln Peak\, Warren\, 05674
CATEGORIES:Food & Drink,Sugarbush
ATTACH;FMTTYPE=image/jpeg:https://mrvvillage.com/wp-content/uploads/2025/01/fiddlehead-fridays-CfoYth.tmp_.jpg
GEO:44.1359019;-72.8944139
X-APPLE-STRUCTURED-LOCATION;VALUE=URI;X-ADDRESS=Castlerock Pub Lincoln Peak Warren 05674;X-APPLE-RADIUS=500;X-TITLE=Lincoln Peak:geo:-72.8944139,44.1359019
END:VEVENT
END:VCALENDAR