BEGIN:VCALENDAR
VERSION:2.0
PRODID:-//The Mad River Valley Village - ECPv6.0.13//NONSGML v1.0//EN
CALSCALE:GREGORIAN
METHOD:PUBLISH
X-WR-CALNAME:The Mad River Valley Village
X-ORIGINAL-URL:https://mrvvillage.com
X-WR-CALDESC:Events for The Mad River Valley Village
REFRESH-INTERVAL;VALUE=DURATION:PT1H
X-Robots-Tag:noindex
X-PUBLISHED-TTL:PT1H
BEGIN:VTIMEZONE
TZID:America/New_York
BEGIN:DAYLIGHT
TZOFFSETFROM:-0500
TZOFFSETTO:-0400
TZNAME:EDT
DTSTART:20250309T070000
END:DAYLIGHT
BEGIN:STANDARD
TZOFFSETFROM:-0400
TZOFFSETTO:-0500
TZNAME:EST
DTSTART:20251102T060000
END:STANDARD
END:VTIMEZONE
BEGIN:VEVENT
DTSTART;TZID=America/New_York:20250503T000000
DTEND;TZID=America/New_York:20250504T235959
DTSTAMP:20260423T184819
CREATED:20250203T062717Z
LAST-MODIFIED:20250503T220814Z
UID:10007622-1746230400-1746403199@mrvvillage.com
SUMMARY:Last Weekend Luau
DESCRIPTION:Join us for our Last Weekend Luau in the courtyard. Break out your best aloha shirt and come celebrate closing weekend with us!
URL:https://mrvvillage.com/event/last-weekend-luau/
LOCATION:Courtyard\, Lincoln Peak
CATEGORIES:Sugarbush
ATTACH;FMTTYPE=image/jpeg:https://mrvvillage.com/wp-content/uploads/2025/02/luau-1-c3C7zg.tmp_.jpg
GEO:44.1272818;-72.9284492
X-APPLE-STRUCTURED-LOCATION;VALUE=URI;X-ADDRESS=Courtyard Lincoln Peak;X-APPLE-RADIUS=500;X-TITLE=Lincoln Peak:geo:-72.9284492,44.1272818
END:VEVENT
BEGIN:VEVENT
DTSTART;TZID=America/New_York:20250531T120000
DTEND;TZID=America/New_York:20250531T180000
DTSTAMP:20260423T184819
CREATED:20250429T173938Z
LAST-MODIFIED:20250531T205317Z
UID:10008035-1748692800-1748714400@mrvvillage.com
SUMMARY:Pig Jig ’25
DESCRIPTION:Join us for the 2nd Annual Pig Jig at Mt. Ellen on Saturday 5/31 from 12-6PM. We’re throwing down a full-on backyard bash with a classic pig roast\, ice-cold drinks\, lawn games\, and plenty of live honky tonk tunes to keep you dancing all afternoon. Whether you’re two-steppin’ or just here for the BBQ\, it’s gonna be one smoky\, saucy good time. Bring your crew\, bring your appetite\, and let’s get jiggy with it. \nLIVE MUSIC FEATURING: \nHobo (featuring members of Cabinet\, Brian Gorby and Pappy Biondo\, with EG Bishop)\nRed River North\nWild Leek River
URL:https://mrvvillage.com/event/pig-jig-25/
LOCATION:Mt Ellen\, Mt Ellen
CATEGORIES:Food & Drink,Live Music,Sugarbush
ATTACH;FMTTYPE=image/jpeg:https://mrvvillage.com/wp-content/uploads/2025/04/pig-jig-flyer-FURn8i.jpg
GEO:44.1600589;-72.9292834
X-APPLE-STRUCTURED-LOCATION;VALUE=URI;X-ADDRESS=Mt Ellen Mt Ellen;X-APPLE-RADIUS=500;X-TITLE=Mt Ellen:geo:-72.9292834,44.1600589
END:VEVENT
END:VCALENDAR