BEGIN:VCALENDAR
VERSION:2.0
PRODID:-//The Mad River Valley Village - ECPv6.0.13//NONSGML v1.0//EN
CALSCALE:GREGORIAN
METHOD:PUBLISH
X-WR-CALNAME:The Mad River Valley Village
X-ORIGINAL-URL:https://mrvvillage.com
X-WR-CALDESC:Events for The Mad River Valley Village
REFRESH-INTERVAL;VALUE=DURATION:PT1H
X-Robots-Tag:noindex
X-PUBLISHED-TTL:PT1H
BEGIN:VTIMEZONE
TZID:America/New_York
BEGIN:DAYLIGHT
TZOFFSETFROM:-0500
TZOFFSETTO:-0400
TZNAME:EDT
DTSTART:20250309T070000
END:DAYLIGHT
BEGIN:STANDARD
TZOFFSETFROM:-0400
TZOFFSETTO:-0500
TZNAME:EST
DTSTART:20251102T060000
END:STANDARD
END:VTIMEZONE
BEGIN:VEVENT
DTSTART;TZID=America/New_York:20250606T000000
DTEND;TZID=America/New_York:20250606T235959
DTSTAMP:20260423T170927
CREATED:20250603T213820Z
LAST-MODIFIED:20250606T222324Z
UID:10008229-1749168000-1749254399@mrvvillage.com
SUMMARY:Live Music at Hogan’s Pub
DESCRIPTION:Tunes\, taps\, and twilight views.  Live music every Friday night from 5–8 PM at Hogan’s Pub. Swing by\, stay awhile\, and let the weekend begin.
URL:https://mrvvillage.com/event/live-music-at-hogans-pub/
LOCATION:Hogan’s Pub\, 1091 Golf Course Road\, Warren VT 05674\, Warren\, 05674
CATEGORIES:Food & Drink,Sugarbush
ATTACH;FMTTYPE=image/jpeg:https://mrvvillage.com/wp-content/uploads/2025/06/hogans-generic-ndpD4Y.jpg
GEO:44.1321975;-72.8739002
X-APPLE-STRUCTURED-LOCATION;VALUE=URI;X-ADDRESS=Hogan’s Pub 1091 Golf Course Road Warren VT 05674 Warren 05674;X-APPLE-RADIUS=500;X-TITLE=1091 Golf Course Road\, Warren VT 05674:geo:-72.8739002,44.1321975
END:VEVENT
BEGIN:VEVENT
DTSTART;TZID=America/New_York:20250610T173000
DTEND;TZID=America/New_York:20250610T203000
DTSTAMP:20260423T170927
CREATED:20250603T213850Z
LAST-MODIFIED:20250610T232337Z
UID:10008230-1749576600-1749587400@mrvvillage.com
SUMMARY:Tuesdays on the Big Deck
DESCRIPTION:Kick back like a local with Tuesday evenings on the Big Deck at Mt. Ellen. Enjoy live music\, tasty food specials\, and unbeatable sunset views. The perfect way to soak up those easy summer vibes.
URL:https://mrvvillage.com/event/tuesdays-on-the-big-deck-2/
LOCATION:The Big Deck\, Mt Ellen
CATEGORIES:Food & Drink,Sugarbush
ATTACH;FMTTYPE=image/jpeg:https://mrvvillage.com/wp-content/uploads/2025/06/big-deck-generic-ZPpir5.jpg
GEO:44.1600589;-72.9292834
X-APPLE-STRUCTURED-LOCATION;VALUE=URI;X-ADDRESS=The Big Deck Mt Ellen;X-APPLE-RADIUS=500;X-TITLE=Mt Ellen:geo:-72.9292834,44.1600589
END:VEVENT
BEGIN:VEVENT
DTSTART;TZID=America/New_York:20250613T000000
DTEND;TZID=America/New_York:20250613T235959
DTSTAMP:20260423T170927
CREATED:20250603T213909Z
LAST-MODIFIED:20250613T040819Z
UID:10008232-1749772800-1749859199@mrvvillage.com
SUMMARY:Disc Golf Intro Clinic
DESCRIPTION:
URL:https://mrvvillage.com/event/disc-golf-intro-clinic/
LOCATION:Lincoln Peak\, 102 Forest Drive\, Warren\, VT 05674\, USA
CATEGORIES:Sugarbush
ATTACH;FMTTYPE=image/jpeg:https://mrvvillage.com/wp-content/uploads/2025/06/disc-golf-intro-clinics-wvMzD5.jpg
GEO:44.1359019;-72.8944139
X-APPLE-STRUCTURED-LOCATION;VALUE=URI;X-ADDRESS=Lincoln Peak 102 Forest Drive Warren VT 05674 USA;X-APPLE-RADIUS=500;X-TITLE=102 Forest Drive\, Warren\, VT 05674\, USA:geo:-72.8944139,44.1359019
END:VEVENT
BEGIN:VEVENT
DTSTART;TZID=America/New_York:20250613T000000
DTEND;TZID=America/New_York:20250613T235959
DTSTAMP:20260423T170927
CREATED:20250603T213910Z
LAST-MODIFIED:20250613T040819Z
UID:10008233-1749772800-1749859199@mrvvillage.com
SUMMARY:Live Music at Hogan’s Pub
DESCRIPTION:Tunes\, taps\, and twilight views.Live music every Friday night from 5–8 PM at Hogan’s Pub. Swing by\, stay awhile\, and let the weekend begin.
URL:https://mrvvillage.com/event/live-music-at-hogans-pub-2/
LOCATION:Hogan’s Pub\, 1091 Golf Course Road\, Warren VT 05674\, Warren\, 05674
CATEGORIES:Food & Drink,Sugarbush
ATTACH;FMTTYPE=image/jpeg:https://mrvvillage.com/wp-content/uploads/2025/06/hogans-generic-ndpD4Y.jpg
GEO:44.1321975;-72.8739002
X-APPLE-STRUCTURED-LOCATION;VALUE=URI;X-ADDRESS=Hogan’s Pub 1091 Golf Course Road Warren VT 05674 Warren 05674;X-APPLE-RADIUS=500;X-TITLE=1091 Golf Course Road\, Warren VT 05674:geo:-72.8739002,44.1321975
END:VEVENT
BEGIN:VEVENT
DTSTART;TZID=America/New_York:20250617T000000
DTEND;TZID=America/New_York:20250617T235959
DTSTAMP:20260423T170927
CREATED:20250603T213938Z
LAST-MODIFIED:20250617T125321Z
UID:10008234-1750118400-1750204799@mrvvillage.com
SUMMARY:Vermont State Women’s Golf Association State Day
DESCRIPTION:Sugarbush Golf Club is proud to host a VSWGA State Day on June 17\, 2025. Join fellow women golfers for a fun day of 18-hole stroke play as part of the VSWGA’s statewide series of friendly competition and camaraderie.LEARN MORE & REGISTER
URL:https://mrvvillage.com/event/vermont-state-womens-golf-association-state-day/
LOCATION:Golf Club\, 1091 Golf Course Road\, Warren VT 05674
CATEGORIES:Sugarbush
ATTACH;FMTTYPE=image/jpeg:https://mrvvillage.com/wp-content/uploads/2025/06/vt-ladies-golf-QAVxYu.jpg
GEO:44.1361621;-72.9078617
X-APPLE-STRUCTURED-LOCATION;VALUE=URI;X-ADDRESS=Golf Club 1091 Golf Course Road Warren VT 05674;X-APPLE-RADIUS=500;X-TITLE=1091 Golf Course Road\, Warren VT 05674:geo:-72.9078617,44.1361621
END:VEVENT
BEGIN:VEVENT
DTSTART;TZID=America/New_York:20250617T173000
DTEND;TZID=America/New_York:20250617T203000
DTSTAMP:20260423T170927
CREATED:20250603T213939Z
LAST-MODIFIED:20250617T125321Z
UID:10008235-1750181400-1750192200@mrvvillage.com
SUMMARY:Tuesdays on the Big Deck
DESCRIPTION:Kick back like a local with Tuesday evenings on the Big Deck at Mt. Ellen. Enjoy live music\, tasty food specials\, and unbeatable sunset views. The perfect way to soak up those easy summer vibes.
URL:https://mrvvillage.com/event/tuesdays-on-the-big-deck-3/
LOCATION:The Big Deck\, Mt Ellen
CATEGORIES:Food & Drink,Sugarbush
ATTACH;FMTTYPE=image/jpeg:https://mrvvillage.com/wp-content/uploads/2025/06/big-deck-generic-ZPpir5.jpg
GEO:44.1600589;-72.9292834
X-APPLE-STRUCTURED-LOCATION;VALUE=URI;X-ADDRESS=The Big Deck Mt Ellen;X-APPLE-RADIUS=500;X-TITLE=Mt Ellen:geo:-72.9292834,44.1600589
END:VEVENT
BEGIN:VEVENT
DTSTART;TZID=America/New_York:20250618T000000
DTEND;TZID=America/New_York:20250618T235959
DTSTAMP:20260423T170927
CREATED:20250603T213939Z
LAST-MODIFIED:20250618T130821Z
UID:10008236-1750204800-1750291199@mrvvillage.com
SUMMARY:Valley League Night Opener
DESCRIPTION:Kick off the 2025 Valley League Night season on Wednesday\, June 18\, with a 5 PM shotgun start! Grab your partner for a fun 2-player scramble\, weekly prizes\, dinner specials\, and a season full of great golf and good vibes.LEARN MORE
URL:https://mrvvillage.com/event/valley-league-night-opener/
LOCATION:Golf Club\, 1091 Golf Course Road\, Warren VT 05674
CATEGORIES:Sugarbush
ATTACH;FMTTYPE=image/jpeg:https://mrvvillage.com/wp-content/uploads/2025/06/valley-league-opener-aXNSoO.jpg
GEO:44.1361621;-72.9078617
X-APPLE-STRUCTURED-LOCATION;VALUE=URI;X-ADDRESS=Golf Club 1091 Golf Course Road Warren VT 05674;X-APPLE-RADIUS=500;X-TITLE=1091 Golf Course Road\, Warren VT 05674:geo:-72.9078617,44.1361621
END:VEVENT
BEGIN:VEVENT
DTSTART;TZID=America/New_York:20250620T000000
DTEND;TZID=America/New_York:20250620T235959
DTSTAMP:20260423T170927
CREATED:20250603T213940Z
LAST-MODIFIED:20250620T133821Z
UID:10008237-1750377600-1750463999@mrvvillage.com
SUMMARY:Sugarbush Summer Solstice Disc Golf Tournament
DESCRIPTION:Save the date for the Sugarbush Summer Solstice Disc Golf Tournament.$15 entry fee\, registration coming soon.
URL:https://mrvvillage.com/event/sugarbush-summer-solstice-disc-golf-tournament/
LOCATION:Lincoln Peak\, 102 Forest Drive\, Warren\, VT 05674\, USA
CATEGORIES:Sugarbush
ATTACH;FMTTYPE=image/jpeg:https://mrvvillage.com/wp-content/uploads/2025/06/disc-golf-solstice-summer-tournament-ZIXahd.jpg
GEO:44.1359019;-72.8944139
X-APPLE-STRUCTURED-LOCATION;VALUE=URI;X-ADDRESS=Lincoln Peak 102 Forest Drive Warren VT 05674 USA;X-APPLE-RADIUS=500;X-TITLE=102 Forest Drive\, Warren\, VT 05674\, USA:geo:-72.8944139,44.1359019
END:VEVENT
BEGIN:VEVENT
DTSTART;TZID=America/New_York:20250620T000000
DTEND;TZID=America/New_York:20250620T235959
DTSTAMP:20260423T170927
CREATED:20250603T213954Z
LAST-MODIFIED:20250620T133821Z
UID:10008238-1750377600-1750463999@mrvvillage.com
SUMMARY:Live Music at Hogan’s Pub
DESCRIPTION:Tunes\, taps\, and twilight views.Live music every Friday night from 5–8 PM at Hogan’s Pub. Swing by\, stay awhile\, and let the weekend begin.
URL:https://mrvvillage.com/event/live-music-at-hogans-pub-3/
LOCATION:Hogan’s Pub\, 1091 Golf Course Road\, Warren VT 05674\, Warren\, 05674
CATEGORIES:Food & Drink,Sugarbush
ATTACH;FMTTYPE=image/jpeg:https://mrvvillage.com/wp-content/uploads/2025/06/hogans-generic-ndpD4Y.jpg
GEO:44.1321975;-72.8739002
X-APPLE-STRUCTURED-LOCATION;VALUE=URI;X-ADDRESS=Hogan’s Pub 1091 Golf Course Road Warren VT 05674 Warren 05674;X-APPLE-RADIUS=500;X-TITLE=1091 Golf Course Road\, Warren VT 05674:geo:-72.8739002,44.1321975
END:VEVENT
BEGIN:VEVENT
DTSTART;TZID=America/New_York:20250624T173000
DTEND;TZID=America/New_York:20250624T203000
DTSTAMP:20260423T170927
CREATED:20250603T214009Z
LAST-MODIFIED:20250624T143826Z
UID:10008239-1750786200-1750797000@mrvvillage.com
SUMMARY:Tuesdays on the Big Deck
DESCRIPTION:Kick back like a local with Tuesday evenings on the Big Deck at Mt. Ellen. Enjoy live music\, tasty food specials\, and unbeatable sunset views. The perfect way to soak up those easy summer vibes.
URL:https://mrvvillage.com/event/tuesdays-on-the-big-deck-4/
LOCATION:The Big Deck\, Mt Ellen
CATEGORIES:Food & Drink,Sugarbush
ATTACH;FMTTYPE=image/jpeg:https://mrvvillage.com/wp-content/uploads/2025/06/big-deck-generic-ZPpir5.jpg
GEO:44.1600589;-72.9292834
X-APPLE-STRUCTURED-LOCATION;VALUE=URI;X-ADDRESS=The Big Deck Mt Ellen;X-APPLE-RADIUS=500;X-TITLE=Mt Ellen:geo:-72.9292834,44.1600589
END:VEVENT
BEGIN:VEVENT
DTSTART;TZID=America/New_York:20250624T173000
DTEND;TZID=America/New_York:20250624T203000
DTSTAMP:20260423T170927
CREATED:20250624T143826Z
LAST-MODIFIED:20250624T143826Z
UID:10008444-1750786200-1750797000@mrvvillage.com
SUMMARY:Tuesdays on the Big Deck
DESCRIPTION:Kick back like a local with Tuesday evenings\, rain or shine\, on the Big Deck at Mt. Ellen. Enjoy live music\, tasty food specials\, and unbeatable sunset views. The perfect way to soak up those easy summer vibes.
URL:https://mrvvillage.com/event/tuesdays-on-the-big-deck-6/
LOCATION:The Big Deck\, Mt Ellen
CATEGORIES:Food & Drink,Sugarbush
ATTACH;FMTTYPE=image/jpeg:https://mrvvillage.com/wp-content/uploads/2025/06/big-deck-generic-ZPpir5.jpg
GEO:44.1600589;-72.9292834
X-APPLE-STRUCTURED-LOCATION;VALUE=URI;X-ADDRESS=The Big Deck Mt Ellen;X-APPLE-RADIUS=500;X-TITLE=Mt Ellen:geo:-72.9292834,44.1600589
END:VEVENT
BEGIN:VEVENT
DTSTART;TZID=America/New_York:20250625T140000
DTEND;TZID=America/New_York:20250625T170000
DTSTAMP:20260423T170927
CREATED:20250624T143827Z
LAST-MODIFIED:20250625T145328Z
UID:10008445-1750860000-1750870800@mrvvillage.com
SUMMARY:PING Golf Demo Day
DESCRIPTION:Join us on Wednesday 6/25\, at the Sugarbush Golf Club for a FREE demo session hosted by PGA Pro Roger King. Test out the latest gear from PING\, get expert tips\, and take your swing for a spin on the range. Whether you’re dialing in your game or just starting out\, it’s your chance to see\, swing\, and upgrade before the season tees off.
URL:https://mrvvillage.com/event/ping-golf-demo-day/
LOCATION:Driving Range\, Sugarbush Golf Club
CATEGORIES:Sugarbush
ATTACH;FMTTYPE=image/jpeg:https://mrvvillage.com/wp-content/uploads/2025/06/ping_golf_demo-NwMvZe.jpg
GEO:43.0422362;-83.4633131
X-APPLE-STRUCTURED-LOCATION;VALUE=URI;X-ADDRESS=Driving Range Sugarbush Golf Club;X-APPLE-RADIUS=500;X-TITLE=Sugarbush Golf Club:geo:-83.4633131,43.0422362
END:VEVENT
BEGIN:VEVENT
DTSTART;TZID=America/New_York:20250626T000000
DTEND;TZID=America/New_York:20250626T235959
DTSTAMP:20260423T170927
CREATED:20250624T143841Z
LAST-MODIFIED:20250626T150824Z
UID:10008446-1750896000-1750982399@mrvvillage.com
SUMMARY:$65 Thursdays at the Golf Club
DESCRIPTION:Hit the course for $65 rounds\, then sink your teeth into ½ priced burgers at Hogan’s Pub from 4-8PM. Golf\, grub\, and good times all in one swing.
URL:https://mrvvillage.com/event/65-thursdays-at-the-golf-club/
LOCATION:Golf Club\, 1091 Golf Course Road\, Warren VT 05674
CATEGORIES:Food & Drink,Sugarbush
ATTACH;FMTTYPE=image/jpeg:https://mrvvillage.com/wp-content/uploads/2025/06/69-thursdays-sGcobu.jpg
GEO:44.1361621;-72.9078617
X-APPLE-STRUCTURED-LOCATION;VALUE=URI;X-ADDRESS=Golf Club 1091 Golf Course Road Warren VT 05674;X-APPLE-RADIUS=500;X-TITLE=1091 Golf Course Road\, Warren VT 05674:geo:-72.9078617,44.1361621
END:VEVENT
BEGIN:VEVENT
DTSTART;TZID=America/New_York:20250627T000000
DTEND;TZID=America/New_York:20250627T235959
DTSTAMP:20260423T170927
CREATED:20250603T214023Z
LAST-MODIFIED:20250627T152325Z
UID:10008240-1750982400-1751068799@mrvvillage.com
SUMMARY:Live Music at Hogan’s Pub
DESCRIPTION:Tunes\, taps\, and twilight views.Live music every Friday night from 5–8 PM at Hogan’s Pub. Swing by\, stay awhile\, and let the weekend begin.
URL:https://mrvvillage.com/event/live-music-at-hogans-pub-4/
LOCATION:Hogan’s Pub\, 1091 Golf Course Road\, Warren VT 05674\, Warren\, 05674
CATEGORIES:Food & Drink,Sugarbush
ATTACH;FMTTYPE=image/jpeg:https://mrvvillage.com/wp-content/uploads/2025/06/hogans-generic-ndpD4Y.jpg
GEO:44.1321975;-72.8739002
X-APPLE-STRUCTURED-LOCATION;VALUE=URI;X-ADDRESS=Hogan’s Pub 1091 Golf Course Road Warren VT 05674 Warren 05674;X-APPLE-RADIUS=500;X-TITLE=1091 Golf Course Road\, Warren VT 05674:geo:-72.8739002,44.1321975
END:VEVENT
BEGIN:VEVENT
DTSTART;TZID=America/New_York:20250628T000000
DTEND;TZID=America/New_York:20250628T235959
DTSTAMP:20260423T170927
CREATED:20250603T214023Z
LAST-MODIFIED:20250628T153822Z
UID:10008241-1751068800-1751155199@mrvvillage.com
SUMMARY:Member Member Golf Tournament
DESCRIPTION:Team up for our Member/Member Tournament on Sunday\, June 28! Open to all golf members\, this one-best-ball-of-two event includes a tee gift and plenty of friendly competition. Enter as many teams as you’d like.REGISTRATION COMING SOON.
URL:https://mrvvillage.com/event/member-member-golf-tournament/
LOCATION:Golf Club\, 1091 Golf Course Road\, Warren VT 05674
CATEGORIES:Sugarbush
ATTACH;FMTTYPE=image/jpeg:https://mrvvillage.com/wp-content/uploads/2025/06/member-member-fWWt6W.jpg
GEO:44.1361621;-72.9078617
X-APPLE-STRUCTURED-LOCATION;VALUE=URI;X-ADDRESS=Golf Club 1091 Golf Course Road Warren VT 05674;X-APPLE-RADIUS=500;X-TITLE=1091 Golf Course Road\, Warren VT 05674:geo:-72.9078617,44.1361621
END:VEVENT
BEGIN:VEVENT
DTSTART;TZID=America/New_York:20250628T000000
DTEND;TZID=America/New_York:20250628T235959
DTSTAMP:20260423T170927
CREATED:20250624T143909Z
LAST-MODIFIED:20250628T153823Z
UID:10008447-1751068800-1751155199@mrvvillage.com
SUMMARY:Member Member Golf Tournament
DESCRIPTION:Team up for our Member/Member Tournament on Saturday 6/28! Open to all golf members\, this one-best-ball-of-two event includes a tee gift and plenty of friendly competition. Enter as many teams as you’d like.Please register by contacting        golfclub@sugarbush.com     or call 802-583-6725.
URL:https://mrvvillage.com/event/member-member-golf-tournament-2/
LOCATION:Golf Club\, 1091 Golf Course Road\, Warren VT 05674
CATEGORIES:Sugarbush
ATTACH;FMTTYPE=image/jpeg:https://mrvvillage.com/wp-content/uploads/2025/06/member-member-1-UVZvuF.jpg
GEO:44.1361621;-72.9078617
X-APPLE-STRUCTURED-LOCATION;VALUE=URI;X-ADDRESS=Golf Club 1091 Golf Course Road Warren VT 05674;X-APPLE-RADIUS=500;X-TITLE=1091 Golf Course Road\, Warren VT 05674:geo:-72.9078617,44.1361621
END:VEVENT
END:VCALENDAR