BEGIN:VCALENDAR
VERSION:2.0
PRODID:-//The Mad River Valley Village - ECPv6.0.13//NONSGML v1.0//EN
CALSCALE:GREGORIAN
METHOD:PUBLISH
X-ORIGINAL-URL:https://mrvvillage.com
X-WR-CALDESC:Events for The Mad River Valley Village
REFRESH-INTERVAL;VALUE=DURATION:PT1H
X-Robots-Tag:noindex
X-PUBLISHED-TTL:PT1H
BEGIN:VTIMEZONE
TZID:America/New_York
BEGIN:DAYLIGHT
TZOFFSETFROM:-0500
TZOFFSETTO:-0400
TZNAME:EDT
DTSTART:20250309T070000
END:DAYLIGHT
BEGIN:STANDARD
TZOFFSETFROM:-0400
TZOFFSETTO:-0500
TZNAME:EST
DTSTART:20251102T060000
END:STANDARD
END:VTIMEZONE
BEGIN:VEVENT
DTSTART;TZID=America/New_York:20250131T110000
DTEND;TZID=America/New_York:20250131T180000
DTSTAMP:20260424T084913
CREATED:20250129T153835Z
LAST-MODIFIED:20250131T155321Z
UID:10007589-1738321200-1738346400@mrvvillage.com
SUMMARY:Fiddlehead Friday
DESCRIPTION:Kick off the weekend with Fiddlehead Fridays at Castlerock Pub! The Fiddlehead crew will be hanging out with fun swag\, good vibes\, and plenty of cheers over delicious Fiddlehead drafts. Enjoy a special discount on Fiddlehead pours while soaking in the après scene. Grab your friends\, raise a glass\, and make Fridays even better with Fiddlehead!
URL:https://mrvvillage.com/event/fiddlehead-friday/
LOCATION:Castlerock Pub\, Lincoln Peak\, Warren\, 05674
CATEGORIES:Food & Drink,Sugarbush
ATTACH;FMTTYPE=image/jpeg:https://mrvvillage.com/wp-content/uploads/2025/01/fiddlehead-fridays-CfoYth.tmp_.jpg
GEO:44.1359019;-72.8944139
X-APPLE-STRUCTURED-LOCATION;VALUE=URI;X-ADDRESS=Castlerock Pub Lincoln Peak Warren 05674;X-APPLE-RADIUS=500;X-TITLE=Lincoln Peak:geo:-72.8944139,44.1359019
END:VEVENT
END:VCALENDAR