BEGIN:VCALENDAR
VERSION:2.0
PRODID:-//The Mad River Valley Village - ECPv6.0.13//NONSGML v1.0//EN
CALSCALE:GREGORIAN
METHOD:PUBLISH
X-ORIGINAL-URL:https://mrvvillage.com
X-WR-CALDESC:Events for The Mad River Valley Village
REFRESH-INTERVAL;VALUE=DURATION:PT1H
X-Robots-Tag:noindex
X-PUBLISHED-TTL:PT1H
BEGIN:VTIMEZONE
TZID:America/New_York
BEGIN:DAYLIGHT
TZOFFSETFROM:-0500
TZOFFSETTO:-0400
TZNAME:EDT
DTSTART:20250309T070000
END:DAYLIGHT
BEGIN:STANDARD
TZOFFSETFROM:-0400
TZOFFSETTO:-0500
TZNAME:EST
DTSTART:20251102T060000
END:STANDARD
END:VTIMEZONE
BEGIN:VEVENT
DTSTART;TZID=America/New_York:20250202T073000
DTEND;TZID=America/New_York:20250202T080000
DTSTAMP:20260424T030142
CREATED:20241104T032430Z
LAST-MODIFIED:20250202T162319Z
UID:10007187-1738481400-1738483200@mrvvillage.com
SUMMARY:Ikon Pass First Tracks
DESCRIPTION:Ikon Pass holders can unlock untouched powder and crispy corduroy with free Ikon Pass First Tracks. Grab early morning laps before the lifts open to the public. Your Ikon Pass will allow you to get on Super Bravo a half hour early on Sunday February 2nd.Learn MoreWant early ups every weekend and holiday?Add-On Early Ups
URL:https://mrvvillage.com/event/ikon-pass-first-tracks-3/
LOCATION:Super Bravo Lift\, Lincoln Peak
CATEGORIES:Sugarbush
ATTACH;FMTTYPE=image/jpeg:https://mrvvillage.com/wp-content/uploads/2024/10/first-tracks-unDqEM.tmp_.jpg
GEO:44.1272818;-72.9284492
X-APPLE-STRUCTURED-LOCATION;VALUE=URI;X-ADDRESS=Super Bravo Lift Lincoln Peak;X-APPLE-RADIUS=500;X-TITLE=Lincoln Peak:geo:-72.9284492,44.1272818
END:VEVENT
END:VCALENDAR