BEGIN:VCALENDAR
VERSION:2.0
PRODID:-//The Mad River Valley Village - ECPv6.0.13//NONSGML v1.0//EN
CALSCALE:GREGORIAN
METHOD:PUBLISH
X-ORIGINAL-URL:https://mrvvillage.com
X-WR-CALDESC:Events for The Mad River Valley Village
REFRESH-INTERVAL;VALUE=DURATION:PT1H
X-Robots-Tag:noindex
X-PUBLISHED-TTL:PT1H
BEGIN:VTIMEZONE
TZID:America/New_York
BEGIN:DAYLIGHT
TZOFFSETFROM:-0500
TZOFFSETTO:-0400
TZNAME:EDT
DTSTART:20250309T070000
END:DAYLIGHT
BEGIN:STANDARD
TZOFFSETFROM:-0400
TZOFFSETTO:-0500
TZNAME:EST
DTSTART:20251102T060000
END:STANDARD
END:VTIMEZONE
BEGIN:VEVENT
DTSTART;TZID=America/New_York:20250214T000000
DTEND;TZID=America/New_York:20250223T235959
DTSTAMP:20260424T030126
CREATED:20241209T182517Z
LAST-MODIFIED:20250214T185317Z
UID:10007257-1739491200-1740355199@mrvvillage.com
SUMMARY:President’s Week 2025
DESCRIPTION:Join us for President’s Week 2025More information coming soon.
URL:https://mrvvillage.com/event/presidents-week-2025/
LOCATION:Sugarbush Resort\, 102 Forest Drive Warren\, VT 05674\, Warren\, 05674
CATEGORIES:Food & Drink,Sugarbush
ATTACH;FMTTYPE=image/jpeg:https://mrvvillage.com/wp-content/uploads/2024/12/presidents-week-2CXI7V.tmp_.jpg
GEO:44.1272818;-72.9284492
X-APPLE-STRUCTURED-LOCATION;VALUE=URI;X-ADDRESS=Sugarbush Resort 102 Forest Drive Warren VT 05674 Warren 05674;X-APPLE-RADIUS=500;X-TITLE=102 Forest Drive Warren\, VT 05674:geo:-72.9284492,44.1272818
END:VEVENT
BEGIN:VEVENT
DTSTART;TZID=America/New_York:20250222T140000
DTEND;TZID=America/New_York:20250222T180000
DTSTAMP:20260424T030126
CREATED:20250129T154120Z
LAST-MODIFIED:20250222T202313Z
UID:10007611-1740232800-1740247200@mrvvillage.com
SUMMARY:Live Après Music
DESCRIPTION:Saturday Après Lineup | February 22Rumble’s Bistro & Bar | 3–6 PMEnjoy the soulful sounds of Matt Dolliver Solo\, setting a warm and intimate vibe for your après.Wunderbar | 2–5 PMKick back with Kipncoe\, delivering an upbeat and lively performance to keep your Saturday afternoon energized.Green Mountain Lounge | 3–6 PMGet ready for a wild time with Straight Jacket Slumber Party\, bringing their signature energy and eclectic style to the stage.Castlerock Pub | 3–6 PMDon’t miss Abbey Jenne Band as they light up the Pub with an unforgettable mix of tunes to end your day on a high note. Plus\, enjoy beer specials from Zero Gravity.
URL:https://mrvvillage.com/event/live-apres-music-24/
LOCATION:Multiple Locations\, Sugarbush Resort
CATEGORIES:Food & Drink,Sugarbush
ATTACH;FMTTYPE=image/jpeg:https://mrvvillage.com/wp-content/uploads/2025/01/apre-live-music-1-AGaD6I.tmp_.jpg
GEO:44.1361621;-72.9078617
X-APPLE-STRUCTURED-LOCATION;VALUE=URI;X-ADDRESS=Multiple Locations Sugarbush Resort;X-APPLE-RADIUS=500;X-TITLE=Sugarbush Resort:geo:-72.9078617,44.1361621
END:VEVENT
BEGIN:VEVENT
DTSTART;TZID=America/New_York:20250222T160000
DTEND;TZID=America/New_York:20250222T193000
DTSTAMP:20260424T030126
CREATED:20250129T154121Z
LAST-MODIFIED:20250222T202313Z
UID:10007612-1740240000-1740252600@mrvvillage.com
SUMMARY:Walt’s After Dark
DESCRIPTION:Grab your headlamp and join us Saturday nights (weather and terrain permitting) this winter for a special après at Walt’s at the Glen House. Catch last chair or tour/skin up the Mt Ellen Uphill Route for dinner and drink at the historic Glen House. With it being “Walt’s After Dark” and all\, participants should be comfortable skiing or riding down (it’s the only way down) via headlamp under any conditions.Last call is at 7:30pm!Know before you go! Please check our trail report before starting your tour. And remember\, Uphill Travellers must have their FREE uphill travel pass prior to traveling uphill.
URL:https://mrvvillage.com/event/walts-after-dark-4/
LOCATION:Walt’s Glen House\, Mt Ellen
CATEGORIES:Sugarbush
ATTACH;FMTTYPE=image/jpeg:https://mrvvillage.com/wp-content/uploads/2025/01/walts-after-dark-1-JOi5Yk.tmp_.jpg
GEO:44.1600589;-72.9292834
X-APPLE-STRUCTURED-LOCATION;VALUE=URI;X-ADDRESS=Walt’s Glen House Mt Ellen;X-APPLE-RADIUS=500;X-TITLE=Mt Ellen:geo:-72.9292834,44.1600589
END:VEVENT
BEGIN:VEVENT
DTSTART;TZID=America/New_York:20250222T190000
DTEND;TZID=America/New_York:20250222T220000
DTSTAMP:20260424T030126
CREATED:20250129T154121Z
LAST-MODIFIED:20250222T202314Z
UID:10007613-1740250800-1740261600@mrvvillage.com
SUMMARY:Late Night Music
DESCRIPTION:Join us for some late-night music in Gate House Lodge.More information coming soon.
URL:https://mrvvillage.com/event/late-night-music-2/
LOCATION:Gate House Lodge\, Lincoln Peak
CATEGORIES:Sugarbush
ATTACH;FMTTYPE=image/webp:https://mrvvillage.com/wp-content/uploads/2025/01/late-night-music-gh-1-2PPQcR.tmp_.webp
GEO:44.1272818;-72.9284492
X-APPLE-STRUCTURED-LOCATION;VALUE=URI;X-ADDRESS=Gate House Lodge Lincoln Peak;X-APPLE-RADIUS=500;X-TITLE=Lincoln Peak:geo:-72.9284492,44.1272818
END:VEVENT
END:VCALENDAR