BEGIN:VCALENDAR
VERSION:2.0
PRODID:-//The Mad River Valley Village - ECPv6.0.13//NONSGML v1.0//EN
CALSCALE:GREGORIAN
METHOD:PUBLISH
X-WR-CALNAME:The Mad River Valley Village
X-ORIGINAL-URL:https://mrvvillage.com
X-WR-CALDESC:Events for The Mad River Valley Village
REFRESH-INTERVAL;VALUE=DURATION:PT1H
X-Robots-Tag:noindex
X-PUBLISHED-TTL:PT1H
BEGIN:VTIMEZONE
TZID:America/New_York
BEGIN:DAYLIGHT
TZOFFSETFROM:-0500
TZOFFSETTO:-0400
TZNAME:EDT
DTSTART:20250309T070000
END:DAYLIGHT
BEGIN:STANDARD
TZOFFSETFROM:-0400
TZOFFSETTO:-0500
TZNAME:EST
DTSTART:20251102T060000
END:STANDARD
END:VTIMEZONE
BEGIN:VEVENT
DTSTART;TZID=America/New_York:20250314T000000
DTEND;TZID=America/New_York:20250316T235959
DTSTAMP:20260423T234212
CREATED:20241216T184030Z
LAST-MODIFIED:20250314T223818Z
UID:10007316-1741910400-1742169599@mrvvillage.com
SUMMARY:Super Sessions By Lawsons Finest Liquids
DESCRIPTION:Lawson’s Finest Liquids are taking over Mt. Ellen! More information coming soon.
URL:https://mrvvillage.com/event/super-sessions-by-lawsons-finest-liquids/
LOCATION:Sugarbush Resort\, 102 Forest Drive Warren\, VT 05674\, Warren\, 05674
CATEGORIES:Sugarbush
ATTACH;FMTTYPE=image/jpeg:https://mrvvillage.com/wp-content/uploads/2024/12/super-sessions-1-a655gi.tmp_.jpg
GEO:44.1272818;-72.9284492
X-APPLE-STRUCTURED-LOCATION;VALUE=URI;X-ADDRESS=Sugarbush Resort 102 Forest Drive Warren VT 05674 Warren 05674;X-APPLE-RADIUS=500;X-TITLE=102 Forest Drive Warren\, VT 05674:geo:-72.9284492,44.1272818
END:VEVENT
BEGIN:VEVENT
DTSTART;TZID=America/New_York:20250314T180000
DTEND;TZID=America/New_York:20250314T210000
DTSTAMP:20260423T234212
CREATED:20250122T041244Z
LAST-MODIFIED:20250225T100918Z
UID:10007569-1741975200-1741986000@mrvvillage.com
SUMMARY:Kids SIM Take Over
DESCRIPTION:Parents\, Enjoy a Night Out—We’ll Keep the Kids Entertained! \nCalling all kids ages 6-12! Join us for an evening of fun and games at the SHARC SIM Rooms. While you’re immersed in exciting activities supervised by our friendly Sugarbush staff\, your parents can relax and enjoy a night out. \nHere’s what’s waiting for you: \nGaming adventures and activities in the SIM Rooms\nPizza\, popcorn\, and drinks included\nDrop-off is at 6 PM\, and pick-up is at 9 PM. Let us handle the fun while your parents take a well-deserved break. \nReservations are required\, and spots are limited to the first 18 kids. Cost is $60 per child. Secure your spot today!
URL:https://mrvvillage.com/event/kids-sim-take-over-3/
LOCATION:Sugarbush Resort\, 102 Forest Drive Warren\, VT 05674\, Warren\, 05674
CATEGORIES:Aprés,Family Friendly,Sugarbush
ATTACH;FMTTYPE=image/jpeg:https://mrvvillage.com/wp-content/uploads/2025/01/Copy-of-Kids-SIM-Takeover-11-x-17-in-yQnspz.tmp_.jpg
GEO:44.1272818;-72.9284492
X-APPLE-STRUCTURED-LOCATION;VALUE=URI;X-ADDRESS=Sugarbush Resort 102 Forest Drive Warren VT 05674 Warren 05674;X-APPLE-RADIUS=500;X-TITLE=102 Forest Drive Warren\, VT 05674:geo:-72.9284492,44.1272818
END:VEVENT
END:VCALENDAR