BEGIN:VCALENDAR
VERSION:2.0
PRODID:-//The Mad River Valley Village - ECPv6.0.13//NONSGML v1.0//EN
CALSCALE:GREGORIAN
METHOD:PUBLISH
X-ORIGINAL-URL:https://mrvvillage.com
X-WR-CALDESC:Events for The Mad River Valley Village
REFRESH-INTERVAL;VALUE=DURATION:PT1H
X-Robots-Tag:noindex
X-PUBLISHED-TTL:PT1H
BEGIN:VTIMEZONE
TZID:America/New_York
BEGIN:DAYLIGHT
TZOFFSETFROM:-0500
TZOFFSETTO:-0400
TZNAME:EDT
DTSTART:20250309T070000
END:DAYLIGHT
BEGIN:STANDARD
TZOFFSETFROM:-0400
TZOFFSETTO:-0500
TZNAME:EST
DTSTART:20251102T060000
END:STANDARD
END:VTIMEZONE
BEGIN:VEVENT
DTSTART;TZID=America/New_York:20250410T183000
DTEND;TZID=America/New_York:20250410T200000
DTSTAMP:20260424T051850
CREATED:20250330T160949Z
LAST-MODIFIED:20250410T185320Z
UID:10007908-1744309800-1744315200@mrvvillage.com
SUMMARY:Coexisting with Bears: Being Responsible Neighbors
DESCRIPTION:Spring is upon us and the return of warm weather also means the return of our black bears! Emerging from hibernation and hungry for calories\, our bears find trash cans\, bird feeders\, and compost piles to be easy meals. They mean no harm\, but this behavior leads them to losing their wariness of people and can result in damage to property\, cars\, and homes. \nPlease join the Mad River Valley Bear Initiative for a presentation on this topic from Sarah Crockett\, educator and advocate for human/bear coexistence. The presentation will cover black bear ecology\, common causes of conflict between bears and our community\, and practical ways we can change our behaviors to reduce conflict. Expect to walk away with a greater appreciation for bears and useful strategies for keeping food and attractants away from them\, ensuring we can keep our bears wild for years to come. \nThe presentation will take place in the Mini-Bear Room in The Schoolhouse at Sugarbush’s Lincoln Peak (84 Warren Dr\, Warren\, VT). \nAbout the presenter: Sarah Crockett\, M.D.\, is an emergency department physician with Dartmouth Health\, specializing in wilderness medicine. Her passion for the outdoors and wilderness medicine as well as mentorship from Ben Kilham of the Kilham Bear Center has led to her interest and involvement in providing community education on black bear coexistence. \nAbout MRVBI: The Mad River Valley Bear Initiative is a local volunteer group that raises awareness about the bears that live around us in this community. We are made up of folks from the five towns in our watershed: Warren\, Waitsfield\, Fayston\, Duxbury\, and Moretown. Learn more about our work and find resources for living alongside black bears at https://MRVBears.org.
URL:https://mrvvillage.com/event/coexisting-with-bears-being-responsible-neighbors/
LOCATION:Sugarbush Resort\, 102 Forest Drive Warren\, VT 05674\, Warren\, 05674
CATEGORIES:Community,Sugarbush
ATTACH;FMTTYPE=image/png:https://mrvvillage.com/wp-content/uploads/2025/03/FINAL_Sarah-Crockett-Presentation-Flyer-1QCl21.tmp_.png
ORGANIZER;CN="Mad%20River%20Valley%20Bear%20Initiative":MAILTO:mwade@sugarbush.com
GEO:44.1272818;-72.9284492
X-APPLE-STRUCTURED-LOCATION;VALUE=URI;X-ADDRESS=Sugarbush Resort 102 Forest Drive Warren VT 05674 Warren 05674;X-APPLE-RADIUS=500;X-TITLE=102 Forest Drive Warren\, VT 05674:geo:-72.9284492,44.1272818
END:VEVENT
END:VCALENDAR