BEGIN:VCALENDAR
VERSION:2.0
PRODID:-//The Mad River Valley Village - ECPv6.0.13//NONSGML v1.0//EN
CALSCALE:GREGORIAN
METHOD:PUBLISH
X-ORIGINAL-URL:https://mrvvillage.com
X-WR-CALDESC:Events for The Mad River Valley Village
REFRESH-INTERVAL;VALUE=DURATION:PT1H
X-Robots-Tag:noindex
X-PUBLISHED-TTL:PT1H
BEGIN:VTIMEZONE
TZID:America/New_York
BEGIN:DAYLIGHT
TZOFFSETFROM:-0500
TZOFFSETTO:-0400
TZNAME:EDT
DTSTART:20250309T070000
END:DAYLIGHT
BEGIN:STANDARD
TZOFFSETFROM:-0400
TZOFFSETTO:-0500
TZNAME:EST
DTSTART:20251102T060000
END:STANDARD
END:VTIMEZONE
BEGIN:VEVENT
DTSTART;TZID=America/New_York:20250704T000000
DTEND;TZID=America/New_York:20250706T235959
DTSTAMP:20260423T185310
CREATED:20250603T214052Z
LAST-MODIFIED:20250704T170827Z
UID:10008244-1751587200-1751846399@mrvvillage.com
SUMMARY:4th of July at Sugarbush
DESCRIPTION:Celebrate Independence Day in true mountain style; where long summer days roll into music-filled nights\, and fireworks light up the Mad River Valley sky. Join us for a weekend packed with live bands\, lawn games\, family-friendly fun\, great food\, cold drinks\, and all the laid-back summer vibes you’ve been waiting for. Whether you’re here for the full long weekend or just swinging by for the day\, there’s something happening around every corner.See below for a full lineup of events and daily activities.
URL:https://mrvvillage.com/event/4th-of-july-at-sugarbush/
LOCATION:Sugarbush Resort\, 102 Forest Drive Warren\, VT 05674\, Warren\, 05674
CATEGORIES:Food & Drink,Sugarbush
ATTACH;FMTTYPE=image/jpeg:https://mrvvillage.com/wp-content/uploads/2025/06/4th-of-july-1-ZED6pk.jpg
GEO:44.1272818;-72.9284492
X-APPLE-STRUCTURED-LOCATION;VALUE=URI;X-ADDRESS=Sugarbush Resort 102 Forest Drive Warren VT 05674 Warren 05674;X-APPLE-RADIUS=500;X-TITLE=102 Forest Drive Warren\, VT 05674:geo:-72.9284492,44.1272818
END:VEVENT
BEGIN:VEVENT
DTSTART;TZID=America/New_York:20250704T100000
DTEND;TZID=America/New_York:20250704T170000
DTSTAMP:20260423T185310
CREATED:20250603T214053Z
LAST-MODIFIED:20250704T170827Z
UID:10008245-1751623200-1751648400@mrvvillage.com
SUMMARY:Free Lift Rides on the 4th of July
DESCRIPTION:FREE Scenic Lift Rides\, courtesy of Lawson’s Finest\, cheers to that!Thanks to our friends at Lawson’s Finest Liquids\, scenic lift rides on Super Bravo are on the house this 4th of July! Pick up your free ticket at Guest Services and ride to the top for sweeping views of the valley below. Don’t forget to dress for the weather and wear sturdy shoes… it can get breezy up there\, and you’ll want to explore in comfort. Available only on Friday\, July 4th 10-5PM. Don’t miss it!
URL:https://mrvvillage.com/event/free-lift-rides-on-the-4th-of-july/
LOCATION:Super Bravo\, Lincoln Peak
CATEGORIES:Sugarbush
ATTACH;FMTTYPE=image/jpeg:https://mrvvillage.com/wp-content/uploads/2025/06/free-lift-rides-wIHvo7.jpg
GEO:44.1272818;-72.9284492
X-APPLE-STRUCTURED-LOCATION;VALUE=URI;X-ADDRESS=Super Bravo Lincoln Peak;X-APPLE-RADIUS=500;X-TITLE=Lincoln Peak:geo:-72.9284492,44.1272818
END:VEVENT
BEGIN:VEVENT
DTSTART;TZID=America/New_York:20250704T100000
DTEND;TZID=America/New_York:20250704T170000
DTSTAMP:20260423T185310
CREATED:20250624T143950Z
LAST-MODIFIED:20250704T170828Z
UID:10008450-1751623200-1751648400@mrvvillage.com
SUMMARY:4th of July Bingo Challenge
DESCRIPTION:Celebrate the 4th of July with a little friendly competition… Sugarbush Bingo style! Pick up your bingo board at Guest Services anytime between 10-5 PM\, then explore the resort to complete a row of activities. Whether you’re tie-dyeing in the Courtyard\, catching live music\, or riding the lift\, each adventure gets you closer to a prize. Complete a row and you’ll win a reusable Sugarbush water bottle\, and get entered into our special Independence Day Raffle. One day only. One board per guest. All the fun\, all across the mountain. See below for everything happening on the 4th!
URL:https://mrvvillage.com/event/4th-of-july-bingo-challenge/
LOCATION:Sugarbush Resort\, 102 Forest Drive Warren\, VT 05674\, Warren\, 05674
CATEGORIES:Sugarbush
ATTACH;FMTTYPE=image/jpeg:https://mrvvillage.com/wp-content/uploads/2025/06/bingo-hPw3lD.jpg
GEO:44.1272818;-72.9284492
X-APPLE-STRUCTURED-LOCATION;VALUE=URI;X-ADDRESS=Sugarbush Resort 102 Forest Drive Warren VT 05674 Warren 05674;X-APPLE-RADIUS=500;X-TITLE=102 Forest Drive Warren\, VT 05674:geo:-72.9284492,44.1272818
END:VEVENT
BEGIN:VEVENT
DTSTART;TZID=America/New_York:20250704T100000
DTEND;TZID=America/New_York:20250704T170000
DTSTAMP:20260423T185310
CREATED:20250624T143950Z
LAST-MODIFIED:20250704T170828Z
UID:10008451-1751623200-1751648400@mrvvillage.com
SUMMARY:Free Lift Rides on the 4th of July
DESCRIPTION:FREE Scenic Lift Rides\, courtesy of Lawson’s Finest Liquids. Cheers to that!Thanks to our friends at Lawson’s Finest Liquids\, scenic lift rides on Super Bravo are on the house this 4th of July! Pick up your free ticket at Guest Services and ride to the top for sweeping views of the valley below. Don’t forget to dress for the weather and wear sturdy shoes… it can get breezy up there\, and you’ll want to explore in comfort. Available only on Friday\, July 4th 10-5PM. Don’t miss it!
URL:https://mrvvillage.com/event/free-lift-rides-on-the-4th-of-july-2/
LOCATION:Super Bravo\, Lincoln Peak
CATEGORIES:Sugarbush
ATTACH;FMTTYPE=image/jpeg:https://mrvvillage.com/wp-content/uploads/2025/06/free-lift-rides-1-0GY5dy.jpg
GEO:44.1272818;-72.9284492
X-APPLE-STRUCTURED-LOCATION;VALUE=URI;X-ADDRESS=Super Bravo Lincoln Peak;X-APPLE-RADIUS=500;X-TITLE=Lincoln Peak:geo:-72.9284492,44.1272818
END:VEVENT
BEGIN:VEVENT
DTSTART;TZID=America/New_York:20250704T120000
DTEND;TZID=America/New_York:20250704T210000
DTSTAMP:20260423T185310
CREATED:20250603T214054Z
LAST-MODIFIED:20250704T170828Z
UID:10008246-1751630400-1751662800@mrvvillage.com
SUMMARY:Live Music on the 4th of July
DESCRIPTION:Let freedom ring with live music in the Lincoln Peak Courtyard from 12-9PM this 4th of July; an all-day soundtrack of summer jams and good vibes. Roll in after the parade and stay for the tunes straight through ‘til the fireworks light up the sky.12-3PM – Jenne + Feller3-6PM – Detonators6-9PM – The Holter Family Band
URL:https://mrvvillage.com/event/live-music-on-the-4th-of-july/
LOCATION:Courtyard\, Lincoln Peak
CATEGORIES:Food & Drink,Sugarbush
ATTACH;FMTTYPE=image/jpeg:https://mrvvillage.com/wp-content/uploads/2025/06/music-on-the-4th-Bzqig8.jpg
GEO:44.1272818;-72.9284492
X-APPLE-STRUCTURED-LOCATION;VALUE=URI;X-ADDRESS=Courtyard Lincoln Peak;X-APPLE-RADIUS=500;X-TITLE=Lincoln Peak:geo:-72.9284492,44.1272818
END:VEVENT
BEGIN:VEVENT
DTSTART;TZID=America/New_York:20250704T120000
DTEND;TZID=America/New_York:20250704T210000
DTSTAMP:20260423T185310
CREATED:20250624T144004Z
LAST-MODIFIED:20250704T170828Z
UID:10008452-1751630400-1751662800@mrvvillage.com
SUMMARY:Live Music on the 4th of July
DESCRIPTION:Let freedom ring with live music in the Lincoln Peak Courtyard from 12-9PM this 4th of July; an all-day soundtrack of summer jams and good vibes. Roll in after the parade and stay for the tunes straight through ‘til the fireworks light up the sky.  \nPresented by Lawson’s Finest Liquids.12-3PM – Jenne + Feller3-6PM – Detonators6-9PM – The Holter Family Band
URL:https://mrvvillage.com/event/live-music-on-the-4th-of-july-2/
LOCATION:Courtyard\, Lincoln Peak
CATEGORIES:Food & Drink,Sugarbush
ATTACH;FMTTYPE=image/jpeg:https://mrvvillage.com/wp-content/uploads/2025/06/music-on-the-4th-1-QcT40X.jpg
GEO:44.1272818;-72.9284492
X-APPLE-STRUCTURED-LOCATION;VALUE=URI;X-ADDRESS=Courtyard Lincoln Peak;X-APPLE-RADIUS=500;X-TITLE=Lincoln Peak:geo:-72.9284492,44.1272818
END:VEVENT
BEGIN:VEVENT
DTSTART;TZID=America/New_York:20250704T210000
DTEND;TZID=America/New_York:20250704T213000
DTSTAMP:20260423T185310
CREATED:20250603T214107Z
LAST-MODIFIED:20250704T170841Z
UID:10008247-1751662800-1751664600@mrvvillage.com
SUMMARY:4th of July Fireworks
DESCRIPTION:Cap off the holiday with a bang! Join us at Sugarbush for a dazzling fireworks display lighting up the mountain sky. Please leave furry friends at home\, loud noises and big crowds aren’t their kind of fun.
URL:https://mrvvillage.com/event/4th-of-july-fireworks/
LOCATION:BaseArea\, Lincoln Peak
CATEGORIES:Sugarbush
ATTACH;FMTTYPE=image/jpeg:https://mrvvillage.com/wp-content/uploads/2025/06/4th-of-july-10-VnOjNY.jpg
GEO:44.1272818;-72.9284492
X-APPLE-STRUCTURED-LOCATION;VALUE=URI;X-ADDRESS=BaseArea Lincoln Peak;X-APPLE-RADIUS=500;X-TITLE=Lincoln Peak:geo:-72.9284492,44.1272818
END:VEVENT
END:VCALENDAR