BEGIN:VCALENDAR
VERSION:2.0
PRODID:-//The Mad River Valley Village - ECPv6.0.13//NONSGML v1.0//EN
CALSCALE:GREGORIAN
METHOD:PUBLISH
X-WR-CALNAME:The Mad River Valley Village
X-ORIGINAL-URL:https://mrvvillage.com
X-WR-CALDESC:Events for The Mad River Valley Village
REFRESH-INTERVAL;VALUE=DURATION:PT1H
X-Robots-Tag:noindex
X-PUBLISHED-TTL:PT1H
BEGIN:VTIMEZONE
TZID:America/New_York
BEGIN:DAYLIGHT
TZOFFSETFROM:-0500
TZOFFSETTO:-0400
TZNAME:EDT
DTSTART:20250309T070000
END:DAYLIGHT
BEGIN:STANDARD
TZOFFSETFROM:-0400
TZOFFSETTO:-0500
TZNAME:EST
DTSTART:20251102T060000
END:STANDARD
END:VTIMEZONE
BEGIN:VEVENT
DTSTART;TZID=America/New_York:20250704T000000
DTEND;TZID=America/New_York:20250706T235959
DTSTAMP:20260423T220225
CREATED:20250603T214052Z
LAST-MODIFIED:20250704T170827Z
UID:10008244-1751587200-1751846399@mrvvillage.com
SUMMARY:4th of July at Sugarbush
DESCRIPTION:Celebrate Independence Day in true mountain style; where long summer days roll into music-filled nights\, and fireworks light up the Mad River Valley sky. Join us for a weekend packed with live bands\, lawn games\, family-friendly fun\, great food\, cold drinks\, and all the laid-back summer vibes you’ve been waiting for. Whether you’re here for the full long weekend or just swinging by for the day\, there’s something happening around every corner.See below for a full lineup of events and daily activities.
URL:https://mrvvillage.com/event/4th-of-july-at-sugarbush/
LOCATION:Sugarbush Resort\, 102 Forest Drive Warren\, VT 05674\, Warren\, 05674
CATEGORIES:Food & Drink,Sugarbush
ATTACH;FMTTYPE=image/jpeg:https://mrvvillage.com/wp-content/uploads/2025/06/4th-of-july-1-ZED6pk.jpg
GEO:44.1272818;-72.9284492
X-APPLE-STRUCTURED-LOCATION;VALUE=URI;X-ADDRESS=Sugarbush Resort 102 Forest Drive Warren VT 05674 Warren 05674;X-APPLE-RADIUS=500;X-TITLE=102 Forest Drive Warren\, VT 05674:geo:-72.9284492,44.1272818
END:VEVENT
BEGIN:VEVENT
DTSTART;TZID=America/New_York:20250705T130000
DTEND;TZID=America/New_York:20250705T160000
DTSTAMP:20260423T220225
CREATED:20250603T214108Z
LAST-MODIFIED:20250705T172325Z
UID:10008248-1751720400-1751731200@mrvvillage.com
SUMMARY:Music on the Mountain ft. AmerikanaBlues
DESCRIPTION:At 3\,125 feet\, Allyn’s Lodge sets the stage for an unforgettable afternoon concert with AmerikanaBlues high above the valley. Ride the Super Bravo Quad to this scenic perch and kick back with live music\, mountain views\, and a selection of sandwiches\, snacks\, beer\, and non-alcoholic beverages. Don’t forget your blanket or camp chair (packed in a bag or stuff sack)\, along with sunscreen\, bug spray\, and plenty of water – there’s no potable water at the top.This is a shine-only event on the mountain\, but if the weather doesn’t cooperate\, the show will still go on in a backup location. Lift tickets are required to ride the lift\, but the concert itself is free. For questions\, call Guest Services at 802-583-6590.
URL:https://mrvvillage.com/event/music-on-the-mountain-ft-amerikanablues/
LOCATION:Allyn’s Lodge\, 102 Forest Drive Warren\, VT 05674
CATEGORIES:Sugarbush
ATTACH;FMTTYPE=image/jpeg:https://mrvvillage.com/wp-content/uploads/2025/06/music-on-the-mountain-iZBhaW.jpg
GEO:44.1272818;-72.9284492
X-APPLE-STRUCTURED-LOCATION;VALUE=URI;X-ADDRESS=Allyn’s Lodge 102 Forest Drive Warren VT 05674;X-APPLE-RADIUS=500;X-TITLE=102 Forest Drive Warren\, VT 05674:geo:-72.9284492,44.1272818
END:VEVENT
BEGIN:VEVENT
DTSTART;TZID=America/New_York:20250705T130000
DTEND;TZID=America/New_York:20250705T160000
DTSTAMP:20260423T220225
CREATED:20250624T144005Z
LAST-MODIFIED:20250705T172325Z
UID:10008453-1751720400-1751731200@mrvvillage.com
SUMMARY:Music on the Mountain ft. AmerikanaBlues
DESCRIPTION:At 3\,125 feet\, Allyn’s Lodge sets the stage for an unforgettable afternoon concert with AmerikanaBlues high above the valley. Ride the Super Bravo Quad (or hike up) to this scenic perch and kick back with live music\, mountain views\, and a selection of sandwiches\, snacks\, beer and beverages. Don’t forget your blanket or camp chair (packed in a bag or stuff sack)\, along with sunscreen\, bug spray\, and plenty of water – there’s no potable water at the top. Presented by Lawson’s Finest Liquids.This is a shine-only event on the mountain\, but if the weather doesn’t cooperate\, the show will still go on in a backup location at Rumble’s Bistro and Bar. A lift ticket is required to access the concert venue\, but the Music on the Mountain performance itself is free. Scenic lift tickets are just $17.76 on Saturday and Sunday of July 4th weekend. Kids 4 and under ride free\, and all tickets must be loaded onto a reusable SugarXpress Card ($5 for first-time buyers). Questions? Call Guest Services at 802-583-6590.BUY A LIFT TICKET
URL:https://mrvvillage.com/event/music-on-the-mountain-ft-amerikanablues-2/
LOCATION:Allyn’s Lodge\, 102 Forest Drive Warren\, VT 05674
CATEGORIES:Sugarbush
ATTACH;FMTTYPE=image/jpeg:https://mrvvillage.com/wp-content/uploads/2025/06/music-on-the-mountain-1-V7Hjac.jpg
GEO:44.1272818;-72.9284492
X-APPLE-STRUCTURED-LOCATION;VALUE=URI;X-ADDRESS=Allyn’s Lodge 102 Forest Drive Warren VT 05674;X-APPLE-RADIUS=500;X-TITLE=102 Forest Drive Warren\, VT 05674:geo:-72.9284492,44.1272818
END:VEVENT
END:VCALENDAR