BEGIN:VCALENDAR
VERSION:2.0
PRODID:-//The Mad River Valley Village - ECPv6.0.13//NONSGML v1.0//EN
CALSCALE:GREGORIAN
METHOD:PUBLISH
X-WR-CALNAME:The Mad River Valley Village
X-ORIGINAL-URL:https://mrvvillage.com
X-WR-CALDESC:Events for The Mad River Valley Village
REFRESH-INTERVAL;VALUE=DURATION:PT1H
X-Robots-Tag:noindex
X-PUBLISHED-TTL:PT1H
BEGIN:VTIMEZONE
TZID:America/New_York
BEGIN:DAYLIGHT
TZOFFSETFROM:-0500
TZOFFSETTO:-0400
TZNAME:EDT
DTSTART:20250309T070000
END:DAYLIGHT
BEGIN:STANDARD
TZOFFSETFROM:-0400
TZOFFSETTO:-0500
TZNAME:EST
DTSTART:20251102T060000
END:STANDARD
END:VTIMEZONE
BEGIN:VEVENT
DTSTART;TZID=America/New_York:20250719T000000
DTEND;TZID=America/New_York:20250719T235959
DTSTAMP:20260425T212315
CREATED:20250603T214139Z
LAST-MODIFIED:20250719T205320Z
UID:10008254-1752883200-1752969599@mrvvillage.com
SUMMARY:Mad River Valley Arts Garden Tour
DESCRIPTION:Join Mad River Valley Arts for a weekend of flowers\, art\, and mountain views. Enjoy a Friday evening Garden Party\, then explore stunning private gardens on a self-guided tour Saturday. Tickets and full details available through Mad River Valley Arts.LEARN MORE & REGISTER
URL:https://mrvvillage.com/event/mad-river-valley-arts-garden-tour/
LOCATION:Sugarbush Resort\, 102 Forest Drive Warren\, VT 05674\, Warren\, 05674
CATEGORIES:Sugarbush
ATTACH;FMTTYPE=image/jpeg:https://mrvvillage.com/wp-content/uploads/2025/06/art-tour-YCxaWn.jpg
GEO:44.1272818;-72.9284492
X-APPLE-STRUCTURED-LOCATION;VALUE=URI;X-ADDRESS=Sugarbush Resort 102 Forest Drive Warren VT 05674 Warren 05674;X-APPLE-RADIUS=500;X-TITLE=102 Forest Drive Warren\, VT 05674:geo:-72.9284492,44.1272818
END:VEVENT
BEGIN:VEVENT
DTSTART;TZID=America/New_York:20250719T000000
DTEND;TZID=America/New_York:20250719T235959
DTSTAMP:20260425T212315
CREATED:20250624T144155Z
LAST-MODIFIED:20250719T205320Z
UID:10008463-1752883200-1752969599@mrvvillage.com
SUMMARY:Mad River Valley Arts Garden Tour
DESCRIPTION:Join Mad River Valley Arts for a weekend of flowers\, art\, and mountain views. Enjoy a Friday evening Garden Party\, then explore stunning private gardens on a self-guided tour Saturday. Tickets and full details available through Mad River Valley Arts. Stick around after the garden tour for a new open house gallery at Rumble’s Bistro & Bar featuring local Mad River Valley artists.LEARN MORE & REGISTER
URL:https://mrvvillage.com/event/mad-river-valley-arts-garden-tour-2/
LOCATION:Sugarbush Resort\, 102 Forest Drive Warren\, VT 05674\, Warren\, 05674
CATEGORIES:Sugarbush
ATTACH;FMTTYPE=image/jpeg:https://mrvvillage.com/wp-content/uploads/2025/06/art-tour-1-115QFf.jpg
GEO:44.1272818;-72.9284492
X-APPLE-STRUCTURED-LOCATION;VALUE=URI;X-ADDRESS=Sugarbush Resort 102 Forest Drive Warren VT 05674 Warren 05674;X-APPLE-RADIUS=500;X-TITLE=102 Forest Drive Warren\, VT 05674:geo:-72.9284492,44.1272818
END:VEVENT
END:VCALENDAR