BEGIN:VCALENDAR
VERSION:2.0
PRODID:-//The Mad River Valley Village - ECPv6.0.13//NONSGML v1.0//EN
CALSCALE:GREGORIAN
METHOD:PUBLISH
X-WR-CALNAME:The Mad River Valley Village
X-ORIGINAL-URL:https://mrvvillage.com
X-WR-CALDESC:Events for The Mad River Valley Village
REFRESH-INTERVAL;VALUE=DURATION:PT1H
X-Robots-Tag:noindex
X-PUBLISHED-TTL:PT1H
BEGIN:VTIMEZONE
TZID:America/New_York
BEGIN:DAYLIGHT
TZOFFSETFROM:-0500
TZOFFSETTO:-0400
TZNAME:EDT
DTSTART:20250309T070000
END:DAYLIGHT
BEGIN:STANDARD
TZOFFSETFROM:-0400
TZOFFSETTO:-0500
TZNAME:EST
DTSTART:20251102T060000
END:STANDARD
END:VTIMEZONE
BEGIN:VEVENT
DTSTART;TZID=America/New_York:20250726T130000
DTEND;TZID=America/New_York:20250726T160000
DTSTAMP:20260423T140805
CREATED:20250624T144235Z
LAST-MODIFIED:20250726T223822Z
UID:10008467-1753534800-1753545600@mrvvillage.com
SUMMARY:Music in the Courtyard
DESCRIPTION:Kick back in the Lincoln Peak Courtyard with live music\, mountain views\, and good company. Grab a drink\, snag a bite at Rumble’s\, and let the afternoon play out. Presented by Lawson’s Finest Liquids.
URL:https://mrvvillage.com/event/music-in-the-courtyard-19/
LOCATION:Courtyard\, Lincoln Peak
CATEGORIES:Sugarbush
ATTACH;FMTTYPE=image/jpeg:https://mrvvillage.com/wp-content/uploads/2025/06/courtyard-music-1-qRqndk.jpg
GEO:44.1272818;-72.9284492
X-APPLE-STRUCTURED-LOCATION;VALUE=URI;X-ADDRESS=Courtyard Lincoln Peak;X-APPLE-RADIUS=500;X-TITLE=Lincoln Peak:geo:-72.9284492,44.1272818
END:VEVENT
END:VCALENDAR