BEGIN:VCALENDAR
VERSION:2.0
PRODID:-//The Mad River Valley Village - ECPv6.0.13//NONSGML v1.0//EN
CALSCALE:GREGORIAN
METHOD:PUBLISH
X-WR-CALNAME:The Mad River Valley Village
X-ORIGINAL-URL:https://mrvvillage.com
X-WR-CALDESC:Events for The Mad River Valley Village
REFRESH-INTERVAL;VALUE=DURATION:PT1H
X-Robots-Tag:noindex
X-PUBLISHED-TTL:PT1H
BEGIN:VTIMEZONE
TZID:America/New_York
BEGIN:DAYLIGHT
TZOFFSETFROM:-0500
TZOFFSETTO:-0400
TZNAME:EDT
DTSTART:20250309T070000
END:DAYLIGHT
BEGIN:STANDARD
TZOFFSETFROM:-0400
TZOFFSETTO:-0500
TZNAME:EST
DTSTART:20251102T060000
END:STANDARD
END:VTIMEZONE
BEGIN:VEVENT
DTSTART;TZID=America/New_York:20250815T000000
DTEND;TZID=America/New_York:20250815T235959
DTSTAMP:20260423T103539
CREATED:20250728T152521Z
LAST-MODIFIED:20250815T193825Z
UID:10008755-1755216000-1755302399@mrvvillage.com
SUMMARY:High Fives Green Mountain Open
DESCRIPTION:Join us Friday\, August 15 for the High Fives Green Mountain Golf Tournament – a day of friendly competition\, big laughs\, and even bigger impact. Hit the links at Sugarbush to help raise funds for the High Fives Foundation and support injured outdoor athletes on their road to recovery.
URL:https://mrvvillage.com/event/high-fives-green-mountain-open/
LOCATION:Golf Club\, 1091 Golf Course Road\, Warren VT 05674
CATEGORIES:Sugarbush
ATTACH;FMTTYPE=image/jpeg:https://mrvvillage.com/wp-content/uploads/2025/07/high-fives-OdMhf0.jpg
GEO:44.1361621;-72.9078617
X-APPLE-STRUCTURED-LOCATION;VALUE=URI;X-ADDRESS=Golf Club 1091 Golf Course Road Warren VT 05674;X-APPLE-RADIUS=500;X-TITLE=1091 Golf Course Road\, Warren VT 05674:geo:-72.9078617,44.1361621
END:VEVENT
BEGIN:VEVENT
DTSTART;TZID=America/New_York:20250815T200000
DTEND;TZID=America/New_York:20250815T220000
DTSTAMP:20260423T103539
CREATED:20250728T152522Z
LAST-MODIFIED:20250815T193825Z
UID:10008756-1755288000-1755295200@mrvvillage.com
SUMMARY:Coca-Cola Family Movie Night
DESCRIPTION:Jaws at the SHARC PoolJust when you thought it was safe to go back in the pool… it’s Jaws on the big screen\, celebrating its 50th anniversary in the most ironic setting we could dream up. Don’t worry no sharks in sight\, just brave swimmers\, popcorn and that iconic score echoing over the water. Join us at 8PM at the SHARC Pool for a suspenseful summer classic under the stars. Free popcorn and drinks available to purchase on deck. This is a free shine only\, no rain (or fins) allowed.Rated PG | 2 hours\, 4 minutes
URL:https://mrvvillage.com/event/coca-cola-family-movie-night-2/
LOCATION:Pool at the\, SHaRC
CATEGORIES:Sugarbush
ATTACH;FMTTYPE=image/webp:https://mrvvillage.com/wp-content/uploads/2025/07/family-movie-night-5KYf4O.webp
GEO:43.8798232;-121.4324614
X-APPLE-STRUCTURED-LOCATION;VALUE=URI;X-ADDRESS=Pool at the SHaRC;X-APPLE-RADIUS=500;X-TITLE=SHaRC:geo:-121.4324614,43.8798232
END:VEVENT
END:VCALENDAR