BEGIN:VCALENDAR
VERSION:2.0
PRODID:-//The Mad River Valley Village - ECPv6.0.13//NONSGML v1.0//EN
CALSCALE:GREGORIAN
METHOD:PUBLISH
X-WR-CALNAME:The Mad River Valley Village
X-ORIGINAL-URL:https://mrvvillage.com
X-WR-CALDESC:Events for The Mad River Valley Village
REFRESH-INTERVAL;VALUE=DURATION:PT1H
X-Robots-Tag:noindex
X-PUBLISHED-TTL:PT1H
BEGIN:VTIMEZONE
TZID:America/New_York
BEGIN:DAYLIGHT
TZOFFSETFROM:-0500
TZOFFSETTO:-0400
TZNAME:EDT
DTSTART:20250309T070000
END:DAYLIGHT
BEGIN:STANDARD
TZOFFSETFROM:-0400
TZOFFSETTO:-0500
TZNAME:EST
DTSTART:20251102T060000
END:STANDARD
END:VTIMEZONE
BEGIN:VEVENT
DTSTART;TZID=America/New_York:20250816T000000
DTEND;TZID=America/New_York:20250817T235959
DTSTAMP:20260423T103435
CREATED:20250728T152536Z
LAST-MODIFIED:20250816T195321Z
UID:10008757-1755302400-1755475199@mrvvillage.com
SUMMARY:Club Championships
DESCRIPTION:Put your game to the test at the Club Championship\, 8/16-18/17. Compete in individual stroke play for bragging rights\, a tee gift\, and your name etched in Sugarbush history.Please register by contacting   golfclub@sugarbush.com  or call 802-583-6725.
URL:https://mrvvillage.com/event/club-championships/
LOCATION:Golf Club\, 1091 Golf Course Road\, Warren VT 05674
CATEGORIES:Sugarbush
ATTACH;FMTTYPE=image/jpeg:https://mrvvillage.com/wp-content/uploads/2025/07/club-championships-GfhiYp.jpg
GEO:44.1361621;-72.9078617
X-APPLE-STRUCTURED-LOCATION;VALUE=URI;X-ADDRESS=Golf Club 1091 Golf Course Road Warren VT 05674;X-APPLE-RADIUS=500;X-TITLE=1091 Golf Course Road\, Warren VT 05674:geo:-72.9078617,44.1361621
END:VEVENT
BEGIN:VEVENT
DTSTART;TZID=America/New_York:20250817T160000
DTEND;TZID=America/New_York:20250817T210000
DTSTAMP:20260423T103435
CREATED:20250728T152550Z
LAST-MODIFIED:20250817T200823Z
UID:10008758-1755446400-1755464400@mrvvillage.com
SUMMARY:$30 App & an Entrée at Rumble’s
DESCRIPTION:Make your summer Sundays delicious. For just $30\, enjoy an appetizer and entrée from Rumble’s rotating menu\, featuring seasonal flavors and chef-crafted dishes. Available Sunday evenings all summer long. Come for the food\, stay for the views and treat yourself to a weekly dinner worth looking forward to.
URL:https://mrvvillage.com/event/30-app-an-entree-at-rumbles-3/
LOCATION:Rumble’s Bistro & Bar\, 102 Forest Dr\, Warren\, VT 05674
CATEGORIES:Food & Drink,Sugarbush
ATTACH;FMTTYPE=image/jpeg:https://mrvvillage.com/wp-content/uploads/2025/07/30-sundays-aTxylS.jpg
GEO:44.1359019;-72.8944139
X-APPLE-STRUCTURED-LOCATION;VALUE=URI;X-ADDRESS=Rumble’s Bistro & Bar 102 Forest Dr Warren VT 05674;X-APPLE-RADIUS=500;X-TITLE=102 Forest Dr\, Warren\, VT 05674:geo:-72.8944139,44.1359019
END:VEVENT
END:VCALENDAR