BEGIN:VCALENDAR
VERSION:2.0
PRODID:-//The Mad River Valley Village - ECPv6.0.13//NONSGML v1.0//EN
CALSCALE:GREGORIAN
METHOD:PUBLISH
X-ORIGINAL-URL:https://mrvvillage.com
X-WR-CALDESC:Events for The Mad River Valley Village
REFRESH-INTERVAL;VALUE=DURATION:PT1H
X-Robots-Tag:noindex
X-PUBLISHED-TTL:PT1H
BEGIN:VTIMEZONE
TZID:America/New_York
BEGIN:DAYLIGHT
TZOFFSETFROM:-0500
TZOFFSETTO:-0400
TZNAME:EDT
DTSTART:20250309T070000
END:DAYLIGHT
BEGIN:STANDARD
TZOFFSETFROM:-0400
TZOFFSETTO:-0500
TZNAME:EST
DTSTART:20251102T060000
END:STANDARD
END:VTIMEZONE
BEGIN:VEVENT
DTSTART;TZID=America/New_York:20250829T170000
DTEND;TZID=America/New_York:20250829T200000
DTSTAMP:20260423T104808
CREATED:20250728T152700Z
LAST-MODIFIED:20250829T230823Z
UID:10008769-1756486800-1756497600@mrvvillage.com
SUMMARY:Live Music at Hogan’s Pub
DESCRIPTION:Tunes\, taps\, and twilight views.Live music every Friday night from 5–8 PM at Hogan’s Pub. Swing by\, stay awhile\, and let the weekend begin.
URL:https://mrvvillage.com/event/live-music-at-hogans-pub-10/
LOCATION:Hogan’s Pub\, 1091 Golf Course Road\, Warren VT 05674\, Warren\, 05674
CATEGORIES:Food & Drink,Sugarbush
ATTACH;FMTTYPE=image/png:https://mrvvillage.com/wp-content/uploads/2025/07/hogans-generic-qZo9IE.png
GEO:44.1321975;-72.8739002
X-APPLE-STRUCTURED-LOCATION;VALUE=URI;X-ADDRESS=Hogan’s Pub 1091 Golf Course Road Warren VT 05674 Warren 05674;X-APPLE-RADIUS=500;X-TITLE=1091 Golf Course Road\, Warren VT 05674:geo:-72.8739002,44.1321975
END:VEVENT
BEGIN:VEVENT
DTSTART;TZID=America/New_York:20250829T200000
DTEND;TZID=America/New_York:20250829T220000
DTSTAMP:20260423T104808
CREATED:20250728T152700Z
LAST-MODIFIED:20250829T230823Z
UID:10008770-1756497600-1756504800@mrvvillage.com
SUMMARY:Coca-Cola Family Movie Night
DESCRIPTION:Shrek on the Gate House PatioOnions have layers…. and so do summer nights. Join us for Shrek at the base of Super Bravo Lift\, where ogres\, donkeys\, and fairy tale mayhem light up the Gate House Patio. This one’s a crowd-pleaser for all ages\, with free popcorn\, fire-roasted s’mores\, and drinks available for purchase for every palate. Movie starts at 8PM. Shine only\, because swamp weather just won’t do.Rated PG | 1 hour\, 30 minutes
URL:https://mrvvillage.com/event/coca-cola-family-movie-night-4/
LOCATION:Gate House Patio\, Sugarbush Resort
CATEGORIES:Sugarbush
ATTACH;FMTTYPE=image/webp:https://mrvvillage.com/wp-content/uploads/2025/07/family-movie-night-5KYf4O.webp
GEO:44.1361621;-72.9078617
X-APPLE-STRUCTURED-LOCATION;VALUE=URI;X-ADDRESS=Gate House Patio Sugarbush Resort;X-APPLE-RADIUS=500;X-TITLE=Sugarbush Resort:geo:-72.9078617,44.1361621
END:VEVENT
END:VCALENDAR