BEGIN:VCALENDAR
VERSION:2.0
PRODID:-//The Mad River Valley Village - ECPv6.0.13//NONSGML v1.0//EN
CALSCALE:GREGORIAN
METHOD:PUBLISH
X-ORIGINAL-URL:https://mrvvillage.com
X-WR-CALDESC:Events for The Mad River Valley Village
REFRESH-INTERVAL;VALUE=DURATION:PT1H
X-Robots-Tag:noindex
X-PUBLISHED-TTL:PT1H
BEGIN:VTIMEZONE
TZID:America/New_York
BEGIN:DAYLIGHT
TZOFFSETFROM:-0500
TZOFFSETTO:-0400
TZNAME:EDT
DTSTART:20250309T070000
END:DAYLIGHT
BEGIN:STANDARD
TZOFFSETFROM:-0400
TZOFFSETTO:-0500
TZNAME:EST
DTSTART:20251102T060000
END:STANDARD
END:VTIMEZONE
BEGIN:VEVENT
DTSTART;TZID=America/New_York:20250906T130000
DTEND;TZID=America/New_York:20250906T160000
DTSTAMP:20260423T053524
CREATED:20250728T152740Z
LAST-MODIFIED:20250906T200815Z
UID:10008773-1757163600-1757174400@mrvvillage.com
SUMMARY:Music in the Courtyard
DESCRIPTION:Kick back in the Lincoln Peak Courtyard with live music\, mountain views\, and good company. Grab a drink\, snag a bite at Rumble’s\, and let the afternoon play out. Presented by Lawson’s Finest Liquids.
URL:https://mrvvillage.com/event/music-in-the-courtyard-21/
LOCATION:Courtyard\, Lincoln Peak
CATEGORIES:Sugarbush
ATTACH;FMTTYPE=image/jpeg:https://mrvvillage.com/wp-content/uploads/2025/07/courtyard-music-1KwGzK.jpg
GEO:44.1272818;-72.9284492
X-APPLE-STRUCTURED-LOCATION;VALUE=URI;X-ADDRESS=Courtyard Lincoln Peak;X-APPLE-RADIUS=500;X-TITLE=Lincoln Peak:geo:-72.9284492,44.1272818
END:VEVENT
END:VCALENDAR