BEGIN:VCALENDAR
VERSION:2.0
PRODID:-//The Mad River Valley Village - ECPv6.0.13//NONSGML v1.0//EN
CALSCALE:GREGORIAN
METHOD:PUBLISH
X-WR-CALNAME:The Mad River Valley Village
X-ORIGINAL-URL:https://mrvvillage.com
X-WR-CALDESC:Events for The Mad River Valley Village
REFRESH-INTERVAL;VALUE=DURATION:PT1H
X-Robots-Tag:noindex
X-PUBLISHED-TTL:PT1H
BEGIN:VTIMEZONE
TZID:America/New_York
BEGIN:DAYLIGHT
TZOFFSETFROM:-0500
TZOFFSETTO:-0400
TZNAME:EDT
DTSTART:20250309T070000
END:DAYLIGHT
BEGIN:STANDARD
TZOFFSETFROM:-0400
TZOFFSETTO:-0500
TZNAME:EST
DTSTART:20251102T060000
END:STANDARD
END:VTIMEZONE
BEGIN:VEVENT
DTSTART;TZID=America/New_York:20250224T170000
DTEND;TZID=America/New_York:20250224T190000
DTSTAMP:20260423T234039
CREATED:20250122T041134Z
LAST-MODIFIED:20250214T080934Z
UID:10007565-1740416400-1740423600@mrvvillage.com
SUMMARY:Winter Golf Clinics at the SHaRC Simulators
DESCRIPTION:Sharpen Your Swing This Winter with PGA Pro Roger King! Take your golf game to the next level—even when the snow falls! Join PGA Pro Roger King at the SIM Suites in the SHaRC for exclusive winter golf lessons. Using state-of-the-art simulators\, you’ll get personalized tips and real-time feedback to improve your swing\, accuracy\, and overall game. \n2025 Winter Golf Clinic Dates:\nJanuary: 13\, 27\nFebruary: 10\, 24\nMarch: 10\, 24\nApril: 7\, 21 \nTime:\n5 PM – 7 PM \nCost:\n$50 per session \nCall the SHaRC at 802-583-6700 for more information.
URL:https://mrvvillage.com/event/winter-golf-clinics-at-the-sharc-simulators-3/
LOCATION:Sugarbush Resort\, 102 Forest Drive Warren\, VT 05674\, Warren\, 05674
CATEGORIES:Sports & Recreation,Sugarbush
ATTACH;FMTTYPE=image/jpeg:https://mrvvillage.com/wp-content/uploads/2025/01/Copy-of-Kids-SIM-Takeover-11-x-17-in-2-yrFJG6.tmp_.jpg
GEO:44.1272818;-72.9284492
X-APPLE-STRUCTURED-LOCATION;VALUE=URI;X-ADDRESS=Sugarbush Resort 102 Forest Drive Warren VT 05674 Warren 05674;X-APPLE-RADIUS=500;X-TITLE=102 Forest Drive Warren\, VT 05674:geo:-72.9284492,44.1272818
END:VEVENT
BEGIN:VEVENT
DTSTART;TZID=America/New_York:20250228T180000
DTEND;TZID=America/New_York:20250228T210000
DTSTAMP:20260423T234039
CREATED:20250122T041200Z
LAST-MODIFIED:20250225T100826Z
UID:10007566-1740765600-1740776400@mrvvillage.com
SUMMARY:Kids SIM Take Over
DESCRIPTION:Parents\, Enjoy a Night Out—We’ll Keep the Kids Entertained! \nCalling all kids ages 6-12! Join us for an evening of fun and games at the SHARC SIM Rooms. While you’re immersed in exciting activities supervised by our friendly Sugarbush staff\, your parents can relax and enjoy a night out. \nHere’s what’s waiting for you: \nGaming adventures and activities in the SIM Rooms\nPizza\, popcorn\, and drinks included\nDrop-off is at 6 PM\, and pick-up is at 9 PM. Let us handle the fun while your parents take a well-deserved break. \nReservations are required\, and spots are limited to the first 18 kids. Cost is $60 per child. Secure your spot today!
URL:https://mrvvillage.com/event/kids-sim-take-over-2/
LOCATION:Sugarbush Resort\, 102 Forest Drive Warren\, VT 05674\, Warren\, 05674
CATEGORIES:Aprés,Family Friendly,Sugarbush
ATTACH;FMTTYPE=image/jpeg:https://mrvvillage.com/wp-content/uploads/2025/01/Copy-of-Kids-SIM-Takeover-11-x-17-in-yQnspz.tmp_.jpg
GEO:44.1272818;-72.9284492
X-APPLE-STRUCTURED-LOCATION;VALUE=URI;X-ADDRESS=Sugarbush Resort 102 Forest Drive Warren VT 05674 Warren 05674;X-APPLE-RADIUS=500;X-TITLE=102 Forest Drive Warren\, VT 05674:geo:-72.9284492,44.1272818
END:VEVENT
END:VCALENDAR