BEGIN:VCALENDAR
VERSION:2.0
PRODID:-//The Mad River Valley Village - ECPv6.0.13//NONSGML v1.0//EN
CALSCALE:GREGORIAN
METHOD:PUBLISH
X-WR-CALNAME:The Mad River Valley Village
X-ORIGINAL-URL:https://mrvvillage.com
X-WR-CALDESC:Events for The Mad River Valley Village
REFRESH-INTERVAL;VALUE=DURATION:PT1H
X-Robots-Tag:noindex
X-PUBLISHED-TTL:PT1H
BEGIN:VTIMEZONE
TZID:America/New_York
BEGIN:DAYLIGHT
TZOFFSETFROM:-0500
TZOFFSETTO:-0400
TZNAME:EDT
DTSTART:20250309T070000
END:DAYLIGHT
BEGIN:STANDARD
TZOFFSETFROM:-0400
TZOFFSETTO:-0500
TZNAME:EST
DTSTART:20251102T060000
END:STANDARD
END:VTIMEZONE
BEGIN:VEVENT
DTSTART;TZID=America/New_York:20250324T170000
DTEND;TZID=America/New_York:20250324T190000
DTSTAMP:20260424T064533
CREATED:20250122T041312Z
LAST-MODIFIED:20250214T081106Z
UID:10007570-1742835600-1742842800@mrvvillage.com
SUMMARY:Winter Golf Clinics at the SHaRC Simulators
DESCRIPTION:Sharpen Your Swing This Winter with PGA Pro Roger King! Take your golf game to the next level—even when the snow falls! Join PGA Pro Roger King at the SIM Suites in the SHaRC for exclusive winter golf lessons. Using state-of-the-art simulators\, you’ll get personalized tips and real-time feedback to improve your swing\, accuracy\, and overall game. \n2025 Winter Golf Clinic Dates:\nJanuary: 13\, 27\nFebruary: 10\, 24\nMarch: 10\, 24\nApril: 7\, 21 \nTime:\n5 PM – 7 PM \nCost:\n$50 per session \nCall the SHaRC at 802-583-6700 for more information.
URL:https://mrvvillage.com/event/winter-golf-clinics-at-the-sharc-simulators-5/
LOCATION:Sugarbush Resort\, 102 Forest Drive Warren\, VT 05674\, Warren\, 05674
CATEGORIES:Sports & Recreation,Sugarbush
ATTACH;FMTTYPE=image/jpeg:https://mrvvillage.com/wp-content/uploads/2025/01/Copy-of-Kids-SIM-Takeover-11-x-17-in-2-yrFJG6.tmp_.jpg
GEO:44.1272818;-72.9284492
X-APPLE-STRUCTURED-LOCATION;VALUE=URI;X-ADDRESS=Sugarbush Resort 102 Forest Drive Warren VT 05674 Warren 05674;X-APPLE-RADIUS=500;X-TITLE=102 Forest Drive Warren\, VT 05674:geo:-72.9284492,44.1272818
END:VEVENT
BEGIN:VEVENT
DTSTART;TZID=America/New_York:20250330T000000
DTEND;TZID=America/New_York:20250330T235959
DTSTAMP:20260424T064533
CREATED:20241230T205834Z
LAST-MODIFIED:20250330T160815Z
UID:10007487-1743292800-1743379199@mrvvillage.com
SUMMARY:Mt Ellen Closing Day Party
DESCRIPTION:Help us celebrate the closing of Mt Ellen! More information coming soon.
URL:https://mrvvillage.com/event/mt-ellen-closing-day-party-2/
LOCATION:Mt Ellen\, Mt Ellen
CATEGORIES:Food & Drink,Sugarbush
ATTACH;FMTTYPE=image/jpeg:https://mrvvillage.com/wp-content/uploads/2024/12/mt-ellen-closing-day-1-c9wTp6.tmp_.jpg
GEO:44.1600589;-72.9292834
X-APPLE-STRUCTURED-LOCATION;VALUE=URI;X-ADDRESS=Mt Ellen Mt Ellen;X-APPLE-RADIUS=500;X-TITLE=Mt Ellen:geo:-72.9292834,44.1600589
END:VEVENT
BEGIN:VEVENT
DTSTART;TZID=America/New_York:20250330T073000
DTEND;TZID=America/New_York:20250330T080000
DTSTAMP:20260424T064533
CREATED:20241230T205835Z
LAST-MODIFIED:20250330T160815Z
UID:10007488-1743319800-1743321600@mrvvillage.com
SUMMARY:Ikon Pass First Tracks
DESCRIPTION:Ikon Pass holders can unlock untouched powder and crispy corduroy with free Ikon Pass First Tracks. Grab early morning laps before the lifts open to the public. Your Ikon Pass will allow you to get on Super Bravo a half hour early on Sunday March 30th.Learn MoreWant early ups every weekend and holiday?Add-On Early Ups
URL:https://mrvvillage.com/event/ikon-pass-first-tracks-4/
LOCATION:Super Bravo Lift\, Lincoln Peak
CATEGORIES:Sugarbush
ATTACH;FMTTYPE=image/jpeg:https://mrvvillage.com/wp-content/uploads/2024/10/first-tracks-unDqEM.tmp_.jpg
GEO:44.1272818;-72.9284492
X-APPLE-STRUCTURED-LOCATION;VALUE=URI;X-ADDRESS=Super Bravo Lift Lincoln Peak;X-APPLE-RADIUS=500;X-TITLE=Lincoln Peak:geo:-72.9284492,44.1272818
END:VEVENT
END:VCALENDAR