BEGIN:VCALENDAR
VERSION:2.0
PRODID:-//The Mad River Valley Village - ECPv6.0.13//NONSGML v1.0//EN
CALSCALE:GREGORIAN
METHOD:PUBLISH
X-ORIGINAL-URL:https://mrvvillage.com
X-WR-CALDESC:Events for The Mad River Valley Village
REFRESH-INTERVAL;VALUE=DURATION:PT1H
X-Robots-Tag:noindex
X-PUBLISHED-TTL:PT1H
BEGIN:VTIMEZONE
TZID:America/New_York
BEGIN:DAYLIGHT
TZOFFSETFROM:-0500
TZOFFSETTO:-0400
TZNAME:EDT
DTSTART:20250309T070000
END:DAYLIGHT
BEGIN:STANDARD
TZOFFSETFROM:-0400
TZOFFSETTO:-0500
TZNAME:EST
DTSTART:20251102T060000
END:STANDARD
END:VTIMEZONE
BEGIN:VEVENT
DTSTART;TZID=America/New_York:20250819T173000
DTEND;TZID=America/New_York:20250819T203000
DTSTAMP:20260423T185159
CREATED:20250728T152550Z
LAST-MODIFIED:20250819T203824Z
UID:10008759-1755624600-1755635400@mrvvillage.com
SUMMARY:Tuesdays on the Big Deck
DESCRIPTION:Kick back like a local with Tuesday evenings\, rain or shine\, on the Big Deck at Mt. Ellen. Enjoy live music\, tasty food specials\, and unbeatable sunset views. The perfect way to soak up those easy summer vibes.
URL:https://mrvvillage.com/event/tuesdays-on-the-big-deck-12/
LOCATION:The Big Deck\, Mt Ellen
CATEGORIES:Food & Drink,Sugarbush
ATTACH;FMTTYPE=image/jpeg:https://mrvvillage.com/wp-content/uploads/2025/06/big-deck-generic-ZPpir5.jpg
GEO:44.1600589;-72.9292834
X-APPLE-STRUCTURED-LOCATION;VALUE=URI;X-ADDRESS=The Big Deck Mt Ellen;X-APPLE-RADIUS=500;X-TITLE=Mt Ellen:geo:-72.9292834,44.1600589
END:VEVENT
BEGIN:VEVENT
DTSTART;TZID=America/New_York:20250821T000000
DTEND;TZID=America/New_York:20250821T235959
DTSTAMP:20260423T185159
CREATED:20250728T152604Z
LAST-MODIFIED:20250821T210825Z
UID:10008760-1755734400-1755820799@mrvvillage.com
SUMMARY:$65 Thursdays at the Golf Club
DESCRIPTION:Hit the course for $65 rounds\, then sink your teeth into ½ priced burgers at Hogan’s Pub from 4-8PM. Golf\, grub\, and good times all in one swing.
URL:https://mrvvillage.com/event/65-thursdays-at-the-golf-club-9/
LOCATION:Golf Club\, 1091 Golf Course Road\, Warren VT 05674
CATEGORIES:Food & Drink,Sugarbush
ATTACH;FMTTYPE=image/jpeg:https://mrvvillage.com/wp-content/uploads/2025/06/69-thursdays-sGcobu.jpg
GEO:44.1361621;-72.9078617
X-APPLE-STRUCTURED-LOCATION;VALUE=URI;X-ADDRESS=Golf Club 1091 Golf Course Road Warren VT 05674;X-APPLE-RADIUS=500;X-TITLE=1091 Golf Course Road\, Warren VT 05674:geo:-72.9078617,44.1361621
END:VEVENT
BEGIN:VEVENT
DTSTART;TZID=America/New_York:20250821T160000
DTEND;TZID=America/New_York:20250821T210000
DTSTAMP:20260423T185159
CREATED:20250728T152604Z
LAST-MODIFIED:20250821T210825Z
UID:10008761-1755792000-1755810000@mrvvillage.com
SUMMARY:Sushi Thursdays at Rumble’s
DESCRIPTION:Sushi Thursdays are rolling into Rumble’s! Join us every Thursday this summer for fresh-made sushi\, creative rolls and stunning mountain views. Whether you’re a purist or a spicy tuna lover\, there’s something on the menu for you. Dine in\, sip something cold and make Thursday your new favorite night out.
URL:https://mrvvillage.com/event/sushi-thursdays-at-rumbles-4/
LOCATION:Rumble’s Bistro & Bar\, 102 Forest Dr\, Warren\, VT 05674
CATEGORIES:Food & Drink,Sugarbush
ATTACH;FMTTYPE=image/jpeg:https://mrvvillage.com/wp-content/uploads/2025/07/sushi-at-rumbles-n1NhCX.jpg
GEO:44.1359019;-72.8944139
X-APPLE-STRUCTURED-LOCATION;VALUE=URI;X-ADDRESS=Rumble’s Bistro & Bar 102 Forest Dr Warren VT 05674;X-APPLE-RADIUS=500;X-TITLE=102 Forest Dr\, Warren\, VT 05674:geo:-72.8944139,44.1359019
END:VEVENT
BEGIN:VEVENT
DTSTART;TZID=America/New_York:20250822T170000
DTEND;TZID=America/New_York:20250822T200000
DTSTAMP:20260423T185159
CREATED:20250728T152617Z
LAST-MODIFIED:20250822T212325Z
UID:10008762-1755882000-1755892800@mrvvillage.com
SUMMARY:Live Music at Hogan’s Pub
DESCRIPTION:Tunes\, taps\, and twilight views.Live music every Friday night from 5–8 PM at Hogan’s Pub. Swing by\, stay awhile\, and let the weekend begin.
URL:https://mrvvillage.com/event/live-music-at-hogans-pub-9/
LOCATION:Hogan’s Pub\, 1091 Golf Course Road\, Warren VT 05674\, Warren\, 05674
CATEGORIES:Food & Drink,Sugarbush
ATTACH;FMTTYPE=image/png:https://mrvvillage.com/wp-content/uploads/2025/07/hogans-generic-qZo9IE.png
GEO:44.1321975;-72.8739002
X-APPLE-STRUCTURED-LOCATION;VALUE=URI;X-ADDRESS=Hogan’s Pub 1091 Golf Course Road Warren VT 05674 Warren 05674;X-APPLE-RADIUS=500;X-TITLE=1091 Golf Course Road\, Warren VT 05674:geo:-72.8739002,44.1321975
END:VEVENT
BEGIN:VEVENT
DTSTART;TZID=America/New_York:20250822T200000
DTEND;TZID=America/New_York:20250822T220000
DTSTAMP:20260423T185159
CREATED:20250728T152620Z
LAST-MODIFIED:20250822T212325Z
UID:10008763-1755892800-1755900000@mrvvillage.com
SUMMARY:Coca-Cola Family Movie Night
DESCRIPTION:Toy Story on the Gate House PatioTo infinity…. and beyond! Woody\, Buzz\, and the whole toy chest take center stage on the Coca-Cola Big Screen for a starry night of Pixar magic. Bring a blanket\, snag a spot\, and get cozy with the film starting at 8PM. We’ll have free popcorn\, gooey smores\, and plenty of beverages available for purchase – both grown-up and kid-approved.Shine only\, because even toys don’t like getting rained on.Rated G | 1 hour\, 21 minutes
URL:https://mrvvillage.com/event/coca-cola-family-movie-night-3/
LOCATION:Gate House Patio\, Sugarbush Resort
CATEGORIES:Sugarbush
ATTACH;FMTTYPE=image/webp:https://mrvvillage.com/wp-content/uploads/2025/07/family-movie-night-5KYf4O.webp
GEO:44.1361621;-72.9078617
X-APPLE-STRUCTURED-LOCATION;VALUE=URI;X-ADDRESS=Gate House Patio Sugarbush Resort;X-APPLE-RADIUS=500;X-TITLE=Sugarbush Resort:geo:-72.9078617,44.1361621
END:VEVENT
BEGIN:VEVENT
DTSTART;TZID=America/New_York:20250823T130000
DTEND;TZID=America/New_York:20250823T160000
DTSTAMP:20260423T185159
CREATED:20250728T152633Z
LAST-MODIFIED:20250823T213833Z
UID:10008764-1755954000-1755964800@mrvvillage.com
SUMMARY:Music in the Courtyard
DESCRIPTION:Kick back in the Lincoln Peak Courtyard with live music\, mountain views\, and good company. Grab a drink\, snag a bite at    Rumble’s\, and let the afternoon play out. Presented by Lawson’s Finest Liquids.
URL:https://mrvvillage.com/event/music-in-the-courtyard-20/
LOCATION:Courtyard\, Lincoln Peak
CATEGORIES:Sugarbush
ATTACH;FMTTYPE=image/jpeg:https://mrvvillage.com/wp-content/uploads/2025/07/courtyard-music-1KwGzK.jpg
GEO:44.1272818;-72.9284492
X-APPLE-STRUCTURED-LOCATION;VALUE=URI;X-ADDRESS=Courtyard Lincoln Peak;X-APPLE-RADIUS=500;X-TITLE=Lincoln Peak:geo:-72.9284492,44.1272818
END:VEVENT
BEGIN:VEVENT
DTSTART;TZID=America/New_York:20250824T160000
DTEND;TZID=America/New_York:20250824T210000
DTSTAMP:20260423T185159
CREATED:20250728T152634Z
LAST-MODIFIED:20250824T215322Z
UID:10008765-1756051200-1756069200@mrvvillage.com
SUMMARY:$30 App & an Entrée at Rumble’s
DESCRIPTION:Make your summer Sundays delicious. For just $30\, enjoy an appetizer and entrée from Rumble’s rotating menu\, featuring seasonal flavors and chef-crafted dishes. Available Sunday evenings all summer long. Come for the food\, stay for the views and treat yourself to a weekly dinner worth looking forward to.
URL:https://mrvvillage.com/event/30-app-an-entree-at-rumbles-4/
LOCATION:Rumble’s Bistro & Bar\, 102 Forest Dr\, Warren\, VT 05674
CATEGORIES:Food & Drink,Sugarbush
ATTACH;FMTTYPE=image/jpeg:https://mrvvillage.com/wp-content/uploads/2025/07/30-sundays-aTxylS.jpg
GEO:44.1359019;-72.8944139
X-APPLE-STRUCTURED-LOCATION;VALUE=URI;X-ADDRESS=Rumble’s Bistro & Bar 102 Forest Dr Warren VT 05674;X-APPLE-RADIUS=500;X-TITLE=102 Forest Dr\, Warren\, VT 05674:geo:-72.8944139,44.1359019
END:VEVENT
END:VCALENDAR