BEGIN:VCALENDAR
VERSION:2.0
PRODID:-//The Mad River Valley Village - ECPv6.0.13//NONSGML v1.0//EN
CALSCALE:GREGORIAN
METHOD:PUBLISH
X-ORIGINAL-URL:https://mrvvillage.com
X-WR-CALDESC:Events for The Mad River Valley Village
REFRESH-INTERVAL;VALUE=DURATION:PT1H
X-Robots-Tag:noindex
X-PUBLISHED-TTL:PT1H
BEGIN:VTIMEZONE
TZID:America/New_York
BEGIN:DAYLIGHT
TZOFFSETFROM:-0500
TZOFFSETTO:-0400
TZNAME:EDT
DTSTART:20260308T070000
END:DAYLIGHT
BEGIN:STANDARD
TZOFFSETFROM:-0400
TZOFFSETTO:-0500
TZNAME:EST
DTSTART:20261101T060000
END:STANDARD
END:VTIMEZONE
BEGIN:VEVENT
DTSTART;TZID=America/New_York:20260220T130000
DTEND;TZID=America/New_York:20260220T160000
DTSTAMP:20260422T180702
CREATED:20260220T162334Z
LAST-MODIFIED:20260220T162334Z
UID:10009887-1771592400-1771603200@mrvvillage.com
SUMMARY:Meet & Greet with the Warren Fire Department
DESCRIPTION:Our very own Warren Fire Department will be right in the Lincoln Peak Courtyard for a special meet and greet afternoon. See a fire truck up close\, check out their special equipment and ask them all of your fire safety questions!
URL:https://mrvvillage.com/event/meet-greet-with-the-warren-fire-department/
LOCATION:Courtyard\, Lincoln Peak
CATEGORIES:Sugarbush
ATTACH;FMTTYPE=image/webp:https://mrvvillage.com/wp-content/uploads/2026/02/warren-fire-department-L8AOSv.webp
GEO:44.1272818;-72.9284492
X-APPLE-STRUCTURED-LOCATION;VALUE=URI;X-ADDRESS=Courtyard Lincoln Peak;X-APPLE-RADIUS=500;X-TITLE=Lincoln Peak:geo:-72.9284492,44.1272818
END:VEVENT
BEGIN:VEVENT
DTSTART;TZID=America/New_York:20260220T190000
DTEND;TZID=America/New_York:20260220T210000
DTSTAMP:20260422T180702
CREATED:20260220T162335Z
LAST-MODIFIED:20260220T162335Z
UID:10009888-1771614000-1771621200@mrvvillage.com
SUMMARY:Comedy Night
DESCRIPTION:Laugh the night away at Comedy Night at Castlerock Pub\, from 7–9 PM! Enjoy a hilarious lineup of comedians bringing big laughs and good vibes. Grab your friends\, a drink\, and get ready for a night of fun\, connection\, and unforgettable comedy!
URL:https://mrvvillage.com/event/comedy-night/
LOCATION:Castle Rock Pub\, Lincoln Peak
CATEGORIES:Sugarbush
ATTACH;FMTTYPE=image/webp:https://mrvvillage.com/wp-content/uploads/2026/02/comedy-night-graphic-4TfUqE.webp
GEO:44.1272818;-72.9284492
X-APPLE-STRUCTURED-LOCATION;VALUE=URI;X-ADDRESS=Castle Rock Pub Lincoln Peak;X-APPLE-RADIUS=500;X-TITLE=Lincoln Peak:geo:-72.9284492,44.1272818
END:VEVENT
BEGIN:VEVENT
DTSTART;TZID=America/New_York:20260221T150000
DTEND;TZID=America/New_York:20260221T180000
DTSTAMP:20260422T180702
CREATED:20260220T162350Z
LAST-MODIFIED:20260221T163852Z
UID:10009889-1771686000-1771696800@mrvvillage.com
SUMMARY:Switchback Swag Giveaway
DESCRIPTION:Join us for a Switchback promo night at Castlerock Pub!
URL:https://mrvvillage.com/event/switchback-swag-giveaway/
LOCATION:Castlerock Pub\, Lincoln Peak\, Warren\, 05674
CATEGORIES:Food & Drink,Sugarbush
ATTACH;FMTTYPE=image/webp:https://mrvvillage.com/wp-content/uploads/2026/02/switchback-takeover-1GwZcI.webp
GEO:44.1359019;-72.8944139
X-APPLE-STRUCTURED-LOCATION;VALUE=URI;X-ADDRESS=Castlerock Pub Lincoln Peak Warren 05674;X-APPLE-RADIUS=500;X-TITLE=Lincoln Peak:geo:-72.8944139,44.1359019
END:VEVENT
BEGIN:VEVENT
DTSTART;TZID=America/New_York:20260221T160000
DTEND;TZID=America/New_York:20260221T190000
DTSTAMP:20260422T180702
CREATED:20260220T162351Z
LAST-MODIFIED:20260221T163852Z
UID:10009890-1771689600-1771700400@mrvvillage.com
SUMMARY:Walt’s After Dark
DESCRIPTION:Get ready to tour up or snag last chair\, then swing into the Glen House\, Mt. Ellen’s mid-mountain lodge\, for Walt’s famous grilled cheese and a local pour. Once you’re fueled\, head back out under the stars. Don’t forget your headlamp.This night is for advanced skiers and riders comfortable in changing terrain and conditions.Before heading up\, don’t forget to check the Snow Report for closures or updates.
URL:https://mrvvillage.com/event/walts-after-dark-6/
LOCATION:Walt’s at the Glen House\, 626 Mt. Ellen Road\, Waitsfield\, VT 05673
CATEGORIES:Food & Drink,Sugarbush
ATTACH;FMTTYPE=image/webp:https://mrvvillage.com/wp-content/uploads/2026/02/walts-after-dark-exterior-z7xTfw.webp
GEO:44.1773979;-72.9016908
X-APPLE-STRUCTURED-LOCATION;VALUE=URI;X-ADDRESS=Walt’s at the Glen House 626 Mt. Ellen Road Waitsfield VT 05673;X-APPLE-RADIUS=500;X-TITLE=626 Mt. Ellen Road\, Waitsfield\, VT 05673:geo:-72.9016908,44.1773979
END:VEVENT
BEGIN:VEVENT
DTSTART;TZID=America/New_York:20260221T180000
DTEND;TZID=America/New_York:20260221T210000
DTSTAMP:20260422T180702
CREATED:20260220T162407Z
LAST-MODIFIED:20260221T163906Z
UID:10009891-1771696800-1771707600@mrvvillage.com
SUMMARY:Alpine Aurora – Midwinter Glow
DESCRIPTION:Get the party started with Live DJ and Laser Light Show in the Lincoln Peak Courtyard!
URL:https://mrvvillage.com/event/alpine-aurora-midwinter-glow/
LOCATION:Sugarbush Resort\, 102 Forest Drive Warren\, VT 05674\, Warren\, 05674
CATEGORIES:Sugarbush
ATTACH;FMTTYPE=image/png:https://mrvvillage.com/wp-content/uploads/2026/02/alpine-aurora-correct-1R86bY.png
GEO:44.1272818;-72.9284492
X-APPLE-STRUCTURED-LOCATION;VALUE=URI;X-ADDRESS=Sugarbush Resort 102 Forest Drive Warren VT 05674 Warren 05674;X-APPLE-RADIUS=500;X-TITLE=102 Forest Drive Warren\, VT 05674:geo:-72.9284492,44.1272818
END:VEVENT
BEGIN:VEVENT
DTSTART;TZID=America/New_York:20260221T200000
DTEND;TZID=America/New_York:20260221T230000
DTSTAMP:20260422T180702
CREATED:20260220T162409Z
LAST-MODIFIED:20260221T163906Z
UID:10009892-1771704000-1771714800@mrvvillage.com
SUMMARY:Late Night Music
DESCRIPTION:Get your fill of late night après only at Castlerock Pub! Bring your friends and good vibes only for an evening of live music and a limited food menu.Band to be announced soon.
URL:https://mrvvillage.com/event/late-night-music-3/
LOCATION:Castlerock Pub\, Lincoln Peak\, Warren\, 05674
CATEGORIES:Sugarbush
ATTACH;FMTTYPE=image/webp:https://mrvvillage.com/wp-content/uploads/2026/02/late-night-music-1-RUzJvz.webp
GEO:44.1359019;-72.8944139
X-APPLE-STRUCTURED-LOCATION;VALUE=URI;X-ADDRESS=Castlerock Pub Lincoln Peak Warren 05674;X-APPLE-RADIUS=500;X-TITLE=Lincoln Peak:geo:-72.8944139,44.1359019
END:VEVENT
END:VCALENDAR