BEGIN:VCALENDAR
VERSION:2.0
PRODID:-//The Mad River Valley Village - ECPv6.0.13//NONSGML v1.0//EN
CALSCALE:GREGORIAN
METHOD:PUBLISH
X-WR-CALNAME:The Mad River Valley Village
X-ORIGINAL-URL:https://mrvvillage.com
X-WR-CALDESC:Events for The Mad River Valley Village
REFRESH-INTERVAL;VALUE=DURATION:PT1H
X-Robots-Tag:noindex
X-PUBLISHED-TTL:PT1H
BEGIN:VTIMEZONE
TZID:America/New_York
BEGIN:DAYLIGHT
TZOFFSETFROM:-0500
TZOFFSETTO:-0400
TZNAME:EDT
DTSTART:20260308T070000
END:DAYLIGHT
BEGIN:STANDARD
TZOFFSETFROM:-0400
TZOFFSETTO:-0500
TZNAME:EST
DTSTART:20261101T060000
END:STANDARD
END:VTIMEZONE
BEGIN:VEVENT
DTSTART;TZID=America/New_York:20260223T170000
DTEND;TZID=America/New_York:20260223T190000
DTSTAMP:20260422T175812
CREATED:20260220T162424Z
LAST-MODIFIED:20260223T170834Z
UID:10009893-1771866000-1771873200@mrvvillage.com
SUMMARY:Winter Golf Clinic at the SHaRC
DESCRIPTION:Sharpen Your Swing This Winter with PGA Pro Roger King! Take your golf game to the next level—even when the snow falls! Join PGA Pro Roger King at the SIM Suites in the SHaRC for exclusive winter golf lessons. Using state-of-the-art simulators\, you’ll get personalized tips and real-time feedback to improve your swing\, accuracy\, and overall game.2026 Winter Golf Clinic Dates:January:   12\, 26February: 9\, 23March: 9\, 23April: 6\, 20Time:5 PM – 7 PMCost:$50 per sessionCall the SHaRC at 802-583-6700 for more information.
URL:https://mrvvillage.com/event/winter-golf-clinic-at-the-sharc-2/
LOCATION:SIM Suites\, SHaRC
CATEGORIES:Sugarbush
ATTACH;FMTTYPE=image/jpeg:https://mrvvillage.com/wp-content/uploads/2025/01/golf-clinics-6QXeIy.tmp_.jpg
GEO:43.8798232;-121.4324614
X-APPLE-STRUCTURED-LOCATION;VALUE=URI;X-ADDRESS=SIM Suites SHaRC;X-APPLE-RADIUS=500;X-TITLE=SHaRC:geo:-121.4324614,43.8798232
END:VEVENT
BEGIN:VEVENT
DTSTART;TZID=America/New_York:20260228T150000
DTEND;TZID=America/New_York:20260228T180000
DTSTAMP:20260422T175812
CREATED:20260220T162451Z
LAST-MODIFIED:20260228T182331Z
UID:10009894-1772290800-1772301600@mrvvillage.com
SUMMARY:Lawson’s Takeover
DESCRIPTION:Join us for free swag giveaways from Lawson’s at Castlerock Pub!
URL:https://mrvvillage.com/event/lawsons-takeover/
LOCATION:Castlerock Pub\, Lincoln Peak\, Warren\, 05674
CATEGORIES:Food & Drink,Sugarbush
ATTACH;FMTTYPE=image/webp:https://mrvvillage.com/wp-content/uploads/2026/02/2526-lawsons-takeover-OhZcfj.webp
GEO:44.1359019;-72.8944139
X-APPLE-STRUCTURED-LOCATION;VALUE=URI;X-ADDRESS=Castlerock Pub Lincoln Peak Warren 05674;X-APPLE-RADIUS=500;X-TITLE=Lincoln Peak:geo:-72.8944139,44.1359019
END:VEVENT
BEGIN:VEVENT
DTSTART;TZID=America/New_York:20260228T160000
DTEND;TZID=America/New_York:20260228T190000
DTSTAMP:20260422T175812
CREATED:20260220T162452Z
LAST-MODIFIED:20260228T182331Z
UID:10009895-1772294400-1772305200@mrvvillage.com
SUMMARY:Walt’s After Dark
DESCRIPTION:Get ready to tour up or snag last chair\, then swing into the Glen House\, Mt. Ellen’s mid-mountain lodge\, for Walt’s famous grilled cheese and a local pour. Once you’re fueled\, head back out under the stars. Don’t forget your headlamp.This night is for advanced skiers and riders comfortable in changing terrain and conditions.Before heading up\, don’t forget to check the Snow Report for closures or updates.
URL:https://mrvvillage.com/event/walts-after-dark-7/
LOCATION:Walt’s at the Glen House\, 626 Mt. Ellen Road\, Waitsfield\, VT 05673
CATEGORIES:Food & Drink,Sugarbush
ATTACH;FMTTYPE=image/webp:https://mrvvillage.com/wp-content/uploads/2026/02/walts-after-dark-exterior-z7xTfw.webp
GEO:44.1773979;-72.9016908
X-APPLE-STRUCTURED-LOCATION;VALUE=URI;X-ADDRESS=Walt’s at the Glen House 626 Mt. Ellen Road Waitsfield VT 05673;X-APPLE-RADIUS=500;X-TITLE=626 Mt. Ellen Road\, Waitsfield\, VT 05673:geo:-72.9016908,44.1773979
END:VEVENT
BEGIN:VEVENT
DTSTART;TZID=America/New_York:20260228T170000
DTEND;TZID=America/New_York:20260228T203000
DTSTAMP:20260422T175812
CREATED:20260220T162505Z
LAST-MODIFIED:20260228T182331Z
UID:10009896-1772298000-1772310600@mrvvillage.com
SUMMARY:Climb It for Climate
DESCRIPTION:Join Friends of the Mad River\, the Mad River Valley Backcountry Coalition and Sugarbush for an Uphill Race at Mt. Ellen as part of The Uphill Series.
URL:https://mrvvillage.com/event/climb-it-for-climate-3/
LOCATION:Mt. Ellen\, 102 Forest Drive Warren\, VT 05674
CATEGORIES:Sugarbush
ATTACH;FMTTYPE=image/png:https://mrvvillage.com/wp-content/uploads/2026/02/climb-it-for-climate-uphill-series-96EvMv.png
GEO:44.1359019;-72.8944139
X-APPLE-STRUCTURED-LOCATION;VALUE=URI;X-ADDRESS=Mt. Ellen 102 Forest Drive Warren VT 05674;X-APPLE-RADIUS=500;X-TITLE=102 Forest Drive Warren\, VT 05674:geo:-72.8944139,44.1359019
END:VEVENT
BEGIN:VEVENT
DTSTART;TZID=America/New_York:20260228T190000
DTEND;TZID=America/New_York:20260228T220000
DTSTAMP:20260422T175812
CREATED:20260220T162508Z
LAST-MODIFIED:20260228T182331Z
UID:10009897-1772305200-1772316000@mrvvillage.com
SUMMARY:E Block | Late Night Music
DESCRIPTION:Get your fill of late night après only at Castlerock Pub! Bring your friends and good vibes only for an evening of live music and a limited food menu.Music featuring E Block
URL:https://mrvvillage.com/event/e-block-late-night-music/
LOCATION:Castlerock Pub\, Lincoln Peak\, Warren\, 05674
CATEGORIES:Sugarbush
ATTACH;FMTTYPE=image/webp:https://mrvvillage.com/wp-content/uploads/2026/02/late-night-music-1-RUzJvz.webp
GEO:44.1359019;-72.8944139
X-APPLE-STRUCTURED-LOCATION;VALUE=URI;X-ADDRESS=Castlerock Pub Lincoln Peak Warren 05674;X-APPLE-RADIUS=500;X-TITLE=Lincoln Peak:geo:-72.8944139,44.1359019
END:VEVENT
END:VCALENDAR