BEGIN:VCALENDAR
VERSION:2.0
PRODID:-//The Mad River Valley Village - ECPv6.0.13//NONSGML v1.0//EN
CALSCALE:GREGORIAN
METHOD:PUBLISH
X-WR-CALNAME:The Mad River Valley Village
X-ORIGINAL-URL:https://mrvvillage.com
X-WR-CALDESC:Events for The Mad River Valley Village
REFRESH-INTERVAL;VALUE=DURATION:PT1H
X-Robots-Tag:noindex
X-PUBLISHED-TTL:PT1H
BEGIN:VTIMEZONE
TZID:America/New_York
BEGIN:DAYLIGHT
TZOFFSETFROM:-0500
TZOFFSETTO:-0400
TZNAME:EDT
DTSTART:20250309T070000
END:DAYLIGHT
BEGIN:STANDARD
TZOFFSETFROM:-0400
TZOFFSETTO:-0500
TZNAME:EST
DTSTART:20251102T060000
END:STANDARD
END:VTIMEZONE
BEGIN:VEVENT
DTSTART;TZID=America/New_York:20250111T150000
DTEND;TZID=America/New_York:20250111T170000
DTSTAMP:20260425T084903
CREATED:20241228T220911Z
LAST-MODIFIED:20250111T235324Z
UID:10007475-1736607600-1736614800@mrvvillage.com
SUMMARY:DragonBoot String Quartet
DESCRIPTION:Eleva Chamber Players Presents The DragonBoot String Quartet \nThe Eleva Chamber Players will present the New York City-based DragonBoot String Quartet on Saturday\, January 11\, 2025 at 3 PM at the United Church of Christ/Waterbury Congregational Church (8 North Main Street\, Waterbury). Admission is $25\, $20 for Seniors\, Students. Tickets are available at https://www.elevachamberplayers.com or at the door. \nDragonBoot\, a quartet of vibrant and exceptionally talented young musicians\, poised at the brink of promising careers\, will perform music of two familiar composers\, and will also introduce the audience to the work of a contemporary American composer. The program will include Haydn’s String Quartet Op.33 No. 1\, Mozart’s String Quartet No. 21 in D – K575 and Caroline Shaw’s Three Essays for String Quartet. \nThe DragonBoot String Quartet includes violinists Cate Carson and Katya Moeller\, violist Sydney Whipple (an Eleva member) and cellist Lila Holyoke. Built on a foundation of deep musical relationships\, the members of this ensemble have fostered musical connections that have survived the test of time. Violinist Cate Carson and violist Sydney Whipple first played together at the California Summer Music Festival—over ten years ago. Cellist Lila Holyoke and violinist Katya Moeller have performed together in chamber ensembles for three consecutive years. Most recently\, Lila and Cate performed together for seven weeks\, sharing chamber works with children at Kneisel Hall. The DragonBoot String Quartet is the ultimate fusion of these avid chamber musicians\, finally coming together at The Juilliard School. They are currently in the Honors Chamber Music Program at Juilliard\, coaching with former Cavani Quartet member\, Merry Peckham and Juilliard Provost and violist\, Adam Meyer. \nThe Eleva Chamber Players is Central Vermont’s only professional string chamber orchestra and was founded in April of 2006 in Waterbury\, Vermont with the mission of elevating the human spirit through music. Eleva’s concerts feature fine musicianship and fascinating dialogue that is both educational and inspiring. The conductor-less orchestra operates using a collaborative process and is composed of professional musicians with distinguished international careers from throughout Vermont and the United States. In addition to its annual November concerts\, Eleva has conducted concert tours of Vermont wineries and various house concerts around the country.
URL:https://mrvvillage.com/event/dragonboot-string-quartet/
LOCATION:Waterbury Congregational Church\, 8 N Main St\, Waterbury\, VT
CATEGORIES:Family Friendly,Live Music,Ticketed Event
ATTACH;FMTTYPE=image/jpeg:https://mrvvillage.com/wp-content/uploads/2024/12/2501-DragonBoot-Quartet-Official-small-Ej9JXl.tmp_.jpg
GEO:44.3378343;-72.756229
X-APPLE-STRUCTURED-LOCATION;VALUE=URI;X-ADDRESS=Waterbury Congregational Church 8 N Main St Waterbury VT;X-APPLE-RADIUS=500;X-TITLE=8 N Main St:geo:-72.756229,44.3378343
END:VEVENT
BEGIN:VEVENT
DTSTART;TZID=America/New_York:20250118T160000
DTEND;TZID=America/New_York:20250118T173000
DTSTAMP:20260425T084903
CREATED:20241217T183918Z
LAST-MODIFIED:20250118T132320Z
UID:10007319-1737216000-1737221400@mrvvillage.com
SUMMARY:January 18: Cocoa and Canvas
DESCRIPTION:The Waterbury Recreation Department has partnered with Enchanted Paintbrush for a family-friendly instructional paint night to benefit the Recreation Department. Participants will be painting their very own creations. Artist and Instructor Kellie DeCicco will help beginner-to-advanced painters with their masterpieces.\nPaintings will be dried at the end of class or available for pick up at the Recreation Department at a later date. \nThe event will take place ahead of our Recreation Building at 27 Butler Street in Waterbury on Saturday\, January 18 at 4pm. The event is planned to take place ahead of our Annual Christmas Tree Bonfire\, which takes place at 6pm in Anderson Park (same address/location). \nAll supplies and cocoa are provided with registration fee.\n$35 per person and all proceeds benefit the Waterbury Recreation Department. \nRegistration Link: https://waterburyvt.myrec.com/info/activities/program_details.aspx?ProgramID=30098
URL:https://mrvvillage.com/event/january-18-cocoa-and-canvas/
LOCATION:Waterbury Recreation Building\, 27 Butler Street\, Waterbury VT 05676 27 Butler Street\, Waterbury\, Vermont\, 05676\, United States
CATEGORIES:Family Friendly,Ticketed Event
ATTACH;FMTTYPE=image/jpeg:https://mrvvillage.com/wp-content/uploads/2024/12/Oct-2024-Jan-2025-Canvas-and-Cocoa-Flyer-OhGve8.tmp_.jpg
ORGANIZER;CN="Waterbury%20Recreation":MAILTO:klisaius@waterburyvt.com
GEO:44.3426233;-72.758128
X-APPLE-STRUCTURED-LOCATION;VALUE=URI;X-ADDRESS=Waterbury Recreation Building 27 Butler Street Waterbury VT 05676 27 Butler Street Waterbury Vermont 05676 United States;X-APPLE-RADIUS=500;X-TITLE=27 Butler Street\, Waterbury VT 05676 27 Butler Street:geo:-72.758128,44.3426233
END:VEVENT
BEGIN:VEVENT
DTSTART;TZID=America/New_York:20250118T200000
DTEND;TZID=America/New_York:20250119T000000
DTSTAMP:20260425T084903
CREATED:20250115T123850Z
LAST-MODIFIED:20250118T132320Z
UID:10007546-1737230400-1737244800@mrvvillage.com
SUMMARY:OG Afroman performing with Mister Burns and MightyCeej
DESCRIPTION:Yes\, THE Afroman is coming to Vermont!🙌 Saturday\, January 18th right here in Waitsfield! \nFeaturing special guests @misterburnsvt & @mightyceej. Bring your appetite too as Peace Burger will be slinging smashburgers\, fries\, chicken fingers and more for your eating delight. \nDoors at 8pm – $40 tickets – 21+ – See you there! \nWHERE: afterthoughts – the new bar/venue above Valley Meade Dispensary. \nCome check it out!
URL:https://mrvvillage.com/event/og-afroman-performing-with-mister-burns-and-mightyceej/
LOCATION:afterthoughts\, 8 Vt Route 17 200\, Waitsfield\, Vermont\, 05673\, United States
CATEGORIES:Arts & Entertainment,Live Music,Ticketed Event
ATTACH;FMTTYPE=image/jpeg:https://mrvvillage.com/wp-content/uploads/2025/01/afroman-i5KZ5o.tmp_.jpg
ORGANIZER;CN="afterthoughts":MAILTO:hello@afterthoughtsvt.com
GEO:44.181648;-72.8405231
X-APPLE-STRUCTURED-LOCATION;VALUE=URI;X-ADDRESS=afterthoughts 8 Vt Route 17 200 Waitsfield Vermont 05673 United States;X-APPLE-RADIUS=500;X-TITLE=8 Vt Route 17 200:geo:-72.8405231,44.181648
END:VEVENT
BEGIN:VEVENT
DTSTART;TZID=America/New_York:20250124T180000
DTEND;TZID=America/New_York:20250124T190000
DTSTAMP:20260425T084903
CREATED:20241226T195530Z
LAST-MODIFIED:20250124T145322Z
UID:10007438-1737741600-1737745200@mrvvillage.com
SUMMARY:Dinner with Dayna Lorentz at Inklings Children’s Books!
DESCRIPTION:Join award-winning author\, Dayna Lorentz\, for a reading from her riveting middle grade book\, “Wayward Creatures.” Following the reading\, Dayna will answer questions from children. She’ll also share insight into how she approaches her writing – all while enjoying delicious food!! \nRegistration is FREE. Only 20 seats are available. Please RSVP at inklingschildrensbooks@gmail.com \nPurchase a copy of “Wayward Creatures” in advance\, using the event link! \nDate: January 24th\, 6:00pm – 7:00pm\nLocation: Inklings Children’s Books\nDinner: Provided
URL:https://mrvvillage.com/event/dinner-with-dayna-lorentz-at-inklings-childrens-books/
LOCATION:Inklings Children’s Books\, 106 Mad River Greeen\, Waitsfield\, VT\, 05673\, United States
CATEGORIES:Family Friendly,Food & Drink,Ticketed Event
ATTACH;FMTTYPE=image/jpeg:https://mrvvillage.com/wp-content/uploads/2024/12/Dayna-Lorentz-Visit-MRV-iWNgiL.tmp_.jpg
ORGANIZER;CN="Inklings%20Children%26%238217%3Bs%20Books":MAILTO:inklingschildrensbooks@gmail.com
GEO:44.1844899;-72.839037
X-APPLE-STRUCTURED-LOCATION;VALUE=URI;X-ADDRESS=Inklings Children’s Books 106 Mad River Greeen Waitsfield VT 05673 United States;X-APPLE-RADIUS=500;X-TITLE=106 Mad River Greeen:geo:-72.839037,44.1844899
END:VEVENT
END:VCALENDAR