BEGIN:VCALENDAR
VERSION:2.0
PRODID:-//The Mad River Valley Village - ECPv6.0.13//NONSGML v1.0//EN
CALSCALE:GREGORIAN
METHOD:PUBLISH
X-WR-CALNAME:The Mad River Valley Village
X-ORIGINAL-URL:https://mrvvillage.com
X-WR-CALDESC:Events for The Mad River Valley Village
REFRESH-INTERVAL;VALUE=DURATION:PT1H
X-Robots-Tag:noindex
X-PUBLISHED-TTL:PT1H
BEGIN:VTIMEZONE
TZID:America/New_York
BEGIN:DAYLIGHT
TZOFFSETFROM:-0500
TZOFFSETTO:-0400
TZNAME:EDT
DTSTART:20240310T070000
END:DAYLIGHT
BEGIN:STANDARD
TZOFFSETFROM:-0400
TZOFFSETTO:-0500
TZNAME:EST
DTSTART:20241103T060000
END:STANDARD
END:VTIMEZONE
BEGIN:VEVENT
DTSTART;TZID=America/New_York:20241216T000000
DTEND;TZID=America/New_York:20241220T235959
DTSTAMP:20260425T171802
CREATED:20241209T182401Z
LAST-MODIFIED:20241216T195315Z
UID:10007249-1734307200-1734739199@mrvvillage.com
SUMMARY:Valley Ski and Ride Week
DESCRIPTION:Start your season strong with Valley Ski & Ride Week\, a five-day program designed for adult skiers and riders of all abilities (except first timers—we’ve got programs just for you!). From December 16–20\, enjoy top-tier professional instruction tailored to help you fine-tune your technique or master a new skill set. Beyond the clinics\, this week is all about camaraderie—connecting with fellow skiers and riders who share your passion for the slopes. To top it all off\, join us for a special après gathering on Thursday at 4 PM to celebrate your progress and toast to the season. Be Better Here this winter.
URL:https://mrvvillage.com/event/valley-ski-and-ride-week/
LOCATION:Lincoln Peak\, 102 Forest Drive\, Warren\, VT 05674\, USA
CATEGORIES:Adult Ski School,Sports & Recreation,Sugarbush,Ticketed Event
ATTACH;FMTTYPE=image/jpeg:https://mrvvillage.com/wp-content/uploads/2024/12/Valley-Ski-and-Ride-Week-vEUWvU.tmp_.jpg
GEO:44.1359019;-72.8944139
X-APPLE-STRUCTURED-LOCATION;VALUE=URI;X-ADDRESS=Lincoln Peak 102 Forest Drive Warren VT 05674 USA;X-APPLE-RADIUS=500;X-TITLE=102 Forest Drive\, Warren\, VT 05674\, USA:geo:-72.8944139,44.1359019
END:VEVENT
BEGIN:VEVENT
DTSTART;TZID=America/New_York:20241221T193000
DTEND;TZID=America/New_York:20241221T210000
DTSTAMP:20260425T171802
CREATED:20241209T182419Z
LAST-MODIFIED:20241221T202317Z
UID:10007251-1734809400-1734814800@mrvvillage.com
SUMMARY:Onion River Chorus winter concerts
DESCRIPTION:In a program featuring “Frostiana” by American composer Randall Thompson\, the Onion River Chorus will be presenting their winter concerts on Dec. 21st and 22nd. There will be a reception following the Sunday concert\, with proceeds to benefit the Montpelier Food Pantry. Onion River Chorus is happy to offer special admission pricing for this concert. Suggested admission is $25 or “pay what you can” at the door. Advance tickets are available at sevendaystickets.com for $25 only. As always\, 18 and under are free. \nThe 60-member chorus\, now directed by Richard Riley\, has presented unique programs for 45 years. In this concert\, the chorus presents a typically diverse program with not only “Frostiana”\, which is one of the most frequently-performed choral masterworks of the 20th century\, but also two masterworks from 2010 by the Latvian composer Erik Esenwalds. The concert will also include three settings of the text “Ave Maris Stella” (“Hail\, Star of the Sea”)\, as well as Thompson’s most famous work\, “Alleluia\,” first sung at the Tanglewood Music Festival in 1940. Lynnette Combs\, long time friend and accompanist of the Onion River Chorus\, will accompany the chorus on piano in “Frostiana” and other works. \n“This program will be a unique opportunity for those in the audience to travel musically to territory both near and far\,” says Riley. “I love the freshness of the poems by Robert Frost that underscore ‘Frostiana.’ We remember almost all of them\, but are reminded how timeless they remain.” In addition to music from the U.S. and Latvia\, the concert program will also take the audience to Italy and Norway. \nFor more info visit onionriverchorus.org or call 802.476.2541.
URL:https://mrvvillage.com/event/onion-river-chorus-winter-concerts/
LOCATION:Unitarian Church of Montpelier\, 130 Main Street\, Montpelier\, Vermont\, 05602\, United States
CATEGORIES:Arts & Entertainment,Live Music,Ticketed Event
ATTACH;FMTTYPE=image/jpeg:https://mrvvillage.com/wp-content/uploads/2024/12/Richard_Riley_small-EJUQ5A.tmp_.jpg
ORGANIZER;CN="Onion%20River%20Chorus":MAILTO:griffinsuter@hotmail.com
GEO:44.2615398;-72.5746765
X-APPLE-STRUCTURED-LOCATION;VALUE=URI;X-ADDRESS=Unitarian Church of Montpelier 130 Main Street Montpelier Vermont 05602 United States;X-APPLE-RADIUS=500;X-TITLE=130 Main Street:geo:-72.5746765,44.2615398
END:VEVENT
BEGIN:VEVENT
DTSTART;TZID=America/New_York:20241222T193000
DTEND;TZID=America/New_York:20241222T210000
DTSTAMP:20260425T171802
CREATED:20241209T182422Z
LAST-MODIFIED:20241222T203816Z
UID:10007253-1734895800-1734901200@mrvvillage.com
SUMMARY:Onion River Chorus winter concerts
DESCRIPTION:In a program featuring “Frostiana” by American composer Randall Thompson\, the Onion River Chorus will be presenting their winter concerts on Dec. 21st and 22nd. There will be a reception following the Sunday concert\, with proceeds to benefit the Montpelier Food Pantry. Onion River Chorus is happy to offer special admission pricing for this concert. Suggested admission is $25 or “pay what you can” at the door. Advance tickets are available at sevendaystickets.com for $25 only. As always\, 18 and under are free. \nThe 60-member chorus\, now directed by Richard Riley\, has presented unique programs for 45 years. In this concert\, the chorus presents a typically diverse program with not only “Frostiana”\, which is one of the most frequently-performed choral masterworks of the 20th century\, but also two masterworks from 2010 by the Latvian composer Erik Esenwalds. The concert will also include three settings of the text “Ave Maris Stella” (“Hail\, Star of the Sea”)\, as well as Thompson’s most famous work\, “Alleluia\,” first sung at the Tanglewood Music Festival in 1940. Lynnette Combs\, long time friend and accompanist of the Onion River Chorus\, will accompany the chorus on piano in “Frostiana” and other works. \n“This program will be a unique opportunity for those in the audience to travel musically to territory both near and far\,” says Riley. “I love the freshness of the poems by Robert Frost that underscore ‘Frostiana.’ We remember almost all of them\, but are reminded how timeless they remain.” In addition to music from the U.S. and Latvia\, the concert program will also take the audience to Italy and Norway. \nFor more info visit onionriverchorus.org or call 802.476.2541.
URL:https://mrvvillage.com/event/onion-river-chorus-winter-concerts-3/
LOCATION:Unitarian Church of Montpelier\, 130 Main Street\, Montpelier\, Vermont\, 05602\, United States
CATEGORIES:Arts & Entertainment,Live Music,Ticketed Event
ATTACH;FMTTYPE=image/jpeg:https://mrvvillage.com/wp-content/uploads/2024/12/Richard_Riley_small-EJUQ5A.tmp_.jpg
ORGANIZER;CN="Onion%20River%20Chorus":MAILTO:griffinsuter@hotmail.com
GEO:44.2615398;-72.5746765
X-APPLE-STRUCTURED-LOCATION;VALUE=URI;X-ADDRESS=Unitarian Church of Montpelier 130 Main Street Montpelier Vermont 05602 United States;X-APPLE-RADIUS=500;X-TITLE=130 Main Street:geo:-72.5746765,44.2615398
END:VEVENT
END:VCALENDAR