BEGIN:VCALENDAR
VERSION:2.0
PRODID:-//The Mad River Valley Village - ECPv6.0.13//NONSGML v1.0//EN
CALSCALE:GREGORIAN
METHOD:PUBLISH
X-WR-CALNAME:The Mad River Valley Village
X-ORIGINAL-URL:https://mrvvillage.com
X-WR-CALDESC:Events for The Mad River Valley Village
REFRESH-INTERVAL;VALUE=DURATION:PT1H
X-Robots-Tag:noindex
X-PUBLISHED-TTL:PT1H
BEGIN:VTIMEZONE
TZID:America/New_York
BEGIN:DAYLIGHT
TZOFFSETFROM:-0500
TZOFFSETTO:-0400
TZNAME:EDT
DTSTART:20230312T070000
END:DAYLIGHT
BEGIN:STANDARD
TZOFFSETFROM:-0400
TZOFFSETTO:-0500
TZNAME:EST
DTSTART:20231105T060000
END:STANDARD
END:VTIMEZONE
BEGIN:VEVENT
DTSTART;TZID=America/New_York:20231001T150000
DTEND;TZID=America/New_York:20231001T170000
DTSTAMP:20260425T085014
CREATED:20230901T222848Z
LAST-MODIFIED:20231001T165330Z
UID:10005118-1696172400-1696179600@mrvvillage.com
SUMMARY:Summer Sundays: Bob Recupero
DESCRIPTION:Music for your ears and soul.
URL:https://mrvvillage.com/event/summer-sundays-bob-recupero/
LOCATION:Lawson’s Finest Taproom\, 155 Carroll Road\, Waitsfield\, Vermont\, 05673
CATEGORIES:At the Brewery,Tuesday Tunes,Vermont
ATTACH;FMTTYPE=image/png:https://mrvvillage.com/wp-content/uploads/2023/05/Screen-Shot-2023-02-20-at-6.18.01-PM-Iaw0Y6.tmp_-RxziU2.tmp_.png
ORGANIZER;CN="Lawson%26%238217%3Bs%20Finest%20Liquids":MAILTO:hello@lawsonsfinest.com
GEO:44.1878437;-72.8352541
X-APPLE-STRUCTURED-LOCATION;VALUE=URI;X-ADDRESS=Lawson’s Finest Taproom 155 Carroll Road Waitsfield Vermont 05673;X-APPLE-RADIUS=500;X-TITLE=155 Carroll Road:geo:-72.8352541,44.1878437
END:VEVENT
BEGIN:VEVENT
DTSTART;TZID=America/New_York:20231008T150000
DTEND;TZID=America/New_York:20231008T170000
DTSTAMP:20260425T085014
CREATED:20230909T104157Z
LAST-MODIFIED:20231008T180822Z
UID:10005164-1696777200-1696784400@mrvvillage.com
SUMMARY:Summer Sundays: Children of Divorce
DESCRIPTION:That’s right\, we’re doing Summer Sundays into October. We’ve earned it. \nChildren of Divorce is what happens when you get three femme songwriters who love Taylor Swift and Harry Styles together. Genevieve Libien\, Katie Yeager and Finn O’Sullivan met while studying music in college and found that they all like singing about queer love\, sh**ty men\, and the objects of their fandoms.
URL:https://mrvvillage.com/event/summer-sundays-children-of-divorce/
LOCATION:Lawson’s Finest Taproom\, 155 Carroll Road\, Waitsfield\, Vermont\, 05673
CATEGORIES:At the Brewery,Tuesday Tunes,Vermont
ATTACH;FMTTYPE=image/png:https://mrvvillage.com/wp-content/uploads/2023/09/Screen-Shot-2023-08-30-at-11.32.58-AM-FGk0jW.tmp_-NSE7NI.tmp_.png
ORGANIZER;CN="Lawson%26%238217%3Bs%20Finest%20Liquids":MAILTO:hello@lawsonsfinest.com
GEO:44.1878437;-72.8352541
X-APPLE-STRUCTURED-LOCATION;VALUE=URI;X-ADDRESS=Lawson’s Finest Taproom 155 Carroll Road Waitsfield Vermont 05673;X-APPLE-RADIUS=500;X-TITLE=155 Carroll Road:geo:-72.8352541,44.1878437
END:VEVENT
BEGIN:VEVENT
DTSTART;TZID=America/New_York:20231010T170000
DTEND;TZID=America/New_York:20231010T190000
DTSTAMP:20260425T085014
CREATED:20230928T162450Z
LAST-MODIFIED:20231010T184056Z
UID:10005276-1696957200-1696964400@mrvvillage.com
SUMMARY:Tuesday Tunes: Twangtown Paramours
DESCRIPTION:The music of The Twangtown Paramours has been called “Sophisticated Americana”\, and is a hybrid of the Nashville and Austin music scenes. This husband ‘n wife acoustic duo is known for their well-crafted and award-winning songs\, top-notch lead singing\, and fine harmonies.
URL:https://mrvvillage.com/event/tuesday-tunes-twangtown-paramours/
LOCATION:Lawson’s Finest Taproom\, 155 Carroll Road\, Waitsfield\, Vermont\, 05673
CATEGORIES:At the Brewery,Tuesday Tunes,Vermont
ATTACH;FMTTYPE=image/png:https://mrvvillage.com/wp-content/uploads/2023/09/Screen-Shot-2021-08-31-at-12.32.34-PM-KmwMPX.tmp_-AgTcfd.tmp_.png
ORGANIZER;CN="Lawson%26%238217%3Bs%20Finest%20Liquids":MAILTO:hello@lawsonsfinest.com
GEO:44.1878437;-72.8352541
X-APPLE-STRUCTURED-LOCATION;VALUE=URI;X-ADDRESS=Lawson’s Finest Taproom 155 Carroll Road Waitsfield Vermont 05673;X-APPLE-RADIUS=500;X-TITLE=155 Carroll Road:geo:-72.8352541,44.1878437
END:VEVENT
BEGIN:VEVENT
DTSTART;TZID=America/New_York:20231014T090000
DTEND;TZID=America/New_York:20231014T110000
DTSTAMP:20260425T085014
CREATED:20231014T160816Z
LAST-MODIFIED:20231014T193815Z
UID:10005377-1697274000-1697281200@mrvvillage.com
SUMMARY:Climate and Ecology Series: Foliage Hike
DESCRIPTION:The Friends of the Mad River is excited to launch its new series\, “Climate and Ecology”! Join us for a foliage hike while learning all about the ways that climate change is impacting our trees and forests. This is the first in a series of monthly outdoor adventures that focuses on how our watershed and ecosystem are changing as a result of our changing climate. \nBring shoes or boots for hiking moderate trails\, clothing appropriate for the weather\, water bottle and snacks. Contact luke@friendsofthemadriver.org to let us know if you plan to attend. \nNote: Some of our future climate and ecology events will be specifically designed for children and families. The content and style of this excursion may not be suitable for people of all ages and pets.
URL:https://mrvvillage.com/event/climate-and-ecology-series-foliage-hike/
LOCATION:The Sweet Spot\, 1178 Senor Road\, Warren\, Vermont\, 05674\, United States
CATEGORIES:Community,Special Events,Vermont
ATTACH;FMTTYPE=image/png:https://mrvvillage.com/wp-content/uploads/2023/10/Climate-Ecology-Series_with_logo-min-qVbuHa.tmp_.png
GEO:44.0916055;-72.8200258
X-APPLE-STRUCTURED-LOCATION;VALUE=URI;X-ADDRESS=The Sweet Spot 1178 Senor Road Warren Vermont 05674 United States;X-APPLE-RADIUS=500;X-TITLE=1178 Senor Road:geo:-72.8200258,44.0916055
END:VEVENT
BEGIN:VEVENT
DTSTART;TZID=America/New_York:20231017T170000
DTEND;TZID=America/New_York:20231017T190000
DTSTAMP:20260425T085014
CREATED:20231006T173925Z
LAST-MODIFIED:20231017T200831Z
UID:10005352-1697562000-1697569200@mrvvillage.com
SUMMARY:Tuesday Tunes: Hot Pick’n Party
DESCRIPTION:Doug Perkins and company are going to throw down some hot grass at the Taproom for the first time!
URL:https://mrvvillage.com/event/tuesday-tunes-hot-pickn-party/
LOCATION:Lawson’s Finest Taproom\, 155 Carroll Road\, Waitsfield\, Vermont\, 05673
CATEGORIES:At the Brewery,Tuesday Tunes,Vermont
ATTACH;FMTTYPE=image/png:https://mrvvillage.com/wp-content/uploads/2023/10/Screen-Shot-2023-10-05-at-1.58.41-PM-FSMqsK.tmp_-Twz1Ng.tmp_.png
ORGANIZER;CN="Lawson%26%238217%3Bs%20Finest%20Liquids":MAILTO:hello@lawsonsfinest.com
GEO:44.1878437;-72.8352541
X-APPLE-STRUCTURED-LOCATION;VALUE=URI;X-ADDRESS=Lawson’s Finest Taproom 155 Carroll Road Waitsfield Vermont 05673;X-APPLE-RADIUS=500;X-TITLE=155 Carroll Road:geo:-72.8352541,44.1878437
END:VEVENT
BEGIN:VEVENT
DTSTART;TZID=America/New_York:20231024T170000
DTEND;TZID=America/New_York:20231024T190000
DTSTAMP:20260425T085014
CREATED:20231006T173942Z
LAST-MODIFIED:20231024T215345Z
UID:10005353-1698166800-1698174000@mrvvillage.com
SUMMARY:Tuesday Tunes: Fun Dip
DESCRIPTION:Bob Brookens and Fun Dip bring Americana\, honky tonk\, pedal steel/banjo/fiddle\, guitar and bass to the Taproom. Genres also adapted for instrumentation. Dip into the fun for a foot stompin’ good time.
URL:https://mrvvillage.com/event/tuesday-tunes-fun-dip/
LOCATION:Lawson’s Finest Taproom\, 155 Carroll Road\, Waitsfield\, Vermont\, 05673
CATEGORIES:At the Brewery,Tuesday Tunes,Vermont
ATTACH;FMTTYPE=image/jpeg:https://mrvvillage.com/wp-content/uploads/2023/10/ED424AD4-EA40-4644-8569-CB3CED9E005E-scaled-HJywv4.tmp_-e9sL1h.tmp_.jpg
ORGANIZER;CN="Lawson%26%238217%3Bs%20Finest%20Liquids":MAILTO:hello@lawsonsfinest.com
GEO:44.1878437;-72.8352541
X-APPLE-STRUCTURED-LOCATION;VALUE=URI;X-ADDRESS=Lawson’s Finest Taproom 155 Carroll Road Waitsfield Vermont 05673;X-APPLE-RADIUS=500;X-TITLE=155 Carroll Road:geo:-72.8352541,44.1878437
END:VEVENT
END:VCALENDAR