BEGIN:VCALENDAR
VERSION:2.0
PRODID:-//The Mad River Valley Village - ECPv6.0.13//NONSGML v1.0//EN
CALSCALE:GREGORIAN
METHOD:PUBLISH
X-WR-CALNAME:The Mad River Valley Village
X-ORIGINAL-URL:https://mrvvillage.com
X-WR-CALDESC:Events for The Mad River Valley Village
REFRESH-INTERVAL;VALUE=DURATION:PT1H
X-Robots-Tag:noindex
X-PUBLISHED-TTL:PT1H
BEGIN:VTIMEZONE
TZID:America/New_York
BEGIN:DAYLIGHT
TZOFFSETFROM:-0500
TZOFFSETTO:-0400
TZNAME:EDT
DTSTART:20230312T070000
END:DAYLIGHT
BEGIN:STANDARD
TZOFFSETFROM:-0400
TZOFFSETTO:-0500
TZNAME:EST
DTSTART:20231105T060000
END:STANDARD
END:VTIMEZONE
BEGIN:VEVENT
DTSTART;TZID=America/New_York:20230615T170000
DTEND;TZID=America/New_York:20230615T190000
DTSTAMP:20260422T133040
CREATED:20230514T191221Z
LAST-MODIFIED:20230615T133817Z
UID:10003948-1686848400-1686855600@mrvvillage.com
SUMMARY:Thursday Tunes: The Rollin’ Rust
DESCRIPTION:The Rollin’ Rust is an indie/folk group from the foothills of Central New York. Being led by singer-songwriter James VanDeuson\, The Rollin’ Rust celebrates the distinguished writing style of a vagabond folk artist. Joined by his talented friends\, Jim Hearn (lead guitarist) and Kyle Dennis (percussion) James’ songs now have a distinct edginess to them\, sounding almost as if you took a classic folk song and corrupted its mind with years of crazed festivals and long nights in smoky southern bar rooms. The Rollin’ Rust boys have been playing music together since they were just teenagers\, crafting a truly unique sound that could only be formed by such long-lasting friendship and intimate evenings with the highway itself.
URL:https://mrvvillage.com/event/tuesday-tunes-the-rollin-rust-2/
LOCATION:Lawson’s Finest Taproom\, 155 Carroll Road\, Waitsfield\, Vermont\, 05673
CATEGORIES:At the Brewery,Tuesday Tunes,Vermont
ATTACH;FMTTYPE=image/jpeg:https://mrvvillage.com/wp-content/uploads/2023/05/RR-Promo-2-scaled-yyHPBn.tmp_-OEN1KJ.tmp_.jpg
ORGANIZER;CN="Lawson%26%238217%3Bs%20Finest%20Liquids":MAILTO:hello@lawsonsfinest.com
GEO:44.1878437;-72.8352541
X-APPLE-STRUCTURED-LOCATION;VALUE=URI;X-ADDRESS=Lawson’s Finest Taproom 155 Carroll Road Waitsfield Vermont 05673;X-APPLE-RADIUS=500;X-TITLE=155 Carroll Road:geo:-72.8352541,44.1878437
END:VEVENT
BEGIN:VEVENT
DTSTART;TZID=America/New_York:20230613T170000
DTEND;TZID=America/New_York:20230613T190000
DTSTAMP:20260422T133040
CREATED:20230425T223837Z
LAST-MODIFIED:20230516T225346Z
UID:10003726-1686675600-1686682800@mrvvillage.com
SUMMARY:Tuesday Tunes: The Rollin’ Rust
DESCRIPTION:The Rollin’ Rust is an indie/folk group from the foothills of Central New York. Being led by singer-songwriter James VanDeuson\, The Rollin’ Rust celebrates the distinguished writing style of a vagabond folk artist. Joined by his talented friends\, Jim Hearn (lead guitarist) and Kyle Dennis (percussion) James’ songs now have a distinct edginess to them\, sounding almost as if you took a classic folk song and corrupted its mind with years of crazed festivals and long nights in smoky southern bar rooms. The Rollin’ Rust boys have been playing music together since they were just teenagers\, crafting a truly unique sound that could only be formed by such long-lasting friendship and intimate evenings with the highway itself.
URL:https://mrvvillage.com/event/tuesday-tunes-the-rollin-rust/
LOCATION:Lawson’s Finest Taproom\, 155 Carroll Road\, Waitsfield\, Vermont\, 05673
CATEGORIES:At the Brewery,Tuesday Tunes,Vermont
ATTACH;FMTTYPE=image/jpeg:https://mrvvillage.com/wp-content/uploads/2022/12/RR-Promo-2-scaled-9Q4Ban.tmp_.jpg
ORGANIZER;CN="Lawson%26%238217%3Bs%20Finest%20Liquids":MAILTO:hello@lawsonsfinest.com
GEO:44.1878437;-72.8352541
X-APPLE-STRUCTURED-LOCATION;VALUE=URI;X-ADDRESS=Lawson’s Finest Taproom 155 Carroll Road Waitsfield Vermont 05673;X-APPLE-RADIUS=500;X-TITLE=155 Carroll Road:geo:-72.8352541,44.1878437
END:VEVENT
BEGIN:VEVENT
DTSTART;TZID=America/New_York:20230613T000000
DTEND;TZID=America/New_York:20230613T235959
DTSTAMP:20260422T133040
CREATED:20230524T214050Z
LAST-MODIFIED:20230613T130814Z
UID:10004004-1686614400-1686700799@mrvvillage.com
SUMMARY:Snow Farm Vineyard Hike and Sip
DESCRIPTION:Join Women Owning Woodlands Vermont for a hike and sip at the Snow Farm Vineyard in South Hero on Tuesday June 13th from 2-5 in the afternoon. We will have a chance to walk a short vineyard trail past the deer exclosure and into the sugarbush to discuss both pest management and sugarbush management\, then back to the shop for a tasting and sharing of goals and dreams for forest health and restoration.
URL:https://mrvvillage.com/event/snow-farm-vineyard-hike-and-sip/
LOCATION:Snow Farm Vineyard in South Hero VT\, Snow Farm Vineyard\, South Hero\, VT\, 05674\, United States
CATEGORIES:Vermont
ATTACH;FMTTYPE=image/jpeg:https://mrvvillage.com/wp-content/uploads/2023/05/SnowfarmVineyard-E0HBKj.tmp_.jpg
GEO:44.118347;-72.8576681
X-APPLE-STRUCTURED-LOCATION;VALUE=URI;X-ADDRESS=Snow Farm Vineyard in South Hero VT Snow Farm Vineyard South Hero VT 05674 United States;X-APPLE-RADIUS=500;X-TITLE=Snow Farm Vineyard:geo:-72.8576681,44.118347
END:VEVENT
BEGIN:VEVENT
DTSTART;TZID=America/New_York:20230611T150000
DTEND;TZID=America/New_York:20230611T170000
DTSTAMP:20260422T133040
CREATED:20230512T184234Z
LAST-MODIFIED:20230611T123920Z
UID:10003942-1686495600-1686502800@mrvvillage.com
SUMMARY:Summer Sundays: The Dale & Darcy Band
DESCRIPTION:The Dale and Darcy band is composed of veteran acoustic musicians who play together at farmer’s markets\, fairs\, fes­tivals\, weddings\, in bars and taverns and anywhere people appreciate a lively tune. \nTheir music is clean\, crisp and clear. They have entertained guests every Saturday at The Von Trapp Family Brewery and Bakery for the past five summers and it is during that time that they developed the sweet harmonies  and uncomplicated tunes you will find on their album. The tenor banjo\, fiddles\, mandolin\, guitar and vocals create a sound that is pleasing to listen to\, to dance to or to have playing quietly in the background. While some of the tunes are familiar favorites\, others are simply their favorites\, the tunes that have made a lasting impression on us all.
URL:https://mrvvillage.com/event/summer-sundays-the-dale-darcy-band/
LOCATION:Lawson’s Finest Taproom\, 155 Carroll Road\, Waitsfield\, Vermont\, 05673
CATEGORIES:At the Brewery,Tuesday Tunes,Vermont
ATTACH;FMTTYPE=image/jpeg:https://mrvvillage.com/wp-content/uploads/2023/05/The-Jig-in-The-Valley-scaled-0iWPJ6.tmp_-1LxF5M.tmp_.jpg
ORGANIZER;CN="Lawson%26%238217%3Bs%20Finest%20Liquids":MAILTO:hello@lawsonsfinest.com
GEO:44.1878437;-72.8352541
X-APPLE-STRUCTURED-LOCATION;VALUE=URI;X-ADDRESS=Lawson’s Finest Taproom 155 Carroll Road Waitsfield Vermont 05673;X-APPLE-RADIUS=500;X-TITLE=155 Carroll Road:geo:-72.8352541,44.1878437
END:VEVENT
BEGIN:VEVENT
DTSTART;TZID=America/New_York:20230608T170000
DTEND;TZID=America/New_York:20230608T190000
DTSTAMP:20260422T133040
CREATED:20230510T011232Z
LAST-MODIFIED:20230608T120819Z
UID:10003914-1686243600-1686250800@mrvvillage.com
SUMMARY:Thursday Tunes: Bettenroo
DESCRIPTION:Bettenroo is a dynamic\, versatile musical duo with undeniable vocal strength. Lori Jacobs & Anne Davey‘s flawlessly blended harmony is complemented with instrumental versatility of guitar\, bass\, and occasional percussion. \nBased in Delaware & Vermont\, Bettenroo performs in the US and beyond. They have been featured on Freeman Stage (a host to many national acts like Alison Kraus\, Chicago\, Melissa Etheridge\, etc)\, Milton Theatre\, WBOC’s Delmarva Life\, Florida’s Gulf Coast & Keys\, Ladybug Festival\, New England as well as venues in New Zealand\, Australia\, Ireland\, Costa Rica and Belize. Audiences can’t help but become an integral part of Anne and Lori’s passionate musical delivery. Check out Bettenroo’s CD ‘Live Out Loud‘.
URL:https://mrvvillage.com/event/thursday-tunes-bettenroo-2/
LOCATION:Lawson’s Finest Taproom\, 155 Carroll Road\, Waitsfield\, Vermont\, 05673
CATEGORIES:At the Brewery,Tuesday Tunes,Vermont
ATTACH;FMTTYPE=image/png:https://mrvvillage.com/wp-content/uploads/2023/05/Screen-Shot-2023-04-20-at-4.03.15-PM-UFN6fj.tmp_-o8tHye.tmp_.png
ORGANIZER;CN="Lawson%26%238217%3Bs%20Finest%20Liquids":MAILTO:hello@lawsonsfinest.com
GEO:44.1878437;-72.8352541
X-APPLE-STRUCTURED-LOCATION;VALUE=URI;X-ADDRESS=Lawson’s Finest Taproom 155 Carroll Road Waitsfield Vermont 05673;X-APPLE-RADIUS=500;X-TITLE=155 Carroll Road:geo:-72.8352541,44.1878437
END:VEVENT
BEGIN:VEVENT
DTSTART;TZID=America/New_York:20230608T170000
DTEND;TZID=America/New_York:20230608T190000
DTSTAMP:20260422T133040
CREATED:20230425T223829Z
LAST-MODIFIED:20230516T225346Z
UID:10003725-1686243600-1686250800@mrvvillage.com
SUMMARY:Thursday Tunes: Bettenroo
DESCRIPTION:Bettenroo is a dynamic\, versatile musical duo with undeniable vocal strength. Lori Jacobs & Anne Davey‘s flawlessly blended harmony is complemented with instrumental versatility of guitar\, bass\, and occasional percussion. \nBased in Delaware & Vermont\, Bettenroo performs in the US and beyond. They have been featured on Freeman Stage (a host to many national acts like Alison Kraus\, Chicago\, Melissa Etheridge\, etc)\, Milton Theatre\, WBOC’s Delmarva Life\, Florida’s Gulf Coast & Keys\, Ladybug Festival\, New England as well as venues in New Zealand\, Australia\, Ireland\, Costa Rica and Belize. Audiences can’t help but become an integral part of Anne and Lori’s passionate musical delivery. Check out Bettenroo’s CD ‘Live Out Loud‘.
URL:https://mrvvillage.com/event/thursday-tunes-bettenroo/
LOCATION:Lawson’s Finest Taproom\, 155 Carroll Road\, Waitsfield\, Vermont\, 05673
CATEGORIES:At the Brewery,Tuesday Tunes,Vermont
ATTACH;FMTTYPE=image/png:https://mrvvillage.com/wp-content/uploads/2023/04/Screen-Shot-2023-04-20-at-4.03.15-PM-Xtu8Ga.tmp_.png
ORGANIZER;CN="Lawson%26%238217%3Bs%20Finest%20Liquids":MAILTO:hello@lawsonsfinest.com
GEO:44.1878437;-72.8352541
X-APPLE-STRUCTURED-LOCATION;VALUE=URI;X-ADDRESS=Lawson’s Finest Taproom 155 Carroll Road Waitsfield Vermont 05673;X-APPLE-RADIUS=500;X-TITLE=155 Carroll Road:geo:-72.8352541,44.1878437
END:VEVENT
BEGIN:VEVENT
DTSTART;TZID=America/New_York:20230604T150000
DTEND;TZID=America/New_York:20230604T170000
DTSTAMP:20260422T133040
CREATED:20230505T165759Z
LAST-MODIFIED:20230604T235313Z
UID:10003869-1685890800-1685898000@mrvvillage.com
SUMMARY:Summer Sundays: Breanna Elaine
DESCRIPTION:Breanna Elaine is a full time musician\, singer/songwriter based out of Vermont. Her first studio album “Seedlings” is currently in progress and is set to be released January 2023. Breanna’s music is dripping with plenty of earthy folk sounds\, but also has undertones of rock\, bluegrass and even punk. She performs a mix of originals as well as a wide array of covers on both guitar and banjo. Comparisons have included singer/songwriter Jewel\, as well as legends Alanis Morissette and Stevie Nicks. Breanna is recognized around Vermont and surrounding areas for her unique sound and songwriting talent. With over 100 original songs that have still yet to be recorded\, this is just the beginning for Breanna Elaine\, a true star on the rise.
URL:https://mrvvillage.com/event/summer-sundays-breanna-elaine-2/
LOCATION:Lawson’s Finest Taproom\, 155 Carroll Road\, Waitsfield\, Vermont\, 05673
CATEGORIES:At the Brewery,Tuesday Tunes,Vermont
ATTACH;FMTTYPE=image/jpeg:https://mrvvillage.com/wp-content/uploads/2023/05/Breanna-Elaine-128-scaled-4u4uap.tmp_-XLhA9z.tmp_.jpg
ORGANIZER;CN="Lawson%26%238217%3Bs%20Finest%20Liquids":MAILTO:hello@lawsonsfinest.com
GEO:44.1878437;-72.8352541
X-APPLE-STRUCTURED-LOCATION;VALUE=URI;X-ADDRESS=Lawson’s Finest Taproom 155 Carroll Road Waitsfield Vermont 05673;X-APPLE-RADIUS=500;X-TITLE=155 Carroll Road:geo:-72.8352541,44.1878437
END:VEVENT
BEGIN:VEVENT
DTSTART;TZID=America/New_York:20230604T150000
DTEND;TZID=America/New_York:20230604T170000
DTSTAMP:20260422T133040
CREATED:20230425T223828Z
LAST-MODIFIED:20230516T225345Z
UID:10003724-1685890800-1685898000@mrvvillage.com
SUMMARY:Summer Sundays: Breanna Elaine
DESCRIPTION:Breanna Elaine is a full time musician\, singer/songwriter based out of Vermont. Her first studio album “Seedlings” is currently in progress and is set to be released January 2023. Breanna’s music is dripping with plenty of earthy folk sounds\, but also has undertones of rock\, bluegrass and even punk. She performs a mix of originals as well as a wide array of covers on both guitar and banjo. Comparisons have included singer/songwriter Jewel\, as well as legends Alanis Morissette and Stevie Nicks. Breanna is recognized around Vermont and surrounding areas for her unique sound and songwriting talent. With over 100 original songs that have still yet to be recorded\, this is just the beginning for Breanna Elaine\, a true star on the rise.
URL:https://mrvvillage.com/event/summer-sundays-breanna-elaine/
LOCATION:Lawson’s Finest Taproom\, 155 Carroll Road\, Waitsfield\, Vermont\, 05673
CATEGORIES:At the Brewery,Tuesday Tunes,Vermont
ATTACH;FMTTYPE=image/jpeg:https://mrvvillage.com/wp-content/uploads/2022/12/Breanna-Elaine-128-scaled-WwwIMn.tmp_.jpg
ORGANIZER;CN="Lawson%26%238217%3Bs%20Finest%20Liquids":MAILTO:hello@lawsonsfinest.com
GEO:44.1878437;-72.8352541
X-APPLE-STRUCTURED-LOCATION;VALUE=URI;X-ADDRESS=Lawson’s Finest Taproom 155 Carroll Road Waitsfield Vermont 05673;X-APPLE-RADIUS=500;X-TITLE=155 Carroll Road:geo:-72.8352541,44.1878437
END:VEVENT
BEGIN:VEVENT
DTSTART;TZID=America/New_York:20230522T170000
DTEND;TZID=America/New_York:20230522T190000
DTSTAMP:20260422T133040
CREATED:20230505T165605Z
LAST-MODIFIED:20230522T210816Z
UID:10003861-1684774800-1684782000@mrvvillage.com
SUMMARY:Harwood Union Jazz Band Year-End Performance
DESCRIPTION:Join us at the Lawson’s Finest Taproom for Harwood Union Jazz Band’s year-end performance.
URL:https://mrvvillage.com/event/harwood-union-jazz-band-year-end-performance-2/
LOCATION:Lawson’s Finest Taproom\, 155 Carroll Road\, Waitsfield\, Vermont\, 05673
CATEGORIES:At the Brewery,Tuesday Tunes,Vermont
ATTACH;FMTTYPE=image/png:https://mrvvillage.com/wp-content/uploads/2023/05/52f4d6_1c4315c60d5f48a48bf666fd314dcb81mv2-RwybQ0.tmp_-XI0J2e.tmp_.png
ORGANIZER;CN="Lawson%26%238217%3Bs%20Finest%20Liquids":MAILTO:hello@lawsonsfinest.com
GEO:44.1878437;-72.8352541
X-APPLE-STRUCTURED-LOCATION;VALUE=URI;X-ADDRESS=Lawson’s Finest Taproom 155 Carroll Road Waitsfield Vermont 05673;X-APPLE-RADIUS=500;X-TITLE=155 Carroll Road:geo:-72.8352541,44.1878437
END:VEVENT
BEGIN:VEVENT
DTSTART;TZID=America/New_York:20230522T170000
DTEND;TZID=America/New_York:20230522T190000
DTSTAMP:20260422T133040
CREATED:20230425T223817Z
LAST-MODIFIED:20230516T225331Z
UID:10003720-1684774800-1684782000@mrvvillage.com
SUMMARY:Harwood Union Jazz Band Year-End Performance
DESCRIPTION:Join us at the Lawson’s Finest Taproom for Harwood Union Jazz Band’s year-end performance.
URL:https://mrvvillage.com/event/harwood-union-jazz-band-year-end-performance/
LOCATION:Lawson’s Finest Taproom\, 155 Carroll Road\, Waitsfield\, Vermont\, 05673
CATEGORIES:At the Brewery,Tuesday Tunes,Vermont
ATTACH;FMTTYPE=image/png:https://mrvvillage.com/wp-content/uploads/2023/04/52f4d6_1c4315c60d5f48a48bf666fd314dcb81mv2-aLxfKU.tmp_.png
ORGANIZER;CN="Lawson%26%238217%3Bs%20Finest%20Liquids":MAILTO:hello@lawsonsfinest.com
GEO:44.1878437;-72.8352541
X-APPLE-STRUCTURED-LOCATION;VALUE=URI;X-ADDRESS=Lawson’s Finest Taproom 155 Carroll Road Waitsfield Vermont 05673;X-APPLE-RADIUS=500;X-TITLE=155 Carroll Road:geo:-72.8352541,44.1878437
END:VEVENT
END:VCALENDAR