BEGIN:VCALENDAR
VERSION:2.0
PRODID:-//The Mad River Valley Village - ECPv6.0.13//NONSGML v1.0//EN
CALSCALE:GREGORIAN
METHOD:PUBLISH
X-ORIGINAL-URL:https://mrvvillage.com
X-WR-CALDESC:Events for The Mad River Valley Village
REFRESH-INTERVAL;VALUE=DURATION:PT1H
X-Robots-Tag:noindex
X-PUBLISHED-TTL:PT1H
BEGIN:VTIMEZONE
TZID:America/New_York
BEGIN:DAYLIGHT
TZOFFSETFROM:-0500
TZOFFSETTO:-0400
TZNAME:EDT
DTSTART:20230312T070000
END:DAYLIGHT
BEGIN:STANDARD
TZOFFSETFROM:-0400
TZOFFSETTO:-0500
TZNAME:EST
DTSTART:20231105T060000
END:STANDARD
TZID:America/Halifax
BEGIN:DAYLIGHT
TZOFFSETFROM:-0400
TZOFFSETTO:-0300
TZNAME:ADT
DTSTART:20230312T060000
END:DAYLIGHT
BEGIN:STANDARD
TZOFFSETFROM:-0300
TZOFFSETTO:-0400
TZNAME:AST
DTSTART:20231105T050000
END:STANDARD
END:VTIMEZONE
BEGIN:VEVENT
DTSTART;TZID=America/New_York:20230620T170000
DTEND;TZID=America/New_York:20230620T190000
DTSTAMP:20260424T084906
CREATED:20230425T223837Z
LAST-MODIFIED:20230516T225352Z
UID:10003727-1687280400-1687287600@mrvvillage.com
SUMMARY:Tuesday Tunes: Night Protocol
DESCRIPTION:Night Protocol was formed in Burlington\, Vermont\, and has actively been performing and writing music since 2017. Night Protocol was created to unite the sounds of the past\, present\, and future with a cutting-edge style of electronic music. \nFueled by synthesizers and a devotion to the sounds of the 1980’s\, Night Protocol performs their own blend of electronic music as a live band. \nNight Protocol shows are driven by live analog synthesizers\, pulsing basslines\, ripping guitar solos\, soaring saxophone leads\, and harmonized vocals. Their live show takes a theatrical approach to music performance with coordinated visuals\, lighting effects\, and a contagious sense of passion and energy for the foundations of electronic music.
URL:https://mrvvillage.com/event/tuesday-tunes-night-protocol/
LOCATION:Lawson’s Finest Taproom\, 155 Carroll Road\, Waitsfield\, Vermont\, 05673
CATEGORIES:At the Brewery,Tuesday Tunes,Vermont
ATTACH;FMTTYPE=image/jpeg:https://mrvvillage.com/wp-content/uploads/2023/04/img_32829131_2x-KZG0mO.tmp_.jpg
ORGANIZER;CN="Lawson%26%238217%3Bs%20Finest%20Liquids":MAILTO:hello@lawsonsfinest.com
GEO:44.1878437;-72.8352541
X-APPLE-STRUCTURED-LOCATION;VALUE=URI;X-ADDRESS=Lawson’s Finest Taproom 155 Carroll Road Waitsfield Vermont 05673;X-APPLE-RADIUS=500;X-TITLE=155 Carroll Road:geo:-72.8352541,44.1878437
END:VEVENT
BEGIN:VEVENT
DTSTART;TZID=America/Halifax:20230621T180000
DTEND;TZID=America/Halifax:20230621T210000
DTSTAMP:20260424T084906
CREATED:20230617T092346Z
LAST-MODIFIED:20230621T143816Z
UID:10004124-1687370400-1687381200@mrvvillage.com
SUMMARY:Share the Rays Summer Solstice Event
DESCRIPTION:Celebrate the longest day of the year with our sunshine family of IPAs\, Lawson’s Finest trivia with Sean Lawson\, raffle prizes\, music from DJ Matt Hagen\, and more at Spot on the Dock! At 7 pm we will hop on Instagram Live to kick off the summer with Lawson’s Finest fans across our 9-state territory for a cheers to summer! \nJoin the live stream! Or join us at any of our other Share the Rays locations! \nSpot on the Dock drink specials include: \n$6 cans of Sip of Sunshine \n$6 cans of Hazy Rays \n$7 draft pours of Little Sip \n  \n  \n 
URL:https://mrvvillage.com/event/share-the-rays-summer-solstice-event/
LOCATION:Spot on the Dock\, 1 King St\, Burlington\, VT\, 05401\, United States
CATEGORIES:Vermont
ATTACH;FMTTYPE=image/jpeg:https://mrvvillage.com/wp-content/uploads/2023/06/ShareTheRays_SummerSolstice_Poster_Small_Updated2-1255x1920-907d2afa-30ac-4bc3-a2c6-3e08efba0055-DuB6ji.tmp_-30dolk.tmp_.jpg
ORGANIZER;CN="Lawson%26%238217%3Bs%20Finest%20Liquids":MAILTO:hello@lawsonsfinest.com
GEO:44.4749168;-73.2210369
X-APPLE-STRUCTURED-LOCATION;VALUE=URI;X-ADDRESS=Spot on the Dock 1 King St Burlington VT 05401 United States;X-APPLE-RADIUS=500;X-TITLE=1 King St:geo:-73.2210369,44.4749168
END:VEVENT
BEGIN:VEVENT
DTSTART;TZID=America/New_York:20230625T150000
DTEND;TZID=America/New_York:20230625T170000
DTSTAMP:20260424T084906
CREATED:20230526T221118Z
LAST-MODIFIED:20230625T180818Z
UID:10004012-1687705200-1687712400@mrvvillage.com
SUMMARY:Summer Sundays: Red River North
DESCRIPTION:Jeremiah Strauss and Rick Frauton bring red dirt country covers and originals to the Lawson’s Finest Taproom.
URL:https://mrvvillage.com/event/summer-sundays-red-river-north/
LOCATION:Lawson’s Finest Taproom\, 155 Carroll Road\, Waitsfield\, Vermont\, 05673
CATEGORIES:At the Brewery,Tuesday Tunes,Vermont
ATTACH;FMTTYPE=image/png:https://mrvvillage.com/wp-content/uploads/2023/05/Screen-Shot-2023-01-19-at-11.42.03-AM-tSgbit.tmp_-pNpybb.tmp_.png
ORGANIZER;CN="Lawson%26%238217%3Bs%20Finest%20Liquids":MAILTO:hello@lawsonsfinest.com
GEO:44.1878437;-72.8352541
X-APPLE-STRUCTURED-LOCATION;VALUE=URI;X-ADDRESS=Lawson’s Finest Taproom 155 Carroll Road Waitsfield Vermont 05673;X-APPLE-RADIUS=500;X-TITLE=155 Carroll Road:geo:-72.8352541,44.1878437
END:VEVENT
END:VCALENDAR