BEGIN:VCALENDAR
VERSION:2.0
PRODID:-//The Mad River Valley Village - ECPv6.0.13//NONSGML v1.0//EN
CALSCALE:GREGORIAN
METHOD:PUBLISH
X-WR-CALNAME:The Mad River Valley Village
X-ORIGINAL-URL:https://mrvvillage.com
X-WR-CALDESC:Events for The Mad River Valley Village
REFRESH-INTERVAL;VALUE=DURATION:PT1H
X-Robots-Tag:noindex
X-PUBLISHED-TTL:PT1H
BEGIN:VTIMEZONE
TZID:America/Halifax
BEGIN:DAYLIGHT
TZOFFSETFROM:-0400
TZOFFSETTO:-0300
TZNAME:ADT
DTSTART:20250309T060000
END:DAYLIGHT
BEGIN:STANDARD
TZOFFSETFROM:-0300
TZOFFSETTO:-0400
TZNAME:AST
DTSTART:20251102T050000
END:STANDARD
TZID:America/New_York
BEGIN:DAYLIGHT
TZOFFSETFROM:-0500
TZOFFSETTO:-0400
TZNAME:EDT
DTSTART:20250309T070000
END:DAYLIGHT
BEGIN:STANDARD
TZOFFSETFROM:-0400
TZOFFSETTO:-0500
TZNAME:EST
DTSTART:20251102T060000
END:STANDARD
END:VTIMEZONE
BEGIN:VEVENT
DTSTART;TZID=America/Halifax:20251215T120000
DTEND;TZID=America/Halifax:20251215T200000
DTSTAMP:20260423T032601
CREATED:20251115T112526Z
LAST-MODIFIED:20251215T170827Z
UID:10009275-1765800000-1765828800@mrvvillage.com
SUMMARY:MadLove Mondays
DESCRIPTION:Every Monday at Lawson’s Finest Liquids! \n\n$5 pours of all our draft beers all day\nMac and cheese specials\nDouble your Toast loyalty points\n20% off cases of beer in our retail shop\nOur favorite recorded live shows over the speakers. Have a favorite? Let us know!\nAlso! Monthly artist spotlights and community features\n\n 
URL:https://mrvvillage.com/event/madlove-mondays-5/
LOCATION:Lawson’s Finest Brewery\, 155 Carroll Road\, Waitsfield\, VT\, 05673\, United States
CATEGORIES:At the Brewery,Vermont
ATTACH;FMTTYPE=image/jpeg:https://mrvvillage.com/wp-content/uploads/2025/11/Taproom_WeeklyEvents-02-scaled-71FmaW-wWZCVE.jpg
ORGANIZER;CN="Lawson%26%238217%3Bs%20Finest%20Liquids":MAILTO:hello@lawsonsfinest.com
GEO:44.1878437;-72.8352541
X-APPLE-STRUCTURED-LOCATION;VALUE=URI;X-ADDRESS=Lawson’s Finest Brewery 155 Carroll Road Waitsfield VT 05673 United States;X-APPLE-RADIUS=500;X-TITLE=155 Carroll Road:geo:-72.8352541,44.1878437
END:VEVENT
BEGIN:VEVENT
DTSTART;TZID=America/New_York:20251216T173000
DTEND;TZID=America/New_York:20251216T193000
DTSTAMP:20260423T032601
CREATED:20251116T112524Z
LAST-MODIFIED:20251216T172328Z
UID:10009280-1765906200-1765913400@mrvvillage.com
SUMMARY:Tuesday Tunes: John Lackard Blues Duo
DESCRIPTION:Regular Taproom favorite John Lackard brings his blues and rock n’ roll back to the stage. \n 
URL:https://mrvvillage.com/event/tuesday-tunes-john-lackard-blues-duo-11/
LOCATION:Lawson’s Finest Taproom\, 155 Carroll Road\, Waitsfield\, Vermont\, 05673
CATEGORIES:At the Brewery,Tuesday Tunes,Vermont
ATTACH;FMTTYPE=image/jpeg:https://mrvvillage.com/wp-content/uploads/2025/11/Taproom_WeeklyEvents-12-1-scaled-EEmyJS-2BXVba.jpg
ORGANIZER;CN="Lawson%26%238217%3Bs%20Finest%20Liquids":MAILTO:hello@lawsonsfinest.com
GEO:44.1878437;-72.8352541
X-APPLE-STRUCTURED-LOCATION;VALUE=URI;X-ADDRESS=Lawson’s Finest Taproom 155 Carroll Road Waitsfield Vermont 05673;X-APPLE-RADIUS=500;X-TITLE=155 Carroll Road:geo:-72.8352541,44.1878437
END:VEVENT
BEGIN:VEVENT
DTSTART;TZID=America/Halifax:20251217T120000
DTEND;TZID=America/Halifax:20251217T200000
DTSTAMP:20260423T032601
CREATED:20251117T114028Z
LAST-MODIFIED:20251217T173829Z
UID:10009285-1765972800-1766001600@mrvvillage.com
SUMMARY:Sunshine Brat Wednesdays
DESCRIPTION:This ain’t your grandpa’s beer and a bratwurst. \nEvery Wednesday come to Lawson’s Finest Liquids for some big time flavor: A massive jalapeño cheddar beer bratwurst made with Sip of Sunshine by our friends at 5th Quarter Butcher\, served on a pretzel bun made by none other than Patrick from Green Mountain Twisters Pretzels\, comes with a side of crispy greens and a side of German potato salad\, and your choice of draft beer! All of this for just $20! Are we kidding?! Never. We’re all business\, baby.
URL:https://mrvvillage.com/event/sunshine-brat-wednesdays-4/
LOCATION:Lawson’s Finest Brewery\, 155 Carroll Road\, Waitsfield\, VT\, 05673\, United States
CATEGORIES:At the Brewery,Vermont
ATTACH;FMTTYPE=image/jpeg:https://mrvvillage.com/wp-content/uploads/2025/11/Taproom_WeeklyEvents-04-scaled-8Zlxlu-RgxnqM.jpg
ORGANIZER;CN="Lawson%26%238217%3Bs%20Finest%20Liquids":MAILTO:hello@lawsonsfinest.com
GEO:44.1878437;-72.8352541
X-APPLE-STRUCTURED-LOCATION;VALUE=URI;X-ADDRESS=Lawson’s Finest Brewery 155 Carroll Road Waitsfield VT 05673 United States;X-APPLE-RADIUS=500;X-TITLE=155 Carroll Road:geo:-72.8352541,44.1878437
END:VEVENT
BEGIN:VEVENT
DTSTART;TZID=America/Halifax:20251217T180000
DTEND;TZID=America/Halifax:20251217T200000
DTSTAMP:20260423T032601
CREATED:20251129T141006Z
LAST-MODIFIED:20251217T173829Z
UID:10009350-1765994400-1766001600@mrvvillage.com
SUMMARY:Beer Pairing Dinner: Noche Buena!
DESCRIPTION:We have a very special Beer Pairing Dinner brewing for December 17th. Our very own Kitchen Lead\, Jenny Rodriguez\, will be channeling her roots and preparing a multi-course dinner featuring the flavors of Cuban Christmas Eve\, or\, Noche Buena. Dinner will feature lechon asado (roast pork)\, ceviche\, oxtail\, yuca\, plantains and more\, all expertly paired with our finest seasonal beer offerings by Jenny and our Events and Education Lead\, Mark Leopold. \nCome learn\, sip and eat! 6:00pm to 8:00pm. \nVery limited tickets available here.
URL:https://mrvvillage.com/event/beer-pairing-dinner-noche-buena/
LOCATION:Lawson’s Finest Brewery\, 155 Carroll Road\, Waitsfield\, VT\, 05673\, United States
CATEGORIES:At the Brewery,Vermont
ATTACH;FMTTYPE=image/jpeg:https://mrvvillage.com/wp-content/uploads/2025/11/BeerPairingDinner_December-usm7CL-nmU277.jpg
ORGANIZER;CN="Lawson%26%238217%3Bs%20Finest%20Liquids":MAILTO:hello@lawsonsfinest.com
GEO:44.1878437;-72.8352541
X-APPLE-STRUCTURED-LOCATION;VALUE=URI;X-ADDRESS=Lawson’s Finest Brewery 155 Carroll Road Waitsfield VT 05673 United States;X-APPLE-RADIUS=500;X-TITLE=155 Carroll Road:geo:-72.8352541,44.1878437
END:VEVENT
BEGIN:VEVENT
DTSTART;TZID=America/Halifax:20251218T160000
DTEND;TZID=America/Halifax:20251218T190000
DTSTAMP:20260423T032601
CREATED:20251118T115532Z
LAST-MODIFIED:20251218T175327Z
UID:10009287-1766073600-1766084400@mrvvillage.com
SUMMARY:Fresh Catch Thursday
DESCRIPTION:Every Thursday starting at 4pm we host Nor’Easter Catering for a raw bar pop-up. Come on down and enjoy the freshest oysters you can get your hands on\, and a variety of weekly specials that often include lobster rolls\, shrimp cocktails\, tuna poke bowls\, blue crab quesadillas\, and more!
URL:https://mrvvillage.com/event/fresh-catch-thursday-149/
LOCATION:Lawson’s Finest Brewery\, 155 Carroll Road\, Waitsfield\, VT\, 05673\, United States
CATEGORIES:At the Brewery,Fresh Catch Thursday,Vermont
ATTACH;FMTTYPE=image/jpeg:https://mrvvillage.com/wp-content/uploads/2025/11/Taproom_WeeklyEvents-05-scaled-RbenMu-8bm9Ei.jpg
ORGANIZER;CN="Lawson%26%238217%3Bs%20Finest%20Liquids":MAILTO:hello@lawsonsfinest.com
GEO:44.1878437;-72.8352541
X-APPLE-STRUCTURED-LOCATION;VALUE=URI;X-ADDRESS=Lawson’s Finest Brewery 155 Carroll Road Waitsfield VT 05673 United States;X-APPLE-RADIUS=500;X-TITLE=155 Carroll Road:geo:-72.8352541,44.1878437
END:VEVENT
BEGIN:VEVENT
DTSTART;TZID=America/Halifax:20251219T180000
DTEND;TZID=America/Halifax:20251219T200000
DTSTAMP:20260423T032601
CREATED:20251120T122528Z
LAST-MODIFIED:20251219T180827Z
UID:10009298-1766167200-1766174400@mrvvillage.com
SUMMARY:Songs to Fill the Air feat. Satan’s Dogs
DESCRIPTION:Our new hit series for music fans in the Valley and beyond. One Friday a month. Lights down low. Dancing. Fresh beer. Great damn music. \nDecember’s show is Friday the 19th\, and feature’s Satan’s Dogs! Satan’s Dogs are oft-considered Vermont’s best Phish cover band and host some of the most recognizable names in this state’s rich music scene. \nGlasses glowing with the gold of Sunshine
URL:https://mrvvillage.com/event/songs-to-fill-the-air-feat-satans-dogs/
LOCATION:Lawson’s Finest Brewery\, 155 Carroll Road\, Waitsfield\, VT\, 05673\, United States
CATEGORIES:At the Brewery,Vermont
ATTACH;FMTTYPE=image/jpeg:https://mrvvillage.com/wp-content/uploads/2025/11/satans-dog-web-scaled-DBFopX-sZA7kD.jpg
ORGANIZER;CN="Lawson%26%238217%3Bs%20Finest%20Liquids":MAILTO:hello@lawsonsfinest.com
GEO:44.1878437;-72.8352541
X-APPLE-STRUCTURED-LOCATION;VALUE=URI;X-ADDRESS=Lawson’s Finest Brewery 155 Carroll Road Waitsfield VT 05673 United States;X-APPLE-RADIUS=500;X-TITLE=155 Carroll Road:geo:-72.8352541,44.1878437
END:VEVENT
BEGIN:VEVENT
DTSTART;TZID=America/New_York:20251221T150000
DTEND;TZID=America/New_York:20251221T170000
DTSTAMP:20260423T032601
CREATED:20251121T124056Z
LAST-MODIFIED:20251221T183828Z
UID:10009317-1766329200-1766336400@mrvvillage.com
SUMMARY:Sunday Sessions: Madigan Linnane
DESCRIPTION:Valley native\, Berklee grad\, and one of our shining Taproom beertenders Madigan Linnane will be rocking the Taproom fresh off the release of her new full-length album. We are so proud of Madigan and want you to come pack the Taproom for this special performance!
URL:https://mrvvillage.com/event/sunday-sessions-madigan-linnane/
LOCATION:Lawson’s Finest Taproom\, 155 Carroll Road\, Waitsfield\, Vermont\, 05673
CATEGORIES:At the Brewery,Vermont
ATTACH;FMTTYPE=image/png:https://mrvvillage.com/wp-content/uploads/2025/11/Taproom_WeeklyEvents_12.21-scaled-lsT9KF-8bJXcf.png
ORGANIZER;CN="Lawson%26%238217%3Bs%20Finest%20Liquids":MAILTO:hello@lawsonsfinest.com
GEO:44.1878437;-72.8352541
X-APPLE-STRUCTURED-LOCATION;VALUE=URI;X-ADDRESS=Lawson’s Finest Taproom 155 Carroll Road Waitsfield Vermont 05673;X-APPLE-RADIUS=500;X-TITLE=155 Carroll Road:geo:-72.8352541,44.1878437
END:VEVENT
END:VCALENDAR