BEGIN:VCALENDAR
VERSION:2.0
PRODID:-//The Mad River Valley Village - ECPv6.0.13//NONSGML v1.0//EN
CALSCALE:GREGORIAN
METHOD:PUBLISH
X-ORIGINAL-URL:https://mrvvillage.com
X-WR-CALDESC:Events for The Mad River Valley Village
REFRESH-INTERVAL;VALUE=DURATION:PT1H
X-Robots-Tag:noindex
X-PUBLISHED-TTL:PT1H
BEGIN:VTIMEZONE
TZID:America/Halifax
BEGIN:DAYLIGHT
TZOFFSETFROM:-0400
TZOFFSETTO:-0300
TZNAME:ADT
DTSTART:20250309T060000
END:DAYLIGHT
BEGIN:STANDARD
TZOFFSETFROM:-0300
TZOFFSETTO:-0400
TZNAME:AST
DTSTART:20251102T050000
END:STANDARD
TZID:America/New_York
BEGIN:DAYLIGHT
TZOFFSETFROM:-0500
TZOFFSETTO:-0400
TZNAME:EDT
DTSTART:20250309T070000
END:DAYLIGHT
BEGIN:STANDARD
TZOFFSETFROM:-0400
TZOFFSETTO:-0500
TZNAME:EST
DTSTART:20251102T060000
END:STANDARD
END:VTIMEZONE
BEGIN:VEVENT
DTSTART;TZID=America/Halifax:20251222T120000
DTEND;TZID=America/Halifax:20251222T200000
DTSTAMP:20260423T014101
CREATED:20251122T125609Z
LAST-MODIFIED:20251222T183829Z
UID:10009331-1766404800-1766433600@mrvvillage.com
SUMMARY:MadLove Mondays
DESCRIPTION:Every Monday at Lawson’s Finest Liquids! \n\n$5 pours of all our draft beers all day\nMac and cheese specials\nDouble your Toast loyalty points\n20% off cases of beer in our retail shop\nOur favorite recorded live shows over the speakers. Have a favorite? Let us know!\nAlso! Monthly artist spotlights and community features\n\n 
URL:https://mrvvillage.com/event/madlove-mondays-6/
LOCATION:Lawson’s Finest Brewery\, 155 Carroll Road\, Waitsfield\, VT\, 05673\, United States
CATEGORIES:At the Brewery,Vermont
ATTACH;FMTTYPE=image/jpeg:https://mrvvillage.com/wp-content/uploads/2025/11/Taproom_WeeklyEvents-02-scaled-71FmaW-wWZCVE.jpg
ORGANIZER;CN="Lawson%26%238217%3Bs%20Finest%20Liquids":MAILTO:hello@lawsonsfinest.com
GEO:44.1878437;-72.8352541
X-APPLE-STRUCTURED-LOCATION;VALUE=URI;X-ADDRESS=Lawson’s Finest Brewery 155 Carroll Road Waitsfield VT 05673 United States;X-APPLE-RADIUS=500;X-TITLE=155 Carroll Road:geo:-72.8352541,44.1878437
END:VEVENT
BEGIN:VEVENT
DTSTART;TZID=America/New_York:20251223T173000
DTEND;TZID=America/New_York:20251223T193000
DTSTAMP:20260423T014101
CREATED:20251123T131039Z
LAST-MODIFIED:20251223T185332Z
UID:10009333-1766511000-1766518200@mrvvillage.com
SUMMARY:Tuesday Tunes: Sammy B
DESCRIPTION:Sammy Blanchette\, aka Sammy B\, is a New England based singer/songwriter multi-instrumentalist who’s career spans nearly two decades. His performance career began primarily out of Southern Connecticut and has since found a primary home in Southern Vermont in the Okemo Valley as of 2018. Like most start up musicians\, Sammy began playing out in bars and nightclubs at age 13 as well as sitting in with multiple Southern CT bands\, including Hubinger St. which he became the full time bass player from 2010 to 2018. His style of work on electric and acoustic guitar ranges from a broad mix of rock\, jazz\, reggae\, blues and jam band styles.
URL:https://mrvvillage.com/event/tuesday-tunes-sammy-b-6/
LOCATION:Lawson’s Finest Taproom\, 155 Carroll Road\, Waitsfield\, Vermont\, 05673
CATEGORIES:At the Brewery,Tuesday Tunes,Vermont
ATTACH;FMTTYPE=image/jpeg:https://mrvvillage.com/wp-content/uploads/2025/11/Taproom_WeeklyEvents-13-1-scaled-EXcYNo-5Ygr0K.jpg
ORGANIZER;CN="Lawson%26%238217%3Bs%20Finest%20Liquids":MAILTO:hello@lawsonsfinest.com
GEO:44.1878437;-72.8352541
X-APPLE-STRUCTURED-LOCATION;VALUE=URI;X-ADDRESS=Lawson’s Finest Taproom 155 Carroll Road Waitsfield Vermont 05673;X-APPLE-RADIUS=500;X-TITLE=155 Carroll Road:geo:-72.8352541,44.1878437
END:VEVENT
BEGIN:VEVENT
DTSTART;TZID=America/Halifax:20251224T120000
DTEND;TZID=America/Halifax:20251224T200000
DTSTAMP:20260423T014101
CREATED:20251124T132530Z
LAST-MODIFIED:20251224T190829Z
UID:10009334-1766577600-1766606400@mrvvillage.com
SUMMARY:Sunshine Brat Wednesdays
DESCRIPTION:This ain’t your grandpa’s beer and a bratwurst. \nEvery Wednesday come to Lawson’s Finest Liquids for some big time flavor: A massive jalapeño cheddar beer bratwurst made with Sip of Sunshine by our friends at 5th Quarter Butcher\, served on a pretzel bun made by none other than Patrick from Green Mountain Twisters Pretzels\, comes with a side of crispy greens and a side of German potato salad\, and your choice of draft beer! All of this for just $20! Are we kidding?! Never. We’re all business\, baby.
URL:https://mrvvillage.com/event/sunshine-brat-wednesdays-5/
LOCATION:Lawson’s Finest Brewery\, 155 Carroll Road\, Waitsfield\, VT\, 05673\, United States
CATEGORIES:At the Brewery,Vermont
ATTACH;FMTTYPE=image/jpeg:https://mrvvillage.com/wp-content/uploads/2025/11/Taproom_WeeklyEvents-04-scaled-8Zlxlu-RgxnqM.jpg
ORGANIZER;CN="Lawson%26%238217%3Bs%20Finest%20Liquids":MAILTO:hello@lawsonsfinest.com
GEO:44.1878437;-72.8352541
X-APPLE-STRUCTURED-LOCATION;VALUE=URI;X-ADDRESS=Lawson’s Finest Brewery 155 Carroll Road Waitsfield VT 05673 United States;X-APPLE-RADIUS=500;X-TITLE=155 Carroll Road:geo:-72.8352541,44.1878437
END:VEVENT
BEGIN:VEVENT
DTSTART;TZID=America/Halifax:20251228T150000
DTEND;TZID=America/Halifax:20251228T170000
DTSTAMP:20260423T014101
CREATED:20251128T141045Z
LAST-MODIFIED:20251228T200828Z
UID:10009349-1766934000-1766941200@mrvvillage.com
SUMMARY:Sunday Sessions: Kirk Flanagan and Lars Murdock Acoustic Duo
DESCRIPTION:Kirk Flanagan (Barbacoa\, Happy Spangler) and Lars Murdock (When Dinosaurs Ruled the Earth) go way back- having both grown up in the Mad River Valley and then cementing themselves in the Vermont music scene. On Sunday 12/28 they’ll be playing an acoustic show together\, a blend of original tunes as well as classics from Lou Reed\, Taj Mahal\, The Kinks and more. You won’t want to miss this one.
URL:https://mrvvillage.com/event/sunday-sessions-kirk-flanagan-and-lars-murdock-acoustic-duo/
LOCATION:Lawson’s Finest Brewery\, 155 Carroll Road\, Waitsfield\, VT\, 05673\, United States
CATEGORIES:At the Brewery,Vermont
ATTACH;FMTTYPE=image/jpeg:https://mrvvillage.com/wp-content/uploads/2025/11/Taproom_WeeklyEvents-14-1-scaled-epuC1R-6iomdQ.jpg
ORGANIZER;CN="Lawson%26%238217%3Bs%20Finest%20Liquids":MAILTO:hello@lawsonsfinest.com
GEO:44.1878437;-72.8352541
X-APPLE-STRUCTURED-LOCATION;VALUE=URI;X-ADDRESS=Lawson’s Finest Brewery 155 Carroll Road Waitsfield VT 05673 United States;X-APPLE-RADIUS=500;X-TITLE=155 Carroll Road:geo:-72.8352541,44.1878437
END:VEVENT
END:VCALENDAR