BEGIN:VCALENDAR
VERSION:2.0
PRODID:-//The Mad River Valley Village - ECPv6.0.13//NONSGML v1.0//EN
CALSCALE:GREGORIAN
METHOD:PUBLISH
X-WR-CALNAME:The Mad River Valley Village
X-ORIGINAL-URL:https://mrvvillage.com
X-WR-CALDESC:Events for The Mad River Valley Village
REFRESH-INTERVAL;VALUE=DURATION:PT1H
X-Robots-Tag:noindex
X-PUBLISHED-TTL:PT1H
BEGIN:VTIMEZONE
TZID:America/Halifax
BEGIN:DAYLIGHT
TZOFFSETFROM:-0400
TZOFFSETTO:-0300
TZNAME:ADT
DTSTART:20250309T060000
END:DAYLIGHT
BEGIN:STANDARD
TZOFFSETFROM:-0300
TZOFFSETTO:-0400
TZNAME:AST
DTSTART:20251102T050000
END:STANDARD
TZID:America/New_York
BEGIN:DAYLIGHT
TZOFFSETFROM:-0500
TZOFFSETTO:-0400
TZNAME:EDT
DTSTART:20250309T070000
END:DAYLIGHT
BEGIN:STANDARD
TZOFFSETFROM:-0400
TZOFFSETTO:-0500
TZNAME:EST
DTSTART:20251102T060000
END:STANDARD
END:VTIMEZONE
BEGIN:VEVENT
DTSTART;TZID=America/Halifax:20251229T120000
DTEND;TZID=America/Halifax:20251229T200000
DTSTAMP:20260423T053211
CREATED:20251129T141047Z
LAST-MODIFIED:20251229T202332Z
UID:10009351-1767009600-1767038400@mrvvillage.com
SUMMARY:MadLove Mondays
DESCRIPTION:Every Monday at Lawson’s Finest Liquids! \n\n$5 pours of all our draft beers all day\nMac and cheese specials\nDouble your Toast loyalty points\n20% off cases of beer in our retail shop\nOur favorite recorded live shows over the speakers. Have a favorite? Let us know!\nAlso! Monthly artist spotlights and community features\n\n 
URL:https://mrvvillage.com/event/madlove-mondays-7/
LOCATION:Lawson’s Finest Brewery\, 155 Carroll Road\, Waitsfield\, VT\, 05673\, United States
CATEGORIES:At the Brewery,Vermont
ATTACH;FMTTYPE=image/jpeg:https://mrvvillage.com/wp-content/uploads/2025/11/Taproom_WeeklyEvents-02-scaled-71FmaW-wWZCVE.jpg
ORGANIZER;CN="Lawson%26%238217%3Bs%20Finest%20Liquids":MAILTO:hello@lawsonsfinest.com
GEO:44.1878437;-72.8352541
X-APPLE-STRUCTURED-LOCATION;VALUE=URI;X-ADDRESS=Lawson’s Finest Brewery 155 Carroll Road Waitsfield VT 05673 United States;X-APPLE-RADIUS=500;X-TITLE=155 Carroll Road:geo:-72.8352541,44.1878437
END:VEVENT
BEGIN:VEVENT
DTSTART;TZID=America/New_York:20251230T173000
DTEND;TZID=America/New_York:20251230T193000
DTSTAMP:20260423T053211
CREATED:20251130T142526Z
LAST-MODIFIED:20251230T203835Z
UID:10009353-1767115800-1767123000@mrvvillage.com
SUMMARY:Tuesday Tunes: Shacket
DESCRIPTION:Shacket is a duo formed by our friends Sam Crawford and John Billingsley\, whom you know from some of their other projects that have rocked the Taproom. Come on down for some good tunes!
URL:https://mrvvillage.com/event/tuesday-tunes-shacket-2/
LOCATION:Lawson’s Finest Taproom\, 155 Carroll Road\, Waitsfield\, Vermont\, 05673
CATEGORIES:At the Brewery,Tuesday Tunes,Vermont
ATTACH;FMTTYPE=image/jpeg:https://mrvvillage.com/wp-content/uploads/2025/11/Taproom_WeeklyEvents-15-1-scaled-EfgF7j-V1J6JH.jpg
ORGANIZER;CN="Lawson%26%238217%3Bs%20Finest%20Liquids":MAILTO:hello@lawsonsfinest.com
GEO:44.1878437;-72.8352541
X-APPLE-STRUCTURED-LOCATION;VALUE=URI;X-ADDRESS=Lawson’s Finest Taproom 155 Carroll Road Waitsfield Vermont 05673;X-APPLE-RADIUS=500;X-TITLE=155 Carroll Road:geo:-72.8352541,44.1878437
END:VEVENT
BEGIN:VEVENT
DTSTART;TZID=America/Halifax:20251231T120000
DTEND;TZID=America/Halifax:20251231T200000
DTSTAMP:20260423T053211
CREATED:20251201T142534Z
LAST-MODIFIED:20251231T205329Z
UID:10009355-1767182400-1767211200@mrvvillage.com
SUMMARY:Sunshine Brat Wednesdays
DESCRIPTION:This ain’t your grandpa’s beer and a bratwurst. \nEvery Wednesday come to Lawson’s Finest Liquids for some big time flavor: A massive jalapeño cheddar beer bratwurst made with Sip of Sunshine by our friends at 5th Quarter Butcher\, served on a pretzel bun made by none other than Patrick from Green Mountain Twisters Pretzels\, comes with a side of crispy greens and a side of German potato salad\, and your choice of draft beer! All of this for just $20! Are we kidding?! Never. We’re all business\, baby.
URL:https://mrvvillage.com/event/sunshine-brat-wednesdays-6/
LOCATION:Lawson’s Finest Brewery\, 155 Carroll Road\, Waitsfield\, VT\, 05673\, United States
CATEGORIES:At the Brewery,Vermont
ATTACH;FMTTYPE=image/jpeg:https://mrvvillage.com/wp-content/uploads/2025/11/Taproom_WeeklyEvents-04-scaled-8Zlxlu-RgxnqM.jpg
ORGANIZER;CN="Lawson%26%238217%3Bs%20Finest%20Liquids":MAILTO:hello@lawsonsfinest.com
GEO:44.1878437;-72.8352541
X-APPLE-STRUCTURED-LOCATION;VALUE=URI;X-ADDRESS=Lawson’s Finest Brewery 155 Carroll Road Waitsfield VT 05673 United States;X-APPLE-RADIUS=500;X-TITLE=155 Carroll Road:geo:-72.8352541,44.1878437
END:VEVENT
END:VCALENDAR