BEGIN:VCALENDAR
VERSION:2.0
PRODID:-//The Mad River Valley Village - ECPv6.0.13//NONSGML v1.0//EN
CALSCALE:GREGORIAN
METHOD:PUBLISH
X-WR-CALNAME:The Mad River Valley Village
X-ORIGINAL-URL:https://mrvvillage.com
X-WR-CALDESC:Events for The Mad River Valley Village
REFRESH-INTERVAL;VALUE=DURATION:PT1H
X-Robots-Tag:noindex
X-PUBLISHED-TTL:PT1H
BEGIN:VTIMEZONE
TZID:America/New_York
BEGIN:DAYLIGHT
TZOFFSETFROM:-0500
TZOFFSETTO:-0400
TZNAME:EDT
DTSTART:20240310T070000
END:DAYLIGHT
BEGIN:STANDARD
TZOFFSETFROM:-0400
TZOFFSETTO:-0500
TZNAME:EST
DTSTART:20241103T060000
END:STANDARD
TZID:America/Halifax
BEGIN:DAYLIGHT
TZOFFSETFROM:-0400
TZOFFSETTO:-0300
TZNAME:ADT
DTSTART:20240310T060000
END:DAYLIGHT
BEGIN:STANDARD
TZOFFSETFROM:-0300
TZOFFSETTO:-0400
TZNAME:AST
DTSTART:20241103T050000
END:STANDARD
END:VTIMEZONE
BEGIN:VEVENT
DTSTART;TZID=America/New_York:20240307T130000
DTEND;TZID=America/New_York:20240426T170000
DTSTAMP:20260423T104047
CREATED:20240228T212358Z
LAST-MODIFIED:20240307T225314Z
UID:10005963-1709816400-1714150800@mrvvillage.com
SUMMARY:RISE: Trees\, Our Botanical Giants
DESCRIPTION:Mad River Valley Arts is excited to present its first group show of the year entitled RISE: Trees\, Our Botanical Giants from March 7- April 26\, 2024. There will be a reception on March 7\, 5-7pm when first\, second and third place prize winners will be announced. Twenty-eight artists are participating\, addressing their relationships with trees in 2D and 3D formats\, some employing wood materials which are reclaimed or formally crafted and some using ceramic\, textiles and functional design. All push the conversation between human-made and nature-made objects into one of collaborative revelation.\nShelby Perry\, a Wildlands Ecologist with Northeast Wilderness Trust will be giving a talk on Trees and Rewilding\, April 18 at 5pm. This event is free and open to all. The Gallery exhibit is open Tuesday through Saturday from 1:00-5:00pm.
URL:https://mrvvillage.com/event/rise-trees-our-botanical-giants/
LOCATION:Mad River Valley Arts\, 5031 Main Street #2 Village Square\, Waitsfield\, 05673
CATEGORIES:Arts & Entertainment,Community
ATTACH;FMTTYPE=image/jpeg:https://mrvvillage.com/wp-content/uploads/2024/02/Julie-Comnick-Uproot-III.180-9gic82.tmp_.jpg
ORGANIZER;CN="Mad%20River%20ValleyArts":MAILTO:info@madrivervalleyarts.org
GEO:44.1926386;-72.7798479
X-APPLE-STRUCTURED-LOCATION;VALUE=URI;X-ADDRESS=Mad River Valley Arts 5031 Main Street #2 Village Square Waitsfield 05673;X-APPLE-RADIUS=500;X-TITLE=5031 Main Street #2 Village Square:geo:-72.7798479,44.1926386
END:VEVENT
BEGIN:VEVENT
DTSTART;TZID=America/New_York:20240411T060000
DTEND;TZID=America/New_York:20240530T090000
DTSTAMP:20260423T104047
CREATED:20240408T022325Z
LAST-MODIFIED:20240411T142310Z
UID:10006066-1712815200-1717059600@mrvvillage.com
SUMMARY:Mad River Valley Backcountry Coalition Dawn Patrol
DESCRIPTION:Skiers and riders will meet at either Sugarbush or Mad River Glen in the wee hours of the morning to rise and rip! Exact time and location will be TBD each week based on conditions. The event leader will communicate the details each week via email/text to all who opt in to the group. Feel free to email info@mrvbc.org for more info. Uphill passes required at Sugarbush. All participants must read and adhere to the uphill policies: Sugarbush and Mad River Glen. All participants will be required to complete a waiver through MRVBC for each Thursday. Bring coffee/tea\, snacks\, and layers. See our Difficulty Rating System (https://www.mrvbc.org/events/tours) to determine if MRVBC’s tours are the right fit for you. This will be an intermediate uphill pace\, not a race! The downhill could be advanced terrain depending on conditions and route. Come prepared with knowledge of your own gear as this is not instruction\, but it is a great way to meet people\, get some amazing exercise and fresh air views\, and swap BC stories!\nSign up using the form linked on our website.
URL:https://mrvvillage.com/event/mad-river-valley-backcountry-coalition-dawn-patrol/
LOCATION:Sugarbush Resort\, 102 Forest Drive Warren\, VT 05674\, Warren\, 05674
CATEGORIES:Community,Sports & Recreation
ATTACH;FMTTYPE=image/jpeg:https://mrvvillage.com/wp-content/uploads/2024/04/Dawn-Patrol-HZP9LW.tmp_.jpg
ORGANIZER;CN="Mad%20River%20Valley%20Backcountry%20Coalition%20%28MRVBC%29":MAILTO:info@mrvbc.org
GEO:44.1272818;-72.9284492
X-APPLE-STRUCTURED-LOCATION;VALUE=URI;X-ADDRESS=Sugarbush Resort 102 Forest Drive Warren VT 05674 Warren 05674;X-APPLE-RADIUS=500;X-TITLE=102 Forest Drive Warren\, VT 05674:geo:-72.9284492,44.1272818
END:VEVENT
BEGIN:VEVENT
DTSTART;TZID=America/New_York:20240423T093000
DTEND;TZID=America/New_York:20240423T103000
DTSTAMP:20260423T104047
CREATED:20240413T025334Z
LAST-MODIFIED:20240423T143807Z
UID:10006074-1713864600-1713868200@mrvvillage.com
SUMMARY:“Little One & Me Yoga” at Inklings Children’s Books
DESCRIPTION:Join Karen McPhillips from Salt & Sand Studios at Inklings for LITTLE ONE & ME YOGA on Tuesday\, April 23rd at 9:30am! Karen will start by reading Yoga Bunny. \nThis gentle and fun class is designed specifically for a parent or caregiver and their children\, ages 18 months to 4 years. Older children are welcome too! Promoting balance\, coordination\, motor skills and mindfulness\, Karen will introduce and reinforce mechanisms for movement\, independence and stress relief. And of course … some giggles too. \nInvestment: $20 (one adult\, one child) \nKaren McPhillips is a 500-hour registered yoga teacher and continuing education instructor (Yoga Alliance) with over 20 years of yoga practice and 15 years’ experience sharing her passion for yoga\, mindfulness\, meditation and yoga teachings with little ones. Her classes blend strong foundational knowledge and safety with a free spirit and ready laughter for an experience that is fulfilling\, comprehensive and fun.
URL:https://mrvvillage.com/event/little-one-me-yoga-at-inklings-childrens-books-2/
LOCATION:Unnamed Venue\, United States
CATEGORIES:Arts & Entertainment,Community,Family Friendly
ATTACH;FMTTYPE=image/jpeg:https://mrvvillage.com/wp-content/uploads/2024/04/Yoga-Kids-Class-Flyer1-copy-AjqUIp.tmp_.jpg
GEO:37.09024;-95.712891
END:VEVENT
BEGIN:VEVENT
DTSTART;TZID=America/New_York:20240423T170000
DTEND;TZID=America/New_York:20240423T190000
DTSTAMP:20260423T104047
CREATED:20240324T005425Z
LAST-MODIFIED:20240423T143807Z
UID:10006042-1713891600-1713898800@mrvvillage.com
SUMMARY:Tuesday Tunes: Chicky Stoltz Trio
DESCRIPTION:Original rock n’ roll from Waitsfield’s Chicky Stoltz\, Chuck Gaidys and Alex Budney . One part gutter and one part vaulted ceiling.
URL:https://mrvvillage.com/event/tuesday-tunes-chicky-stoltz-trio/
LOCATION:Lawson’s Finest Taproom\, 155 Carroll Road\, Waitsfield\, Vermont\, 05673
CATEGORIES:At the Brewery,Tuesday Tunes,Vermont
ATTACH;FMTTYPE=image/png:https://mrvvillage.com/wp-content/uploads/2023/06/Screen-Shot-2022-08-02-at-12.24.54-PM-oukF6V.tmp_-iS9tuC.tmp_.png
ORGANIZER;CN="Lawson%26%238217%3Bs%20Finest%20Liquids":MAILTO:hello@lawsonsfinest.com
GEO:44.1878437;-72.8352541
X-APPLE-STRUCTURED-LOCATION;VALUE=URI;X-ADDRESS=Lawson’s Finest Taproom 155 Carroll Road Waitsfield Vermont 05673;X-APPLE-RADIUS=500;X-TITLE=155 Carroll Road:geo:-72.8352541,44.1878437
END:VEVENT
BEGIN:VEVENT
DTSTART;TZID=America/Halifax:20240424T160000
DTEND;TZID=America/Halifax:20240424T190000
DTSTAMP:20260423T104047
CREATED:20240325T010928Z
LAST-MODIFIED:20240424T143809Z
UID:10006043-1713974400-1713985200@mrvvillage.com
SUMMARY:Raclette Night
DESCRIPTION:Alps-inspired Aprés at Lawson’s Finest Liquids\, every Wednesday from 4:00pm-7:00pm. A traditional Raclette dinner\, paired with specialty wines by the glass or bottle. Raclette plate: $20 \nhttps://www.instagram.com/p/C1o8yGiuj7R/
URL:https://mrvvillage.com/event/raclette-night-26/
LOCATION:Lawson’s Finest Brewery\, 155 Carroll Road\, Waitsfield\, VT\, 05673\, United States
ATTACH;FMTTYPE=image/jpeg:https://mrvvillage.com/wp-content/uploads/2023/12/Taproom_RacletteNight-8.5x11-1-pdf-vvcj7n.tmp_-sEnbG6.tmp_.jpg
ORGANIZER;CN="Lawson%26%238217%3Bs%20Finest%20Liquids":MAILTO:hello@lawsonsfinest.com
GEO:44.1878437;-72.8352541
X-APPLE-STRUCTURED-LOCATION;VALUE=URI;X-ADDRESS=Lawson’s Finest Brewery 155 Carroll Road Waitsfield VT 05673 United States;X-APPLE-RADIUS=500;X-TITLE=155 Carroll Road:geo:-72.8352541,44.1878437
END:VEVENT
BEGIN:VEVENT
DTSTART;TZID=America/New_York:20240424T183000
DTEND;TZID=America/New_York:20240424T200000
DTSTAMP:20260423T104047
CREATED:20240305T224054Z
LAST-MODIFIED:20240424T143809Z
UID:10005993-1713983400-1713988800@mrvvillage.com
SUMMARY:Building Affordability: Homes For All: State-Level Housing Solutions That Can Deliver
DESCRIPTION:Today\, Vermont’s home production is principally producing large\, expensive single-family homes on large and mid-size lots\, and large-scale multi-family apartments. Vermonters looking for housing options in-between\, like a duplex or four-plex\, cooperative housing\, senior housing units\, age-friendly homes\, or townhouse condominium—commonly referred to as Missing Middle Housing—have very limited options. In this final lecture of the spring speaker series\, we’ll explore key state-level policy and initiatives to deliver missing middle and infill housing solutions to communities across Vermont. Then\, we’ll dive into one innovative project\, Homes for All: A ‘Design & Do’ Toolkit for Small-scale Home Builders\, Investors & Community Leaders. The Toolkit\, which includes a Builders’ Workbook\, Missing Middle Homes Design Guide\, and five VT Neighborhood Infill Case Studies\, is chock-full of resources for emerging and aspiring small-scale developers and local housing champions—learn how the Toolkit can help you create and support diverse\, affordable housing options for all Vermonters.
URL:https://mrvvillage.com/event/building-affordability-homes-for-all-state-level-housing-solutions-that-can-deliver/
LOCATION:Yestermorrow Design/Build School\, 7865 Main Street\, Waitsfield\, 05673
CATEGORIES:Community
ATTACH;FMTTYPE=image/png:https://mrvvillage.com/wp-content/uploads/2024/03/YESTERMORROW_5in2010-TRAP-sciHY6.tmp_.png
ORGANIZER;CN="Yestermorrow%20Design%2FBuild%20School":MAILTO:info@yestermorrow.org
GEO:44.1490529;-72.8380281
X-APPLE-STRUCTURED-LOCATION;VALUE=URI;X-ADDRESS=Yestermorrow Design/Build School 7865 Main Street Waitsfield 05673;X-APPLE-RADIUS=500;X-TITLE=7865 Main Street:geo:-72.8380281,44.1490529
END:VEVENT
BEGIN:VEVENT
DTSTART;TZID=America/New_York:20240425T080000
DTEND;TZID=America/New_York:20240425T170000
DTSTAMP:20260423T104047
CREATED:20240408T022407Z
LAST-MODIFIED:20240425T143810Z
UID:10006070-1714032000-1714064400@mrvvillage.com
SUMMARY:Mad River Valley Backcountry Coalition Dawn Patrol
DESCRIPTION:Skiers and riders will meet at either Sugarbush or Mad River Glen in the wee hours of the morning to rise and rip! Exact time and location will be TBD each week based on conditions. The event leader will communicate the details each week via email/text to all who opt in to the group. Feel free to email info@mrvbc.org for more info. Uphill passes required at Sugarbush. All participants must read and adhere to the uphill policies: Sugarbush and Mad River Glen. All participants will be required to complete a waiver through MRVBC for each Thursday. Bring coffee/tea\, snacks\, and layers. See our Difficulty Rating System (https://www.mrvbc.org/events/tours) to determine if MRVBC’s tours are the right fit for you. This will be an intermediate uphill pace\, not a race! The downhill could be advanced terrain depending on conditions and route. Come prepared with knowledge of your own gear as this is not instruction\, but it is a great way to meet people\, get some amazing exercise and fresh air views\, and swap BC stories!\nSign up using the form linked on our website.
URL:https://mrvvillage.com/event/mad-river-valley-backcountry-coalition-dawn-patrol-3/
LOCATION:Sugarbush Resort\, 102 Forest Drive Warren\, VT 05674\, Warren\, 05674
CATEGORIES:Community,Sports & Recreation
ATTACH;FMTTYPE=image/jpeg:https://mrvvillage.com/wp-content/uploads/2024/04/Dawn-Patrol-HZP9LW.tmp_.jpg
ORGANIZER;CN="Mad%20River%20Valley%20Backcountry%20Coalition%20%28MRVBC%29":MAILTO:info@mrvbc.org
GEO:44.1272818;-72.9284492
X-APPLE-STRUCTURED-LOCATION;VALUE=URI;X-ADDRESS=Sugarbush Resort 102 Forest Drive Warren VT 05674 Warren 05674;X-APPLE-RADIUS=500;X-TITLE=102 Forest Drive Warren\, VT 05674:geo:-72.9284492,44.1272818
END:VEVENT
BEGIN:VEVENT
DTSTART;TZID=America/New_York:20240426T170000
DTEND;TZID=America/New_York:20240426T180000
DTSTAMP:20260423T104047
CREATED:20240418T142321Z
LAST-MODIFIED:20240426T143809Z
UID:10006080-1714150800-1714154400@mrvvillage.com
SUMMARY:Scrag Mountain Music\, Spiritual Sounding: Sacred Trees
DESCRIPTION:Friday\, April 26 5-6 pm\nMad River Valley Arts\, 5031 Main St\, Waitsfield \nJoin Evan Premo (multi-instrumentalist/composer and Scrag Mountain Music co-Artistic Director) and Mikahely (Burlington-based singer-songwriter instrumentalist originally from Madagascar) as they improvise on instruments made of trees. Evan and Mikahely will musically explore what trees can teach us about who we are as spiritual beings\, and Mikahely will speak about the importance of trees in Madagasy spiritual practice. Evan’s Spiritual Soundings feature improvised loop-based ambient music presented with an intentional theme. The community is invited to participate using any spiritual modality — meditation\, prayer\, deep listening\, movement etc — while holding the intention of the session’s theme. The hope is that this music and these gatherings will facilitate deep meditative experience which connects audiences to one another and all consciousness. \nSpace is limited and there are a limited number of chairs available. Attendees are encouraged to reserve tickets in advance and are invited to bring a cushion or mat to sit on. \nThis program is presented in conjunction with Mad River Valley Arts’s exhibition RISE: Trees\, Our Botanical Giants running through April 26. Reception following the Spiritual Sounding. \nPlease note that space is limited and there are a limited number of chairs available. Attendees are encouraged to reserve “Pay what you can” tickets in advance at scragmountainmusic.org and are invited to bring a cushion or mat to sit on.
URL:https://mrvvillage.com/event/scrag-mountain-music-spiritual-sounding-sacred-trees/
LOCATION:Mad River Valley Arts\, 5031 Main Street #2 Village Square\, Waitsfield\, 05673
CATEGORIES:Arts & Entertainment,Live Music
ATTACH;FMTTYPE=image/jpeg:https://mrvvillage.com/wp-content/uploads/2024/04/IMG_6787-fGZG48.tmp_.jpg
ORGANIZER;CN="Scrag%20Mountain%20Music":MAILTO:Lara@scragmountainmusic.org
GEO:44.1926386;-72.7798479
X-APPLE-STRUCTURED-LOCATION;VALUE=URI;X-ADDRESS=Mad River Valley Arts 5031 Main Street #2 Village Square Waitsfield 05673;X-APPLE-RADIUS=500;X-TITLE=5031 Main Street #2 Village Square:geo:-72.7798479,44.1926386
END:VEVENT
BEGIN:VEVENT
DTSTART;TZID=America/New_York:20240427T180000
DTEND;TZID=America/New_York:20240427T193000
DTSTAMP:20260423T104047
CREATED:20240410T023845Z
LAST-MODIFIED:20240427T145306Z
UID:10006072-1714240800-1714246200@mrvvillage.com
SUMMARY:‘Do-Over’ Live Storytelling Event
DESCRIPTION:Mosaic Vermont is hosting a Live Storytelling Event with the thee: Do-Over! Join us in listening to chosen storytellers tell their stories about starting from scratch\, second chances\, and redemption! Doors open at 5:30pm. Entry is $5-$20 sliding scale\, any donation is appreciated!
URL:https://mrvvillage.com/event/do-over-live-storytelling-event/
LOCATION:Plainfield Opera House\, 18 High St.\, Plainfield\, Vermont\, 05667\, United States
CATEGORIES:Community,Public Welcome
ATTACH;FMTTYPE=image/png:https://mrvvillage.com/wp-content/uploads/2024/04/Storytelling-2024-2-rRnXVP.tmp_.png
ORGANIZER;CN="Mosaic%20Vermont":MAILTO:morgan@mosaic-vt.org
GEO:44.2783684;-72.4261142
X-APPLE-STRUCTURED-LOCATION;VALUE=URI;X-ADDRESS=Plainfield Opera House 18 High St. Plainfield Vermont 05667 United States;X-APPLE-RADIUS=500;X-TITLE=18 High St.:geo:-72.4261142,44.2783684
END:VEVENT
BEGIN:VEVENT
DTSTART;TZID=America/New_York:20240428T150000
DTEND;TZID=America/New_York:20240428T180000
DTSTAMP:20260423T104047
CREATED:20240402T020925Z
LAST-MODIFIED:20240428T145307Z
UID:10006055-1714316400-1714327200@mrvvillage.com
SUMMARY:Firefolk Arts – Workshop + Artist Reception
DESCRIPTION:To close out our current art exhibition “Rooted Revelations\,” by Lebanese-American artist\, Feda Eid\, she’ll offer a workshop + live performance\, at which she shares a heritage-based activity for people of all ages to participate in. \nFree to all –  All are welcome / All ages.  No cost. (donations are encouraged) // Space is wheelchair accessible\, but restroom is not. \nDetails:\nHand Me Down Ritual Clothesline workshop.  Rooted Revelations reflects on household objects\, foods and sensory practices\, seen as portals for passing on ancestral or intuitive knowledge.  Feel free to bring an object of significance to add to our remembrance circle. \nThis will be a reflective community gathering\, given the ongoing issues in Gaza\, making space for ways we can act toward the liberation of all oppressed and marginalized communities. \nArt Prints will also be on sale for Gaza mutual aid.  Full amount will be donated to trusted mutual aid efforts.
URL:https://mrvvillage.com/event/firefolk-arts-workshop-artist-reception/
LOCATION:Firefolk Arts\, 4424 Main Street\, Waitsfield\, Vermont\, 05673\, United States
CATEGORIES:Arts & Entertainment,Community
ATTACH;FMTTYPE=image/jpeg:https://mrvvillage.com/wp-content/uploads/2024/04/1-VTETTG.tmp_.jpg
ORGANIZER;CN="Tina%20Picz":MAILTO:tinapicz@gmail.com
GEO:44.1897106;-72.825057
X-APPLE-STRUCTURED-LOCATION;VALUE=URI;X-ADDRESS=Firefolk Arts 4424 Main Street Waitsfield Vermont 05673 United States;X-APPLE-RADIUS=500;X-TITLE=4424 Main Street:geo:-72.825057,44.1897106
END:VEVENT
END:VCALENDAR