BEGIN:VCALENDAR
VERSION:2.0
PRODID:-//The Mad River Valley Village - ECPv6.0.13//NONSGML v1.0//EN
CALSCALE:GREGORIAN
METHOD:PUBLISH
X-ORIGINAL-URL:https://mrvvillage.com
X-WR-CALDESC:Events for The Mad River Valley Village
REFRESH-INTERVAL;VALUE=DURATION:PT1H
X-Robots-Tag:noindex
X-PUBLISHED-TTL:PT1H
BEGIN:VTIMEZONE
TZID:America/New_York
BEGIN:DAYLIGHT
TZOFFSETFROM:-0500
TZOFFSETTO:-0400
TZNAME:EDT
DTSTART:20240310T070000
END:DAYLIGHT
BEGIN:STANDARD
TZOFFSETFROM:-0400
TZOFFSETTO:-0500
TZNAME:EST
DTSTART:20241103T060000
END:STANDARD
BEGIN:DAYLIGHT
TZOFFSETFROM:-0500
TZOFFSETTO:-0400
TZNAME:EDT
DTSTART:20250309T070000
END:DAYLIGHT
BEGIN:STANDARD
TZOFFSETFROM:-0400
TZOFFSETTO:-0500
TZNAME:EST
DTSTART:20251102T060000
END:STANDARD
END:VTIMEZONE
BEGIN:VEVENT
DTSTART;TZID=America/New_York:20250816T000000
DTEND;TZID=America/New_York:20250816T235959
DTSTAMP:20260424T003732
CREATED:20250629T081320Z
LAST-MODIFIED:20250816T195321Z
UID:10008513-1755302400-1755388799@mrvvillage.com
SUMMARY:Pocock Rocks Music Festival & Street Fair
DESCRIPTION:Pocock Rocks Music Festival & Street Fair is Bristol’s annual celebration of local musicians\, artisans\, crafters\, food producers\, and beverage makers. \nThis awesome event is set in the Gateway to the Green Mountains and is FREE for all! \nCome dance\, eat\, shop\, and play in Bristol for the day.
URL:https://mrvvillage.com/event/pocock-rocks-music-festival-street-fair-3/
LOCATION:Main Street\, Bristol\, Main Street\, Bristol\, Vermont\, 05443\, United States
CATEGORIES:Live Music,Special Events
ORGANIZER;CN="Bristol%20CORE":MAILTO:info@bristolcore.org
GEO:44.1330462;-73.0776965
X-APPLE-STRUCTURED-LOCATION;VALUE=URI;X-ADDRESS=Main Street Bristol Main Street Bristol Vermont 05443 United States;X-APPLE-RADIUS=500;X-TITLE=Main Street:geo:-73.0776965,44.1330462
END:VEVENT
BEGIN:VEVENT
DTSTART;TZID=America/New_York:20240817T150000
DTEND;TZID=America/New_York:20240817T200000
DTSTAMP:20260424T003732
CREATED:20240816T163824Z
LAST-MODIFIED:20240817T170815Z
UID:10006652-1723906800-1723924800@mrvvillage.com
SUMMARY:Pocock Rocks Music Festival & Street Fair
DESCRIPTION:Pocock Rocks Music Festival & Street Fair is Bristol’s annual celebration of local musicians\, artisans\, crafters\, food producers\, and beverage makers. This awesome event is set in the Gateway to the Green Mountains and is FREE for all! Come dance\, eat\, shop\, and play in Bristol for the day. Line up: The Barncasters\, BodenBender\, Organized Dead\, Tom Bisson & The Rustics\, Soulstice\, Jeremy Mendicino
URL:https://mrvvillage.com/event/pocock-rocks-music-festival-street-fair-2/
LOCATION:Main Street\, Bristol\, Main Street\, Bristol\, Vermont\, 05443\, United States
CATEGORIES:Arts & Entertainment,Community
ATTACH;FMTTYPE=image/png:https://mrvvillage.com/wp-content/uploads/2024/08/PR_AI-9.75-x-1225-in-73C4Ba.tmp_.png
ORGANIZER;CN="Bristol%20CORE":MAILTO:info@bristolcore.org
GEO:44.1330462;-73.0776965
X-APPLE-STRUCTURED-LOCATION;VALUE=URI;X-ADDRESS=Main Street Bristol Main Street Bristol Vermont 05443 United States;X-APPLE-RADIUS=500;X-TITLE=Main Street:geo:-73.0776965,44.1330462
END:VEVENT
BEGIN:VEVENT
DTSTART;TZID=America/New_York:20240817T150000
DTEND;TZID=America/New_York:20240817T200000
DTSTAMP:20260424T003732
CREATED:20240724T130951Z
LAST-MODIFIED:20240815T163828Z
UID:10006538-1723906800-1723924800@mrvvillage.com
SUMMARY:Pocock Rocks Music Festival & Street Fair
DESCRIPTION:Pocock Rocks Music Festival & Street Fair is Bristol’s annual celebration of local musicians\, artisans\, crafters\, food producers\, and beverage makers. This awesome event is set in the Gateway to the Green Mountains and is FREE for all! Come dance\, eat\, shop\, and play in Bristol for the day. Line up: The Barncasters\, BodenBender\, Organized Dead\, Tom Bisson & The Rustics\, Soulstice\, Jeremy Mendicino
URL:https://mrvvillage.com/event/pocock-rocks-music-festival-street-fair/
LOCATION:Main Street\, Bristol\, Main Street\, Bristol\, Vermont\, 05443\, United States
CATEGORIES:Arts & Entertainment,Community
ATTACH;FMTTYPE=image/png:https://mrvvillage.com/wp-content/uploads/2024/07/PR_AI-9.75-x-1225-in-Ye10jg.tmp_.png
ORGANIZER;CN="Bristol%20CORE":MAILTO:info@bristolcore.org
GEO:44.1330462;-73.0776965
X-APPLE-STRUCTURED-LOCATION;VALUE=URI;X-ADDRESS=Main Street Bristol Main Street Bristol Vermont 05443 United States;X-APPLE-RADIUS=500;X-TITLE=Main Street:geo:-73.0776965,44.1330462
END:VEVENT
END:VCALENDAR