BEGIN:VCALENDAR
VERSION:2.0
PRODID:-//The Mad River Valley Village - ECPv6.0.13//NONSGML v1.0//EN
CALSCALE:GREGORIAN
METHOD:PUBLISH
X-WR-CALNAME:The Mad River Valley Village
X-ORIGINAL-URL:https://mrvvillage.com
X-WR-CALDESC:Events for The Mad River Valley Village
REFRESH-INTERVAL;VALUE=DURATION:PT1H
X-Robots-Tag:noindex
X-PUBLISHED-TTL:PT1H
BEGIN:VTIMEZONE
TZID:America/New_York
BEGIN:DAYLIGHT
TZOFFSETFROM:-0500
TZOFFSETTO:-0400
TZNAME:EDT
DTSTART:20230312T070000
END:DAYLIGHT
BEGIN:STANDARD
TZOFFSETFROM:-0400
TZOFFSETTO:-0500
TZNAME:EST
DTSTART:20231105T060000
END:STANDARD
BEGIN:DAYLIGHT
TZOFFSETFROM:-0500
TZOFFSETTO:-0400
TZNAME:EDT
DTSTART:20240310T070000
END:DAYLIGHT
BEGIN:STANDARD
TZOFFSETFROM:-0400
TZOFFSETTO:-0500
TZNAME:EST
DTSTART:20241103T060000
END:STANDARD
BEGIN:DAYLIGHT
TZOFFSETFROM:-0500
TZOFFSETTO:-0400
TZNAME:EDT
DTSTART:20250309T070000
END:DAYLIGHT
BEGIN:STANDARD
TZOFFSETFROM:-0400
TZOFFSETTO:-0500
TZNAME:EST
DTSTART:20251102T060000
END:STANDARD
END:VTIMEZONE
BEGIN:VEVENT
DTSTART;TZID=America/New_York:20250625T100000
DTEND;TZID=America/New_York:20250625T150000
DTSTAMP:20260423T170935
CREATED:20250613T040929Z
LAST-MODIFIED:20250625T145328Z
UID:10008323-1750845600-1750863600@mrvvillage.com
SUMMARY:Red Cross Blood Drive at Cabot Creamery
DESCRIPTION:We are hosting an American Red Cross Blood Drive at Cabot Creamery HQ (193 Home Farm Way\, Waitsfield\, VT) on Wednesday\, June 25th from 10 am – 3 pm. You can view available appointments and SIGN UP TODAY!   \nRed Cross Promo: As an added incentive\, the American Red Cross will email this month’s donors a $15 Amazon gift card after their appointment. And… another Bonus: We have cheese to share!!!
URL:https://mrvvillage.com/event/red-cross-blood-drive-at-cabot-creamery-2/
LOCATION:cabot creamery\, Mad River Park - 193 Home Way\, Waitsfield\, VT\, 05673
CATEGORIES:Community
ATTACH;FMTTYPE=image/webp:https://mrvvillage.com/wp-content/uploads/2024/08/AmericanRedCross-BloodDrive.jpg-x1Jzzh.tmp_.webp
GEO:44.2275198;-72.7937629
X-APPLE-STRUCTURED-LOCATION;VALUE=URI;X-ADDRESS=cabot creamery Mad River Park - 193 Home Way Waitsfield VT 05673;X-APPLE-RADIUS=500;X-TITLE=Mad River Park - 193 Home Way:geo:-72.7937629,44.2275198
END:VEVENT
BEGIN:VEVENT
DTSTART;TZID=America/New_York:20250115T100000
DTEND;TZID=America/New_York:20250115T150000
DTSTAMP:20260423T170935
CREATED:20241221T192440Z
LAST-MODIFIED:20250115T123824Z
UID:10007375-1736935200-1736953200@mrvvillage.com
SUMMARY:Red Cross Blood Drive at Cabot Creamery
DESCRIPTION:  \n📅 Event Listing: Red Cross Blood Drive at Cabot Creamery \n🩸 Give Blood\, Save Lives – and Score Big! \n📍 Location: Cabot Creamery📆  \nDate: Wednesday\, January 15\, 2024 \n⏰ Time: 10:00 AM – 3:00 PM \nJoin us at Cabot Creamery for a Red Cross Blood Drive! Your donation could help save lives – and that’s not all. Firstly\, there is ALWAYS FREE CHEESE! Plus\, as a donor\, you’ll automatically be entered for a chance to win an unforgettable trip for two to Super Bowl LIX in New Orleans! 🏈✨ \nGrand Prize Includes: \n\nTravel and hotel accommodations\nA $1\,000 gift card\nPre-game activities\nAnd\, of course\, tickets to the big game!\n\nSign up at: https://www.redcrossblood.org/give.html/drive-results?order=DATE&range=10&zipSponsor=cabot
URL:https://mrvvillage.com/event/red-cross-blood-drive-at-cabot-creamery/
LOCATION:cabot creamery\, Mad River Park - 193 Home Way\, Waitsfield\, VT\, 05673
CATEGORIES:Community,Wellness
ATTACH;FMTTYPE=image/webp:https://mrvvillage.com/wp-content/uploads/2024/08/AmericanRedCross-BloodDrive.jpg-x1Jzzh.tmp_.webp
GEO:44.2275198;-72.7937629
X-APPLE-STRUCTURED-LOCATION;VALUE=URI;X-ADDRESS=cabot creamery Mad River Park - 193 Home Way Waitsfield VT 05673;X-APPLE-RADIUS=500;X-TITLE=Mad River Park - 193 Home Way:geo:-72.7937629,44.2275198
END:VEVENT
BEGIN:VEVENT
DTSTART;TZID=America/New_York:20240828T100000
DTEND;TZID=America/New_York:20240828T143000
DTSTAMP:20260423T170935
CREATED:20240819T173907Z
LAST-MODIFIED:20240828T190816Z
UID:10006803-1724839200-1724855400@mrvvillage.com
SUMMARY:Cabot Creamery Blood Drive
DESCRIPTION:Cabot Creamery is hosting another Blood Drive at Cabot headquarters (193 Home Farm Way) on August 28th from 10 am to 2:30 pm and would love to see you if you can give blood! \nThey’ll have cheese for those who donate\, and the American Red Cross is offering a $20 Amazon Gift Card as a promo for this drive. They are facing an emergency blood shortage and are asking people to make an appointment to give now! \nPlease spread the word and sign up at: https://www.redcrossblood.org/give.html/drive-results?zipSponsor=cabot \n 
URL:https://mrvvillage.com/event/cabot-creamery-blood-drive-6/
LOCATION:cabot creamery\, Mad River Park - 193 Home Way\, Waitsfield\, VT\, 05673
CATEGORIES:Community
ATTACH;FMTTYPE=image/webp:https://mrvvillage.com/wp-content/uploads/2024/08/AmericanRedCross-BloodDrive.jpg-x1Jzzh.tmp_.webp
GEO:44.2275198;-72.7937629
X-APPLE-STRUCTURED-LOCATION;VALUE=URI;X-ADDRESS=cabot creamery Mad River Park - 193 Home Way Waitsfield VT 05673;X-APPLE-RADIUS=500;X-TITLE=Mad River Park - 193 Home Way:geo:-72.7937629,44.2275198
END:VEVENT
BEGIN:VEVENT
DTSTART;TZID=America/New_York:20240626T100000
DTEND;TZID=America/New_York:20240626T143000
DTSTAMP:20260423T170935
CREATED:20240607T055340Z
LAST-MODIFIED:20240626T210820Z
UID:10006206-1719396000-1719412200@mrvvillage.com
SUMMARY:Cabot Creamery Blood Drive
DESCRIPTION:Blood Drive at Cabot Creamery’s Waitsfield headquarters (193 Home Farm Way) on June 26th from 10 am to 2:30 pm. Come on down and give blood! They’ll have some delicious Cabot cheese for those who donate\, of course.  Click on the link to make an appointment. \nThere are also upcoming event on August 28 and October 30!
URL:https://mrvvillage.com/event/cabot-creamery-blood-drive-2/
LOCATION:cabot creamery\, Mad River Park - 193 Home Way\, Waitsfield\, VT\, 05673
CATEGORIES:Community,Special Events,Wellness
ATTACH;FMTTYPE=image/webp:https://mrvvillage.com/wp-content/uploads/2024/06/AmericanRedCross-BloodDrive.jpg-P3oAf8.tmp_.webp
GEO:44.2275198;-72.7937629
X-APPLE-STRUCTURED-LOCATION;VALUE=URI;X-ADDRESS=cabot creamery Mad River Park - 193 Home Way Waitsfield VT 05673;X-APPLE-RADIUS=500;X-TITLE=Mad River Park - 193 Home Way:geo:-72.7937629,44.2275198
END:VEVENT
BEGIN:VEVENT
DTSTART;TZID=America/New_York:20240117T100000
DTEND;TZID=America/New_York:20240117T150000
DTSTAMP:20260423T170935
CREATED:20240111T125409Z
LAST-MODIFIED:20240117T143827Z
UID:10005857-1705485600-1705503600@mrvvillage.com
SUMMARY:Blood Drive at Cabot Creamery Offices
DESCRIPTION:American Red Cross Blood Drive at Cabot Creamery Waitsfield Headquarters\n10:00 AM – 03:00 PM – Make an appointment today!
URL:https://mrvvillage.com/event/blood-drive-at-cabot-creamery-offices/
LOCATION:cabot creamery\, Mad River Park - 193 Home Way\, Waitsfield\, VT\, 05673
CATEGORIES:Community,Wellness
ATTACH;FMTTYPE=image/jpeg:https://mrvvillage.com/wp-content/uploads/2024/01/AdobeStock_283496577-scaled-1-AhB6Yv.tmp_.jpg
GEO:44.2275198;-72.7937629
X-APPLE-STRUCTURED-LOCATION;VALUE=URI;X-ADDRESS=cabot creamery Mad River Park - 193 Home Way Waitsfield VT 05673;X-APPLE-RADIUS=500;X-TITLE=Mad River Park - 193 Home Way:geo:-72.7937629,44.2275198
END:VEVENT
BEGIN:VEVENT
DTSTART;TZID=America/New_York:20231101T100000
DTEND;TZID=America/New_York:20231101T150000
DTSTAMP:20260423T170935
CREATED:20231005T172509Z
LAST-MODIFIED:20231101T235314Z
UID:10005349-1698832800-1698850800@mrvvillage.com
SUMMARY:Cabot Creamery Blood Drive
DESCRIPTION:On Wednesday November 1\, Cabot Creamery is partnering up with the American Red Cross to host  a Blood Drive in their Waitsfield Office tenant space from 10am-3pm. Please consider making an appointment – donating blood ensures our neighbors\, friends\, and family have it when they need it… AND there will be snacks\, drinks\, and cheese available after your donation. \nIf you choose to participate\, please also consider downloading the Red Cross App and joining the Cabot Creamery Co-operative Team. We are currently ranked #437 out of more than 61\,000 teams \n 
URL:https://mrvvillage.com/event/cabot-creamery-blood-drive/
LOCATION:cabot creamery\, Mad River Park - 193 Home Way\, Waitsfield\, VT\, 05673
CATEGORIES:Community,Wellness
ATTACH;FMTTYPE=image/png:https://mrvvillage.com/wp-content/uploads/2023/10/Cabot-New-2022-Logo-XvhGRD.tmp_.png
GEO:44.2275198;-72.7937629
X-APPLE-STRUCTURED-LOCATION;VALUE=URI;X-ADDRESS=cabot creamery Mad River Park - 193 Home Way Waitsfield VT 05673;X-APPLE-RADIUS=500;X-TITLE=Mad River Park - 193 Home Way:geo:-72.7937629,44.2275198
END:VEVENT
END:VCALENDAR