BEGIN:VCALENDAR
VERSION:2.0
PRODID:-//The Mad River Valley Village - ECPv6.0.13//NONSGML v1.0//EN
CALSCALE:GREGORIAN
METHOD:PUBLISH
X-WR-CALNAME:The Mad River Valley Village
X-ORIGINAL-URL:https://mrvvillage.com
X-WR-CALDESC:Events for The Mad River Valley Village
REFRESH-INTERVAL;VALUE=DURATION:PT1H
X-Robots-Tag:noindex
X-PUBLISHED-TTL:PT1H
BEGIN:VTIMEZONE
TZID:America/New_York
BEGIN:DAYLIGHT
TZOFFSETFROM:-0500
TZOFFSETTO:-0400
TZNAME:EDT
DTSTART:20230312T070000
END:DAYLIGHT
BEGIN:STANDARD
TZOFFSETFROM:-0400
TZOFFSETTO:-0500
TZNAME:EST
DTSTART:20231105T060000
END:STANDARD
BEGIN:DAYLIGHT
TZOFFSETFROM:-0500
TZOFFSETTO:-0400
TZNAME:EDT
DTSTART:20240310T070000
END:DAYLIGHT
BEGIN:STANDARD
TZOFFSETFROM:-0400
TZOFFSETTO:-0500
TZNAME:EST
DTSTART:20241103T060000
END:STANDARD
BEGIN:DAYLIGHT
TZOFFSETFROM:-0500
TZOFFSETTO:-0400
TZNAME:EDT
DTSTART:20250309T070000
END:DAYLIGHT
BEGIN:STANDARD
TZOFFSETFROM:-0400
TZOFFSETTO:-0500
TZNAME:EST
DTSTART:20251102T060000
END:STANDARD
BEGIN:DAYLIGHT
TZOFFSETFROM:-0500
TZOFFSETTO:-0400
TZNAME:EDT
DTSTART:20260308T070000
END:DAYLIGHT
BEGIN:STANDARD
TZOFFSETFROM:-0400
TZOFFSETTO:-0500
TZNAME:EST
DTSTART:20261101T060000
END:STANDARD
END:VTIMEZONE
BEGIN:VEVENT
DTSTART;TZID=America/New_York:20260117T150000
DTEND;TZID=America/New_York:20260117T170000
DTSTAMP:20260423T005947
CREATED:20251222T184027Z
LAST-MODIFIED:20260117T200836Z
UID:10009541-1768662000-1768669200@mrvvillage.com
SUMMARY:DragonBoot Returns!
DESCRIPTION:Eleva is proud to present the return of the award-winning string quartet\, DragonBoot\, based at Juilliard for an unforgettable Winter afternoon. These extra-ordinarily talented women will make you experience string music like you’ve never heard before. \nSaturday\, January 17\, 2026\, 3:00 PM\nWaterbury Congregational Church\n8 North Main\, Waterbury\, VT \nPROGRAM:\nBeethoven: String Quartet Op. 135\nShulamit Rhan: Glitter Shards and Doom: That Which Happened\nJanáček: String Quartet No. 2 “Intimate Letters”
URL:https://mrvvillage.com/event/dragonboot-returns/
LOCATION:Waterbury Congregational Church\, 8 N Main St\, Waterbury\, VT
CATEGORIES:Live Music
GEO:44.3378343;-72.756229
X-APPLE-STRUCTURED-LOCATION;VALUE=URI;X-ADDRESS=Waterbury Congregational Church 8 N Main St Waterbury VT;X-APPLE-RADIUS=500;X-TITLE=8 N Main St:geo:-72.756229,44.3378343
END:VEVENT
BEGIN:VEVENT
DTSTART;TZID=America/New_York:20251109T150000
DTEND;TZID=America/New_York:20251109T170000
DTSTAMP:20260423T005947
CREATED:20251021T072426Z
LAST-MODIFIED:20251109T182324Z
UID:10009130-1762700400-1762707600@mrvvillage.com
SUMMARY:Eleva Chamber Players 20th Anniversary Concert
DESCRIPTION:The Eleva Chamber Players is celebrating its 20th Anniversary Season by collaborating with Counterpoint\, Vermont’s professional choral ensemble. \nThe program\, entitled “Nordic Sunrise\,” will feature Mendelssohn’s Sinfonia No. 1 in C Major and Swedish composer Dag Ivar Wirén’s Serenade for Strings\, Opus 11. Counterpoint will join Eleva on Danish/Vermont composer Erik Nielsen’s O Mistress Mine and Norwegian composer Ola Gjeilo’s atmospheric Sunrise Mass.
URL:https://mrvvillage.com/event/eleva-chamber-players-20th-anniversary-concert/
LOCATION:Inn at the Round Barn\, 1661 East Warren Rd\, Waitsfield 1661 East Warren Rd\, Waitsfield\, Vermont\, 05673\, United States
CATEGORIES:Live Music
GEO:44.1676648;-72.811235
X-APPLE-STRUCTURED-LOCATION;VALUE=URI;X-ADDRESS=Inn at the Round Barn 1661 East Warren Rd Waitsfield 1661 East Warren Rd Waitsfield Vermont 05673 United States;X-APPLE-RADIUS=500;X-TITLE=1661 East Warren Rd\, Waitsfield 1661 East Warren Rd:geo:-72.811235,44.1676648
END:VEVENT
BEGIN:VEVENT
DTSTART;TZID=America/New_York:20250111T150000
DTEND;TZID=America/New_York:20250111T170000
DTSTAMP:20260423T005947
CREATED:20241228T220911Z
LAST-MODIFIED:20250111T235324Z
UID:10007475-1736607600-1736614800@mrvvillage.com
SUMMARY:DragonBoot String Quartet
DESCRIPTION:Eleva Chamber Players Presents The DragonBoot String Quartet \nThe Eleva Chamber Players will present the New York City-based DragonBoot String Quartet on Saturday\, January 11\, 2025 at 3 PM at the United Church of Christ/Waterbury Congregational Church (8 North Main Street\, Waterbury). Admission is $25\, $20 for Seniors\, Students. Tickets are available at https://www.elevachamberplayers.com or at the door. \nDragonBoot\, a quartet of vibrant and exceptionally talented young musicians\, poised at the brink of promising careers\, will perform music of two familiar composers\, and will also introduce the audience to the work of a contemporary American composer. The program will include Haydn’s String Quartet Op.33 No. 1\, Mozart’s String Quartet No. 21 in D – K575 and Caroline Shaw’s Three Essays for String Quartet. \nThe DragonBoot String Quartet includes violinists Cate Carson and Katya Moeller\, violist Sydney Whipple (an Eleva member) and cellist Lila Holyoke. Built on a foundation of deep musical relationships\, the members of this ensemble have fostered musical connections that have survived the test of time. Violinist Cate Carson and violist Sydney Whipple first played together at the California Summer Music Festival—over ten years ago. Cellist Lila Holyoke and violinist Katya Moeller have performed together in chamber ensembles for three consecutive years. Most recently\, Lila and Cate performed together for seven weeks\, sharing chamber works with children at Kneisel Hall. The DragonBoot String Quartet is the ultimate fusion of these avid chamber musicians\, finally coming together at The Juilliard School. They are currently in the Honors Chamber Music Program at Juilliard\, coaching with former Cavani Quartet member\, Merry Peckham and Juilliard Provost and violist\, Adam Meyer. \nThe Eleva Chamber Players is Central Vermont’s only professional string chamber orchestra and was founded in April of 2006 in Waterbury\, Vermont with the mission of elevating the human spirit through music. Eleva’s concerts feature fine musicianship and fascinating dialogue that is both educational and inspiring. The conductor-less orchestra operates using a collaborative process and is composed of professional musicians with distinguished international careers from throughout Vermont and the United States. In addition to its annual November concerts\, Eleva has conducted concert tours of Vermont wineries and various house concerts around the country.
URL:https://mrvvillage.com/event/dragonboot-string-quartet/
LOCATION:Waterbury Congregational Church\, 8 N Main St\, Waterbury\, VT
CATEGORIES:Family Friendly,Live Music,Ticketed Event
ATTACH;FMTTYPE=image/jpeg:https://mrvvillage.com/wp-content/uploads/2024/12/2501-DragonBoot-Quartet-Official-small-Ej9JXl.tmp_.jpg
GEO:44.3378343;-72.756229
X-APPLE-STRUCTURED-LOCATION;VALUE=URI;X-ADDRESS=Waterbury Congregational Church 8 N Main St Waterbury VT;X-APPLE-RADIUS=500;X-TITLE=8 N Main St:geo:-72.756229,44.3378343
END:VEVENT
BEGIN:VEVENT
DTSTART;TZID=America/New_York:20240210T150000
DTEND;TZID=America/New_York:20240210T163000
DTSTAMP:20260423T005947
CREATED:20240129T173937Z
LAST-MODIFIED:20240210T195324Z
UID:10005897-1707577200-1707582600@mrvvillage.com
SUMMARY:Afternoon Enchantment a flute and piano program presented by Eleva Chamber Players
DESCRIPTION:The Eleva Chamber Players is presenting two celebrated Vermont-based musicians – flutist Laurel Ann Maurer and pianist Michael Sitton – in a midday concert titled Afternoon Enchantment. They will share their magic and wizardry on the flute and piano in a program that includes works by Donizetti\, Schubert\, Franckenpohl and Piazzolla. They will also perform the world premiere of “The Fourth Highway” written by Vermont composer David Gunn for Maurer.
URL:https://mrvvillage.com/event/afternoon-enchantment-a-flute-and-piano-program-presented-by-eleva-chamber-players/
LOCATION:United Church of Christ/Waterbury Congregational Church\, 8 North Main Street 8 North Main Street\, Waterbury\, Vermont\, 05676\, United States
CATEGORIES:Arts & Entertainment
GEO:44.337528;-72.756371
X-APPLE-STRUCTURED-LOCATION;VALUE=URI;X-ADDRESS=United Church of Christ/Waterbury Congregational Church 8 North Main Street 8 North Main Street Waterbury Vermont 05676 United States;X-APPLE-RADIUS=500;X-TITLE=8 North Main Street 8 North Main Street:geo:-72.756371,44.337528
END:VEVENT
BEGIN:VEVENT
DTSTART;TZID=America/New_York:20231112T150000
DTEND;TZID=America/New_York:20231112T170000
DTSTAMP:20260423T005947
CREATED:20231017T164027Z
LAST-MODIFIED:20231112T212314Z
UID:10005399-1699801200-1699808400@mrvvillage.com
SUMMARY:Eleva Chamber Players “The Baroque Effect”
DESCRIPTION:The Eleva Chamber Players will explore the influence of Baroque music through the ages by performing Telemann’s Concerto in F for 3 Violins Respighi’s Ancient Airs & Dances Suite 3\, Vivaldi’s Spring from The Four Seasons and Holst’s St. Paul’s Suite in C Major (Op. 29\, No. 2). The concerts will take place on Saturday\, November 11\, 2023\, at 3:00 pm at the United Church of Christ/Waterbury Congregational Church (8 North Main Street\, Waterbury) and on Sunday\, November 12\, 2023 at 3:00 pm at The Inn at Round Barn Farm (1661 East Warren Rd\, Waitsfield). A pre-concert reception will take place before the Round Barn performance. Admission is $25\, $20 for Seniors\, Students. Tickets are available at https://www.elevachamberplayers.com or at the door.
URL:https://mrvvillage.com/event/eleva-chamber-players-the-baroque-effect-2/
LOCATION:Inn at the Round Barn\, 1661 East Warren Rd\, Waitsfield 1661 East Warren Rd\, Waitsfield\, Vermont\, 05673\, United States
CATEGORIES:Arts & Entertainment,Community,Live Music
ATTACH;FMTTYPE=image/jpeg:https://mrvvillage.com/wp-content/uploads/2023/10/4a10d416238035.562a76e5146a7-ezkonw.tmp_.jpg
GEO:44.1676648;-72.811235
X-APPLE-STRUCTURED-LOCATION;VALUE=URI;X-ADDRESS=Inn at the Round Barn 1661 East Warren Rd Waitsfield 1661 East Warren Rd Waitsfield Vermont 05673 United States;X-APPLE-RADIUS=500;X-TITLE=1661 East Warren Rd\, Waitsfield 1661 East Warren Rd:geo:-72.811235,44.1676648
END:VEVENT
BEGIN:VEVENT
DTSTART;TZID=America/New_York:20231111T150000
DTEND;TZID=America/New_York:20231111T170000
DTSTAMP:20260423T005947
CREATED:20231017T164024Z
LAST-MODIFIED:20231111T210826Z
UID:10005398-1699714800-1699722000@mrvvillage.com
SUMMARY:Eleva Chamber Players “The Baroque Effect”
DESCRIPTION:The Eleva Chamber Players will explore the influence of Baroque music through the ages by performing Telemann’s Concerto in F for 3 Violins Respighi’s Ancient Airs & Dances Suite 3\, Vivaldi’s Spring from The Four Seasons and Holst’s St. Paul’s Suite in C Major (Op. 29\, No. 2). The concerts will take place on Saturday\, November 11\, 2023\, at 3:00 pm at the United Church of Christ/Waterbury Congregational Church (8 North Main Street\, Waterbury) and on Sunday\, November 12\, 2023 at 3:00 pm at The Inn at Round Barn Farm (1661 East Warren Rd\, Waitsfield). A pre-concert reception will take place before the Round Barn performance. Admission is $25\, $20 for Seniors\, Students. Tickets are available at https://www.elevachamberplayers.com or at the door.
URL:https://mrvvillage.com/event/eleva-chamber-players-the-baroque-effect/
LOCATION:Waterbury Congragational Church\, Route 100\, Waterbury\, VT
CATEGORIES:Arts & Entertainment,Community,Live Music
ATTACH;FMTTYPE=image/jpeg:https://mrvvillage.com/wp-content/uploads/2023/10/4a10d416238035.562a76e5146a7-ezkonw.tmp_.jpg
GEO:44.3779921;-72.72434
X-APPLE-STRUCTURED-LOCATION;VALUE=URI;X-ADDRESS=Waterbury Congragational Church Route 100 Waterbury VT;X-APPLE-RADIUS=500;X-TITLE=Route 100:geo:-72.72434,44.3779921
END:VEVENT
END:VCALENDAR