BEGIN:VCALENDAR
VERSION:2.0
PRODID:-//The Mad River Valley Village - ECPv6.0.13//NONSGML v1.0//EN
CALSCALE:GREGORIAN
METHOD:PUBLISH
X-ORIGINAL-URL:https://mrvvillage.com
X-WR-CALDESC:Events for The Mad River Valley Village
REFRESH-INTERVAL;VALUE=DURATION:PT1H
X-Robots-Tag:noindex
X-PUBLISHED-TTL:PT1H
BEGIN:VTIMEZONE
TZID:America/New_York
BEGIN:DAYLIGHT
TZOFFSETFROM:-0500
TZOFFSETTO:-0400
TZNAME:EDT
DTSTART:20240310T070000
END:DAYLIGHT
BEGIN:STANDARD
TZOFFSETFROM:-0400
TZOFFSETTO:-0500
TZNAME:EST
DTSTART:20241103T060000
END:STANDARD
BEGIN:DAYLIGHT
TZOFFSETFROM:-0500
TZOFFSETTO:-0400
TZNAME:EDT
DTSTART:20250309T070000
END:DAYLIGHT
BEGIN:STANDARD
TZOFFSETFROM:-0400
TZOFFSETTO:-0500
TZNAME:EST
DTSTART:20251102T060000
END:STANDARD
BEGIN:DAYLIGHT
TZOFFSETFROM:-0500
TZOFFSETTO:-0400
TZNAME:EDT
DTSTART:20260308T070000
END:DAYLIGHT
BEGIN:STANDARD
TZOFFSETFROM:-0400
TZOFFSETTO:-0500
TZNAME:EST
DTSTART:20261101T060000
END:STANDARD
END:VTIMEZONE
BEGIN:VEVENT
DTSTART;TZID=America/New_York:20260117T190000
DTEND;TZID=America/New_York:20260117T210000
DTSTAMP:20260421T234832
CREATED:20260107T223956Z
LAST-MODIFIED:20260117T200852Z
UID:10009677-1768676400-1768683600@mrvvillage.com
SUMMARY:Harwood Auditorium Revitalization Project at the Big Picture; Featuring Reid Parsons
DESCRIPTION:Harwood Alum\, Reid Parsons\, will return to the Mad River Valley to headline a fundraising concert for the Harwood Auditorium Revitalization Project at the Big Picture on Saturday\, January 17th. The show will celebrate the legacy of high-quality music education at Harwood by featuring Parsons and including the current HUHS student band\, the Glam Cowboys\, as the opening act. \nThe show is part of a concert series presented throughout the Harwood district to support HARP\, the Harwood Auditorium Revitalization Project. HARP was created to raise funds for key improvements that will benefit students\, educators\, and the broader community. The HARP seeks to transform an aging facility into a vibrant\, safe\, and fully equipped space that reflects the talent and dedication of our students and community. Despite years of excellence in our Music and Theater programs\, the theater itself has not been substantially renovated since 1997 and no longer meets the needs of modern performances. \nHarwood Theater Director Scott Weigand felt Parsons was a perfect choice to perform since she reflects the longstanding high caliber of the HUHS Music Department. A 2011 Harwood alum\, Parsons was very involved in the Harwood Music department and was the lead in “Annie Get Your Gun” in 2009\, the first Harwood show Weigand directed. \nParsons is now a Burlington-based singer-songwriter whose music blends soul\, folk\, blues\, and jazz-infused Americana into something both grounded and expansive. Her debut full-length album\, “Back to Back”\, released in the spring of 2025\, showcases her signature style: expressive vocals\, layered arrangements\, and songs that are as emotionally resonant as they are sonically rich. Written\, arranged\, and produced by Parsons herself\, the record moves confidently between intimate ballads and full-band tracks with a deep sense of groove and feeling. \nOpening the show for Parsons will be the Glam Cowboys\, Harwood’s next generation of talent\, made up of active members of the Harwood Music and Theater Departments. The Glam Cowboys are an indie-pop/rock band featuring Eireann McDonough on lead vocals\, Tarin Askew on guitar and vocals\, Cora Potts on drums\, Cali Neville on bass\, and Eliza Whitehair on keys.\nKnown for their coordinated attire and live energy\, they perform a diverse collection of original music. They have performed at venues such as Zen Barn\, Higher Ground\, Firefolk Arts\, and recently in MRVTV’s In-Studio Live Music Series. \nTickets are available at:\nhttps://www.bigpicturetheater.info/event-details/harwood-auditorium-revitalization-project-presen ts-reid-parsons
URL:https://mrvvillage.com/event/harwood-auditorium-revitalization-project-at-the-big-picture-featuring-reid-parsons/
LOCATION:Big Picture Theater\, 44 Carroll Road\, Waitsfield\, 05673
CATEGORIES:Arts & Entertainment,Community,Live Music
ATTACH;FMTTYPE=image/jpeg:https://mrvvillage.com/wp-content/uploads/2026/01/The-Harwood-Auditorium-Revitalization-Project-Presents-1-2-XE3eZx.jpg
GEO:44.1874779;-72.8335286
X-APPLE-STRUCTURED-LOCATION;VALUE=URI;X-ADDRESS=Big Picture Theater 44 Carroll Road Waitsfield 05673;X-APPLE-RADIUS=500;X-TITLE=44 Carroll Road:geo:-72.8335286,44.1874779
END:VEVENT
BEGIN:VEVENT
DTSTART;TZID=America/New_York:20251114T173000
DTEND;TZID=America/New_York:20251114T203000
DTSTAMP:20260421T234832
CREATED:20251028T163935Z
LAST-MODIFIED:20251114T192323Z
UID:10009189-1763141400-1763152200@mrvvillage.com
SUMMARY:Kids NIght Out
DESCRIPTION:Hosted by the Harwood Union High School Volleyball Team. 5:30 -8:30 pm on Friday\, November 14th. \nWe are excited to host a second annual fun night out for kids! All funds raised will support the purchase of equipment and supplies for the Harwood Girls Volleyball Team\, comprised of 24 athletes slaying it on the volleyball court this Fall! The evening takes place in the Harwood gym\, kids can be dropped off at the Harwood main entrance. Cost is $30 per child ($20 for each additional sibling) and includes volleyball lessons and games\, arts and crafts\, snacks and a pizza dinner. \nEvery child who attend Kids’ Night Out will be entered into a drawing to receive a $50 gift card to The Collection. We are so grateful to The Collection for this wonderful donation. \n(Please note: There is also a CBMS and HUMS dance that night too!)
URL:https://mrvvillage.com/event/kids-night-out/
LOCATION:Hardwood Union\, 458 VT RTE 100\, Moretown\, VT
CATEGORIES:Community,Schools
ATTACH;FMTTYPE=image/png:https://mrvvillage.com/wp-content/uploads/2025/10/Screenshot-2025-10-28-at-7.59.49-AM-XvCVYN.png
GEO:44.254117;-72.7865684
X-APPLE-STRUCTURED-LOCATION;VALUE=URI;X-ADDRESS=Hardwood Union 458 VT RTE 100 Moretown VT;X-APPLE-RADIUS=500;X-TITLE=458 VT RTE 100:geo:-72.7865684,44.254117
END:VEVENT
BEGIN:VEVENT
DTSTART;TZID=America/New_York:20241018T170000
DTEND;TZID=America/New_York:20241018T200000
DTSTAMP:20260421T234832
CREATED:20241009T012419Z
LAST-MODIFIED:20241018T140811Z
UID:10007129-1729270800-1729281600@mrvvillage.com
SUMMARY:Harwood Union High School Volleyball Team Fundraiser “Parent’s NIght Out”
DESCRIPTION:Harwood Union High School Volleyball Team is hosting a “Parent’s Night Out”. Proceeds will go towards the team for equipment\, end of year banquet and supplies. \nHarwood Union High School\, 459 Vt Rte 100\, Moretown \nFriday October 18th \n5:00-8:00 pm \n$20 per child includes volleyball lesson and games\, arts & crafts\, snacks/drinks\, pizza \nRegister in advance online to reserve a spot: \nEach Registrant will be eligible to win a $50 gift card to The Collection
URL:https://mrvvillage.com/event/harwood-union-high-school-volleyball-team-fundraiser-parents-night-out/
LOCATION:Hardwood Union\, 458 VT RTE 100\, Moretown\, VT
CATEGORIES:Community,Sports & Recreation
ATTACH;FMTTYPE=image/png:https://mrvvillage.com/wp-content/uploads/2024/10/Flyer-volleyball-final-yzwPSe.tmp_.png
GEO:44.254117;-72.7865684
X-APPLE-STRUCTURED-LOCATION;VALUE=URI;X-ADDRESS=Hardwood Union 458 VT RTE 100 Moretown VT;X-APPLE-RADIUS=500;X-TITLE=458 VT RTE 100:geo:-72.7865684,44.254117
END:VEVENT
BEGIN:VEVENT
DTSTART;TZID=America/New_York:20240519T163000
DTEND;TZID=America/New_York:20240519T193000
DTSTAMP:20260421T234832
CREATED:20240511T043829Z
LAST-MODIFIED:20240519T163808Z
UID:10006146-1716136200-1716147000@mrvvillage.com
SUMMARY:THE HARWOOD ASSEMBLY BAND AT OUR CONCERTS ON THE GREEN
DESCRIPTION:Kick off our summer community concert series with Harwood High School’s flagship modern music ensemble – The Assembly Band. \nFeaturing some of the best youth talent in Vermont\, this 14-piece band leans into the jam-band-funk-pop realm performing music from the likes of Stevie Wonder\, Tedeschi Trucks\, Grateful Dead\, Ozomatli\, The Doobie Brothers\, Sammy Rae and The Friends and more!
URL:https://mrvvillage.com/event/the-harwood-assembly-band-at-our-concerts-on-the-green/
LOCATION:Camp Meade\, 961 ROUTE 2\, middlesex\, 05602
CATEGORIES:Arts & Entertainment,Community,Live Music
ATTACH;FMTTYPE=image/jpeg:https://mrvvillage.com/wp-content/uploads/2024/05/IMG_0167-pLjoxT.tmp_.jpg
GEO:44.2412437;-72.5366148
X-APPLE-STRUCTURED-LOCATION;VALUE=URI;X-ADDRESS=Camp Meade 961 ROUTE 2 middlesex 05602;X-APPLE-RADIUS=500;X-TITLE=961 ROUTE 2:geo:-72.5366148,44.2412437
END:VEVENT
BEGIN:VEVENT
DTSTART;TZID=America/New_York:20240314T190000
DTEND;TZID=America/New_York:20240314T210000
DTSTAMP:20260421T234832
CREATED:20240306T225430Z
LAST-MODIFIED:20240314T235313Z
UID:10005995-1710442800-1710450000@mrvvillage.com
SUMMARY:Harwood Band Night
DESCRIPTION:The March 14 concert features all of the bands from HUUSD grades 6 –\n12.  It is an opportunity for all of the district 6th grade bands to\nperform together for the first time as well as an opportunity for the\nCBMS HUMS bands to collaborate on a shared performance.  The concert\ncloses with performances from the Harwood HS band and Harwood Assembly\nBand.
URL:https://mrvvillage.com/event/harwood-band-night/
LOCATION:Harwood Union High School\, 458 VT RTE 100\, Moretown\, VT\, 05660\, United States
CATEGORIES:Arts & Entertainment,Community,Family Friendly,Schools
ATTACH;FMTTYPE=image/jpeg:https://mrvvillage.com/wp-content/uploads/2024/03/HUBandNight-YbE5Js.tmp_.jpg
GEO:44.2540115;-72.7864532
X-APPLE-STRUCTURED-LOCATION;VALUE=URI;X-ADDRESS=Harwood Union High School 458 VT RTE 100 Moretown VT 05660 United States;X-APPLE-RADIUS=500;X-TITLE=458 VT RTE 100:geo:-72.7864532,44.2540115
END:VEVENT
END:VCALENDAR