BEGIN:VCALENDAR
VERSION:2.0
PRODID:-//The Mad River Valley Village - ECPv6.0.13//NONSGML v1.0//EN
CALSCALE:GREGORIAN
METHOD:PUBLISH
X-ORIGINAL-URL:https://mrvvillage.com
X-WR-CALDESC:Events for The Mad River Valley Village
REFRESH-INTERVAL;VALUE=DURATION:PT1H
X-Robots-Tag:noindex
X-PUBLISHED-TTL:PT1H
BEGIN:VTIMEZONE
TZID:America/New_York
BEGIN:DAYLIGHT
TZOFFSETFROM:-0500
TZOFFSETTO:-0400
TZNAME:EDT
DTSTART:20250309T070000
END:DAYLIGHT
BEGIN:STANDARD
TZOFFSETFROM:-0400
TZOFFSETTO:-0500
TZNAME:EST
DTSTART:20251102T060000
END:STANDARD
BEGIN:DAYLIGHT
TZOFFSETFROM:-0500
TZOFFSETTO:-0400
TZNAME:EDT
DTSTART:20260308T070000
END:DAYLIGHT
BEGIN:STANDARD
TZOFFSETFROM:-0400
TZOFFSETTO:-0500
TZNAME:EST
DTSTART:20261101T060000
END:STANDARD
END:VTIMEZONE
BEGIN:VEVENT
DTSTART;TZID=America/New_York:20260414T160000
DTEND;TZID=America/New_York:20260414T220000
DTSTAMP:20260421T131557
CREATED:20260114T001554Z
LAST-MODIFIED:20260414T210821Z
UID:10009743-1776182400-1776204000@mrvvillage.com
SUMMARY:Taco Tuesday
DESCRIPTION:$3 Tacos – $5 Margaritas – Other Great Specials – Full Regular Menu
URL:https://mrvvillage.com/event/taco-tuesday-46/
LOCATION:Hyde Away\, 1428 Mill Brook Rd\, Waitsfield\, 05673
CATEGORIES:Food & Drink
ATTACH;FMTTYPE=image/jpeg:https://mrvvillage.com/wp-content/uploads/2025/11/taco-tuesday3-1-1nK6cM.jpg
ORGANIZER;CN="Hyde%20Away":MAILTO:hydeaway@madriver.com
GEO:44.1839313;-72.8706225
X-APPLE-STRUCTURED-LOCATION;VALUE=URI;X-ADDRESS=Hyde Away 1428 Mill Brook Rd Waitsfield 05673;X-APPLE-RADIUS=500;X-TITLE=1428 Mill Brook Rd:geo:-72.8706225,44.1839313
END:VEVENT
BEGIN:VEVENT
DTSTART;TZID=America/New_York:20260407T160000
DTEND;TZID=America/New_York:20260407T220000
DTSTAMP:20260421T131557
CREATED:20260107T174511Z
LAST-MODIFIED:20260407T203821Z
UID:10009674-1775577600-1775599200@mrvvillage.com
SUMMARY:Taco Tuesday
DESCRIPTION:$3 Tacos – $5 Margaritas – Other Great Specials – Full Regular Menu
URL:https://mrvvillage.com/event/taco-tuesday-45/
LOCATION:Hyde Away\, 1428 Mill Brook Rd\, Waitsfield\, 05673
CATEGORIES:Food & Drink
ATTACH;FMTTYPE=image/jpeg:https://mrvvillage.com/wp-content/uploads/2025/11/taco-tuesday3-1-1nK6cM.jpg
ORGANIZER;CN="Hyde%20Away":MAILTO:hydeaway@madriver.com
GEO:44.1839313;-72.8706225
X-APPLE-STRUCTURED-LOCATION;VALUE=URI;X-ADDRESS=Hyde Away 1428 Mill Brook Rd Waitsfield 05673;X-APPLE-RADIUS=500;X-TITLE=1428 Mill Brook Rd:geo:-72.8706225,44.1839313
END:VEVENT
BEGIN:VEVENT
DTSTART;TZID=America/New_York:20260331T160000
DTEND;TZID=America/New_York:20260331T220000
DTSTAMP:20260421T131557
CREATED:20251231T155842Z
LAST-MODIFIED:20260331T190828Z
UID:10009587-1774972800-1774994400@mrvvillage.com
SUMMARY:Taco Tuesday
DESCRIPTION:$3 Tacos – $5 Margaritas – Other Great Specials – Full Regular Menu
URL:https://mrvvillage.com/event/taco-tuesday-44/
LOCATION:Hyde Away\, 1428 Mill Brook Rd\, Waitsfield\, 05673
CATEGORIES:Food & Drink
ATTACH;FMTTYPE=image/jpeg:https://mrvvillage.com/wp-content/uploads/2025/11/taco-tuesday3-1-1nK6cM.jpg
ORGANIZER;CN="Hyde%20Away":MAILTO:hydeaway@madriver.com
GEO:44.1839313;-72.8706225
X-APPLE-STRUCTURED-LOCATION;VALUE=URI;X-ADDRESS=Hyde Away 1428 Mill Brook Rd Waitsfield 05673;X-APPLE-RADIUS=500;X-TITLE=1428 Mill Brook Rd:geo:-72.8706225,44.1839313
END:VEVENT
BEGIN:VEVENT
DTSTART;TZID=America/New_York:20260324T160000
DTEND;TZID=America/New_York:20260324T220000
DTSTAMP:20260421T131557
CREATED:20251224T141307Z
LAST-MODIFIED:20260324T172330Z
UID:10009545-1774368000-1774389600@mrvvillage.com
SUMMARY:Taco Tuesday
DESCRIPTION:$3 Tacos – $5 Margaritas – Other Great Specials – Full Regular Menu
URL:https://mrvvillage.com/event/taco-tuesday-43/
LOCATION:Hyde Away\, 1428 Mill Brook Rd\, Waitsfield\, 05673
CATEGORIES:Food & Drink
ATTACH;FMTTYPE=image/jpeg:https://mrvvillage.com/wp-content/uploads/2025/11/taco-tuesday3-1-1nK6cM.jpg
ORGANIZER;CN="Hyde%20Away":MAILTO:hydeaway@madriver.com
GEO:44.1839313;-72.8706225
X-APPLE-STRUCTURED-LOCATION;VALUE=URI;X-ADDRESS=Hyde Away 1428 Mill Brook Rd Waitsfield 05673;X-APPLE-RADIUS=500;X-TITLE=1428 Mill Brook Rd:geo:-72.8706225,44.1839313
END:VEVENT
BEGIN:VEVENT
DTSTART;TZID=America/New_York:20260317T160000
DTEND;TZID=America/New_York:20260317T220000
DTSTAMP:20260421T131557
CREATED:20251217T122736Z
LAST-MODIFIED:20260317T222333Z
UID:10009481-1773763200-1773784800@mrvvillage.com
SUMMARY:Taco Tuesday
DESCRIPTION:$3 Tacos – $5 Margaritas – Other Great Specials – Full Regular Menu
URL:https://mrvvillage.com/event/taco-tuesday-42/
LOCATION:Hyde Away\, 1428 Mill Brook Rd\, Waitsfield\, 05673
CATEGORIES:Food & Drink
ATTACH;FMTTYPE=image/jpeg:https://mrvvillage.com/wp-content/uploads/2025/11/taco-tuesday3-1-1nK6cM.jpg
ORGANIZER;CN="Hyde%20Away":MAILTO:hydeaway@madriver.com
GEO:44.1839313;-72.8706225
X-APPLE-STRUCTURED-LOCATION;VALUE=URI;X-ADDRESS=Hyde Away 1428 Mill Brook Rd Waitsfield 05673;X-APPLE-RADIUS=500;X-TITLE=1428 Mill Brook Rd:geo:-72.8706225,44.1839313
END:VEVENT
BEGIN:VEVENT
DTSTART;TZID=America/New_York:20260310T160000
DTEND;TZID=America/New_York:20260310T220000
DTSTAMP:20260421T131557
CREATED:20251210T155635Z
LAST-MODIFIED:20260310T205328Z
UID:10009401-1773158400-1773180000@mrvvillage.com
SUMMARY:Taco Tuesday
DESCRIPTION:$3 Tacos – $5 Margaritas – Other Great Specials – Full Regular Menu
URL:https://mrvvillage.com/event/taco-tuesday-41/
LOCATION:Hyde Away\, 1428 Mill Brook Rd\, Waitsfield\, 05673
CATEGORIES:Food & Drink
ATTACH;FMTTYPE=image/jpeg:https://mrvvillage.com/wp-content/uploads/2025/11/taco-tuesday3-1-1nK6cM.jpg
ORGANIZER;CN="Hyde%20Away":MAILTO:hydeaway@madriver.com
GEO:44.1839313;-72.8706225
X-APPLE-STRUCTURED-LOCATION;VALUE=URI;X-ADDRESS=Hyde Away 1428 Mill Brook Rd Waitsfield 05673;X-APPLE-RADIUS=500;X-TITLE=1428 Mill Brook Rd:geo:-72.8706225,44.1839313
END:VEVENT
BEGIN:VEVENT
DTSTART;TZID=America/New_York:20260303T160000
DTEND;TZID=America/New_York:20260303T220000
DTSTAMP:20260421T131557
CREATED:20251203T144149Z
LAST-MODIFIED:20260303T190834Z
UID:10009371-1772553600-1772575200@mrvvillage.com
SUMMARY:Taco Tuesday
DESCRIPTION:$3 Tacos – $5 Margaritas – Other Great Specials – Full Regular Menu
URL:https://mrvvillage.com/event/taco-tuesday-40/
LOCATION:Hyde Away\, 1428 Mill Brook Rd\, Waitsfield\, 05673
CATEGORIES:Food & Drink
ATTACH;FMTTYPE=image/jpeg:https://mrvvillage.com/wp-content/uploads/2025/11/taco-tuesday3-1-1nK6cM.jpg
ORGANIZER;CN="Hyde%20Away":MAILTO:hydeaway@madriver.com
GEO:44.1839313;-72.8706225
X-APPLE-STRUCTURED-LOCATION;VALUE=URI;X-ADDRESS=Hyde Away 1428 Mill Brook Rd Waitsfield 05673;X-APPLE-RADIUS=500;X-TITLE=1428 Mill Brook Rd:geo:-72.8706225,44.1839313
END:VEVENT
BEGIN:VEVENT
DTSTART;TZID=America/New_York:20260224T160000
DTEND;TZID=America/New_York:20260224T220000
DTSTAMP:20260421T131557
CREATED:20251126T135639Z
LAST-MODIFIED:20260224T172341Z
UID:10009346-1771948800-1771970400@mrvvillage.com
SUMMARY:Taco Tuesday
DESCRIPTION:$3 Tacos – $5 Margaritas – Other Great Specials – Full Regular Menu
URL:https://mrvvillage.com/event/taco-tuesday-39/
LOCATION:Hyde Away\, 1428 Mill Brook Rd\, Waitsfield\, 05673
CATEGORIES:Food & Drink
ATTACH;FMTTYPE=image/jpeg:https://mrvvillage.com/wp-content/uploads/2025/11/taco-tuesday3-1-1nK6cM.jpg
ORGANIZER;CN="Hyde%20Away":MAILTO:hydeaway@madriver.com
GEO:44.1839313;-72.8706225
X-APPLE-STRUCTURED-LOCATION;VALUE=URI;X-ADDRESS=Hyde Away 1428 Mill Brook Rd Waitsfield 05673;X-APPLE-RADIUS=500;X-TITLE=1428 Mill Brook Rd:geo:-72.8706225,44.1839313
END:VEVENT
BEGIN:VEVENT
DTSTART;TZID=America/New_York:20260217T160000
DTEND;TZID=America/New_York:20260217T220000
DTSTAMP:20260421T131557
CREATED:20251121T124152Z
LAST-MODIFIED:20260217T153835Z
UID:10009326-1771344000-1771365600@mrvvillage.com
SUMMARY:Taco Tuesday
DESCRIPTION:$3 Tacos – $5 Margaritas – Other Great Specials – Full Regular Menu
URL:https://mrvvillage.com/event/taco-tuesday-38/
LOCATION:Hyde Away\, 1428 Mill Brook Rd\, Waitsfield\, 05673
CATEGORIES:Food & Drink
ATTACH;FMTTYPE=image/jpeg:https://mrvvillage.com/wp-content/uploads/2025/11/taco-tuesday3-1-1nK6cM.jpg
ORGANIZER;CN="Hyde%20Away":MAILTO:hydeaway@madriver.com
GEO:44.1839313;-72.8706225
X-APPLE-STRUCTURED-LOCATION;VALUE=URI;X-ADDRESS=Hyde Away 1428 Mill Brook Rd Waitsfield 05673;X-APPLE-RADIUS=500;X-TITLE=1428 Mill Brook Rd:geo:-72.8706225,44.1839313
END:VEVENT
BEGIN:VEVENT
DTSTART;TZID=America/New_York:20260210T160000
DTEND;TZID=America/New_York:20260210T220000
DTSTAMP:20260421T131557
CREATED:20251121T124151Z
LAST-MODIFIED:20260210T135330Z
UID:10009325-1770739200-1770760800@mrvvillage.com
SUMMARY:Taco Tuesday
DESCRIPTION:$3 Tacos – $5 Margaritas – Other Great Specials – Full Regular Menu
URL:https://mrvvillage.com/event/taco-tuesday-37/
LOCATION:Hyde Away\, 1428 Mill Brook Rd\, Waitsfield\, 05673
CATEGORIES:Food & Drink
ATTACH;FMTTYPE=image/jpeg:https://mrvvillage.com/wp-content/uploads/2025/11/taco-tuesday3-1-1nK6cM.jpg
ORGANIZER;CN="Hyde%20Away":MAILTO:hydeaway@madriver.com
GEO:44.1839313;-72.8706225
X-APPLE-STRUCTURED-LOCATION;VALUE=URI;X-ADDRESS=Hyde Away 1428 Mill Brook Rd Waitsfield 05673;X-APPLE-RADIUS=500;X-TITLE=1428 Mill Brook Rd:geo:-72.8706225,44.1839313
END:VEVENT
BEGIN:VEVENT
DTSTART;TZID=America/New_York:20260203T160000
DTEND;TZID=America/New_York:20260203T220000
DTSTAMP:20260421T131557
CREATED:20251121T124137Z
LAST-MODIFIED:20260203T120837Z
UID:10009324-1770134400-1770156000@mrvvillage.com
SUMMARY:Taco Tuesday
DESCRIPTION:$3 Tacos – $5 Margaritas – Other Great Specials – Full Regular Menu
URL:https://mrvvillage.com/event/taco-tuesday-36/
LOCATION:Hyde Away\, 1428 Mill Brook Rd\, Waitsfield\, 05673
CATEGORIES:Food & Drink
ATTACH;FMTTYPE=image/jpeg:https://mrvvillage.com/wp-content/uploads/2025/11/taco-tuesday3-1-1nK6cM.jpg
ORGANIZER;CN="Hyde%20Away":MAILTO:hydeaway@madriver.com
GEO:44.1839313;-72.8706225
X-APPLE-STRUCTURED-LOCATION;VALUE=URI;X-ADDRESS=Hyde Away 1428 Mill Brook Rd Waitsfield 05673;X-APPLE-RADIUS=500;X-TITLE=1428 Mill Brook Rd:geo:-72.8706225,44.1839313
END:VEVENT
BEGIN:VEVENT
DTSTART;TZID=America/New_York:20260127T160000
DTEND;TZID=America/New_York:20260127T220000
DTSTAMP:20260421T131557
CREATED:20251121T124137Z
LAST-MODIFIED:20260127T223834Z
UID:10009323-1769529600-1769551200@mrvvillage.com
SUMMARY:Taco Tuesday
DESCRIPTION:$3 Tacos – $5 Margaritas – Other Great Specials – Full Regular Menu
URL:https://mrvvillage.com/event/taco-tuesday-35/
LOCATION:Hyde Away\, 1428 Mill Brook Rd\, Waitsfield\, 05673
CATEGORIES:Food & Drink
ATTACH;FMTTYPE=image/jpeg:https://mrvvillage.com/wp-content/uploads/2025/11/taco-tuesday3-1-1nK6cM.jpg
ORGANIZER;CN="Hyde%20Away":MAILTO:hydeaway@madriver.com
GEO:44.1839313;-72.8706225
X-APPLE-STRUCTURED-LOCATION;VALUE=URI;X-ADDRESS=Hyde Away 1428 Mill Brook Rd Waitsfield 05673;X-APPLE-RADIUS=500;X-TITLE=1428 Mill Brook Rd:geo:-72.8706225,44.1839313
END:VEVENT
BEGIN:VEVENT
DTSTART;TZID=America/New_York:20260120T160000
DTEND;TZID=America/New_York:20260120T220000
DTSTAMP:20260421T131557
CREATED:20251121T124123Z
LAST-MODIFIED:20260120T205340Z
UID:10009322-1768924800-1768946400@mrvvillage.com
SUMMARY:Taco Tuesday
DESCRIPTION:$3 Tacos – $5 Margaritas – Other Great Specials – Full Regular Menu
URL:https://mrvvillage.com/event/taco-tuesday-34/
LOCATION:Hyde Away\, 1428 Mill Brook Rd\, Waitsfield\, 05673
CATEGORIES:Food & Drink
ATTACH;FMTTYPE=image/jpeg:https://mrvvillage.com/wp-content/uploads/2025/11/taco-tuesday3-1-1nK6cM.jpg
ORGANIZER;CN="Hyde%20Away":MAILTO:hydeaway@madriver.com
GEO:44.1839313;-72.8706225
X-APPLE-STRUCTURED-LOCATION;VALUE=URI;X-ADDRESS=Hyde Away 1428 Mill Brook Rd Waitsfield 05673;X-APPLE-RADIUS=500;X-TITLE=1428 Mill Brook Rd:geo:-72.8706225,44.1839313
END:VEVENT
BEGIN:VEVENT
DTSTART;TZID=America/New_York:20260113T160000
DTEND;TZID=America/New_York:20260113T220000
DTSTAMP:20260421T131557
CREATED:20251121T124123Z
LAST-MODIFIED:20260113T190838Z
UID:10009321-1768320000-1768341600@mrvvillage.com
SUMMARY:Taco Tuesday
DESCRIPTION:$3 Tacos – $5 Margaritas – Other Great Specials – Full Regular Menu
URL:https://mrvvillage.com/event/taco-tuesday-33/
LOCATION:Hyde Away\, 1428 Mill Brook Rd\, Waitsfield\, 05673
CATEGORIES:Food & Drink
ATTACH;FMTTYPE=image/jpeg:https://mrvvillage.com/wp-content/uploads/2025/11/taco-tuesday3-1-1nK6cM.jpg
ORGANIZER;CN="Hyde%20Away":MAILTO:hydeaway@madriver.com
GEO:44.1839313;-72.8706225
X-APPLE-STRUCTURED-LOCATION;VALUE=URI;X-ADDRESS=Hyde Away 1428 Mill Brook Rd Waitsfield 05673;X-APPLE-RADIUS=500;X-TITLE=1428 Mill Brook Rd:geo:-72.8706225,44.1839313
END:VEVENT
BEGIN:VEVENT
DTSTART;TZID=America/New_York:20260106T160000
DTEND;TZID=America/New_York:20260106T220000
DTSTAMP:20260421T131557
CREATED:20251121T124110Z
LAST-MODIFIED:20260106T222334Z
UID:10009320-1767715200-1767736800@mrvvillage.com
SUMMARY:Taco Tuesday
DESCRIPTION:$3 Tacos – $5 Margaritas – Other Great Specials – Full Regular Menu
URL:https://mrvvillage.com/event/taco-tuesday-32/
LOCATION:Hyde Away\, 1428 Mill Brook Rd\, Waitsfield\, 05673
CATEGORIES:Food & Drink
ATTACH;FMTTYPE=image/jpeg:https://mrvvillage.com/wp-content/uploads/2025/11/taco-tuesday3-1-1nK6cM.jpg
ORGANIZER;CN="Hyde%20Away":MAILTO:hydeaway@madriver.com
GEO:44.1839313;-72.8706225
X-APPLE-STRUCTURED-LOCATION;VALUE=URI;X-ADDRESS=Hyde Away 1428 Mill Brook Rd Waitsfield 05673;X-APPLE-RADIUS=500;X-TITLE=1428 Mill Brook Rd:geo:-72.8706225,44.1839313
END:VEVENT
BEGIN:VEVENT
DTSTART;TZID=America/New_York:20251230T160000
DTEND;TZID=America/New_York:20251230T220000
DTSTAMP:20260421T131557
CREATED:20251121T124109Z
LAST-MODIFIED:20251230T203834Z
UID:10009319-1767110400-1767132000@mrvvillage.com
SUMMARY:Taco Tuesday
DESCRIPTION:$3 Tacos – $5 Margaritas – Other Great Specials – Full Regular Menu
URL:https://mrvvillage.com/event/taco-tuesday-31/
LOCATION:Hyde Away\, 1428 Mill Brook Rd\, Waitsfield\, 05673
CATEGORIES:Food & Drink
ATTACH;FMTTYPE=image/jpeg:https://mrvvillage.com/wp-content/uploads/2025/11/taco-tuesday3-1-1nK6cM.jpg
ORGANIZER;CN="Hyde%20Away":MAILTO:hydeaway@madriver.com
GEO:44.1839313;-72.8706225
X-APPLE-STRUCTURED-LOCATION;VALUE=URI;X-ADDRESS=Hyde Away 1428 Mill Brook Rd Waitsfield 05673;X-APPLE-RADIUS=500;X-TITLE=1428 Mill Brook Rd:geo:-72.8706225,44.1839313
END:VEVENT
BEGIN:VEVENT
DTSTART;TZID=America/New_York:20251223T160000
DTEND;TZID=America/New_York:20251223T220000
DTSTAMP:20260421T131557
CREATED:20251121T124056Z
LAST-MODIFIED:20251223T185332Z
UID:10009318-1766505600-1766527200@mrvvillage.com
SUMMARY:Taco Tuesday
DESCRIPTION:$3 Tacos – $5 Margaritas – Other Great Specials – Full Regular Menu
URL:https://mrvvillage.com/event/taco-tuesday-30/
LOCATION:Hyde Away\, 1428 Mill Brook Rd\, Waitsfield\, 05673
CATEGORIES:Food & Drink
ATTACH;FMTTYPE=image/jpeg:https://mrvvillage.com/wp-content/uploads/2025/11/taco-tuesday3-1-1nK6cM.jpg
ORGANIZER;CN="Hyde%20Away":MAILTO:hydeaway@madriver.com
GEO:44.1839313;-72.8706225
X-APPLE-STRUCTURED-LOCATION;VALUE=URI;X-ADDRESS=Hyde Away 1428 Mill Brook Rd Waitsfield 05673;X-APPLE-RADIUS=500;X-TITLE=1428 Mill Brook Rd:geo:-72.8706225,44.1839313
END:VEVENT
BEGIN:VEVENT
DTSTART;TZID=America/New_York:20251216T160000
DTEND;TZID=America/New_York:20251216T220000
DTSTAMP:20260421T131557
CREATED:20251121T124030Z
LAST-MODIFIED:20251216T172328Z
UID:10009316-1765900800-1765922400@mrvvillage.com
SUMMARY:Taco Tuesday
DESCRIPTION:$3 Tacos – $5 Margaritas – Other Great Specials – Full Regular Menu
URL:https://mrvvillage.com/event/taco-tuesday-29/
LOCATION:Hyde Away\, 1428 Mill Brook Rd\, Waitsfield\, 05673
CATEGORIES:Food & Drink
ATTACH;FMTTYPE=image/jpeg:https://mrvvillage.com/wp-content/uploads/2025/11/taco-tuesday3-1-1nK6cM.jpg
ORGANIZER;CN="Hyde%20Away":MAILTO:hydeaway@madriver.com
GEO:44.1839313;-72.8706225
X-APPLE-STRUCTURED-LOCATION;VALUE=URI;X-ADDRESS=Hyde Away 1428 Mill Brook Rd Waitsfield 05673;X-APPLE-RADIUS=500;X-TITLE=1428 Mill Brook Rd:geo:-72.8706225,44.1839313
END:VEVENT
BEGIN:VEVENT
DTSTART;TZID=America/New_York:20251209T160000
DTEND;TZID=America/New_York:20251209T220000
DTSTAMP:20260421T131557
CREATED:20251121T124002Z
LAST-MODIFIED:20251209T230829Z
UID:10009315-1765296000-1765317600@mrvvillage.com
SUMMARY:Taco Tuesday
DESCRIPTION:$3 Tacos – $5 Margaritas – Other Great Specials – Full Regular Menu
URL:https://mrvvillage.com/event/taco-tuesday-28/
LOCATION:Hyde Away\, 1428 Mill Brook Rd\, Waitsfield\, 05673
CATEGORIES:Food & Drink
ATTACH;FMTTYPE=image/jpeg:https://mrvvillage.com/wp-content/uploads/2025/11/taco-tuesday3-1-1nK6cM.jpg
ORGANIZER;CN="Hyde%20Away":MAILTO:hydeaway@madriver.com
GEO:44.1839313;-72.8706225
X-APPLE-STRUCTURED-LOCATION;VALUE=URI;X-ADDRESS=Hyde Away 1428 Mill Brook Rd Waitsfield 05673;X-APPLE-RADIUS=500;X-TITLE=1428 Mill Brook Rd:geo:-72.8706225,44.1839313
END:VEVENT
BEGIN:VEVENT
DTSTART;TZID=America/New_York:20251202T160000
DTEND;TZID=America/New_York:20251202T220000
DTSTAMP:20260421T131557
CREATED:20251121T123920Z
LAST-MODIFIED:20251202T213828Z
UID:10009313-1764691200-1764712800@mrvvillage.com
SUMMARY:Taco Tuesday
DESCRIPTION:$3 Tacos – $5 Margaritas – Other Great Specials – Full Regular Menu
URL:https://mrvvillage.com/event/taco-tuesday-27/
LOCATION:Hyde Away\, 1428 Mill Brook Rd\, Waitsfield\, 05673
CATEGORIES:Food & Drink
ATTACH;FMTTYPE=image/jpeg:https://mrvvillage.com/wp-content/uploads/2025/11/taco-tuesday3-1-1nK6cM.jpg
ORGANIZER;CN="Hyde%20Away":MAILTO:hydeaway@madriver.com
GEO:44.1839313;-72.8706225
X-APPLE-STRUCTURED-LOCATION;VALUE=URI;X-ADDRESS=Hyde Away 1428 Mill Brook Rd Waitsfield 05673;X-APPLE-RADIUS=500;X-TITLE=1428 Mill Brook Rd:geo:-72.8706225,44.1839313
END:VEVENT
BEGIN:VEVENT
DTSTART;TZID=America/New_York:20251125T160000
DTEND;TZID=America/New_York:20251125T220000
DTSTAMP:20260421T131557
CREATED:20251121T123853Z
LAST-MODIFIED:20251125T205330Z
UID:10009312-1764086400-1764108000@mrvvillage.com
SUMMARY:Taco Tuesday
DESCRIPTION:$3 Tacos – $5 Margaritas – Other Great Specials – Full Regular Menu
URL:https://mrvvillage.com/event/taco-tuesday-26/
LOCATION:Hyde Away\, 1428 Mill Brook Rd\, Waitsfield\, 05673
CATEGORIES:Food & Drink
ATTACH;FMTTYPE=image/jpeg:https://mrvvillage.com/wp-content/uploads/2025/11/taco-tuesday3-1-1nK6cM.jpg
ORGANIZER;CN="Hyde%20Away":MAILTO:hydeaway@madriver.com
GEO:44.1839313;-72.8706225
X-APPLE-STRUCTURED-LOCATION;VALUE=URI;X-ADDRESS=Hyde Away 1428 Mill Brook Rd Waitsfield 05673;X-APPLE-RADIUS=500;X-TITLE=1428 Mill Brook Rd:geo:-72.8706225,44.1839313
END:VEVENT
BEGIN:VEVENT
DTSTART;TZID=America/New_York:20251125T160000
DTEND;TZID=America/New_York:20251125T220000
DTSTAMP:20260421T131557
CREATED:20251120T202403Z
LAST-MODIFIED:20251120T202403Z
UID:10009304-1764086400-1764108000@mrvvillage.com
SUMMARY:Taco Tuesday
DESCRIPTION:$3 Tacos – $5 Margaritas – Other Great Specials – Full Regular Menu
URL:https://mrvvillage.com/event/taco-tuesday-25/
LOCATION:Hyde Away\, 1428 Mill Brook Rd\, Waitsfield\, 05673
CATEGORIES:Food & Drink
ATTACH;FMTTYPE=image/jpeg:https://mrvvillage.com/wp-content/uploads/2025/11/taco-tuesday3-1-1nK6cM.jpg
ORGANIZER;CN="Hyde%20Away":MAILTO:hydeaway@madriver.com
GEO:44.1839313;-72.8706225
X-APPLE-STRUCTURED-LOCATION;VALUE=URI;X-ADDRESS=Hyde Away 1428 Mill Brook Rd Waitsfield 05673;X-APPLE-RADIUS=500;X-TITLE=1428 Mill Brook Rd:geo:-72.8706225,44.1839313
END:VEVENT
BEGIN:VEVENT
DTSTART;TZID=America/New_York:20251028T160000
DTEND;TZID=America/New_York:20251028T220000
DTSTAMP:20260421T131557
CREATED:20250730T155905Z
LAST-MODIFIED:20250802T121358Z
UID:10008780-1761667200-1761688800@mrvvillage.com
SUMMARY:Taco Tuesday
DESCRIPTION:Taco Tuesday. Great Specials on Food and Drink. $3 Tacos\, $6 Margaritas. \nEvery Tuesday\, in addition to our full menu.
URL:https://mrvvillage.com/event/taco-tuesday-24/
LOCATION:Hyde Away\, 1428 Mill Brook Rd\, Waitsfield\, 05673
CATEGORIES:Dining,Food & Drink
ATTACH;FMTTYPE=image/jpeg:https://mrvvillage.com/wp-content/uploads/2025/07/taco-tuesday-mJvDjK.jpg
ORGANIZER;CN="Hyde%20Away":MAILTO:hydeaway@madriver.com
GEO:44.1839313;-72.8706225
X-APPLE-STRUCTURED-LOCATION;VALUE=URI;X-ADDRESS=Hyde Away 1428 Mill Brook Rd Waitsfield 05673;X-APPLE-RADIUS=500;X-TITLE=1428 Mill Brook Rd:geo:-72.8706225,44.1839313
END:VEVENT
BEGIN:VEVENT
DTSTART;TZID=America/New_York:20251021T160000
DTEND;TZID=America/New_York:20251021T220000
DTSTAMP:20260421T131557
CREATED:20250723T141336Z
LAST-MODIFIED:20250802T121345Z
UID:10008716-1761062400-1761084000@mrvvillage.com
SUMMARY:Taco Tuesday
DESCRIPTION:Taco Tuesday. Great Specials on Food and Drink. $3 Tacos\, $6 Margaritas. \nEvery Tuesday\, in addition to our full menu.
URL:https://mrvvillage.com/event/taco-tuesday-23/
LOCATION:Hyde Away\, 1428 Mill Brook Rd\, Waitsfield\, 05673
CATEGORIES:Dining,Food & Drink
ATTACH;FMTTYPE=image/jpeg:https://mrvvillage.com/wp-content/uploads/2025/07/taco-tuesday-mJvDjK.jpg
ORGANIZER;CN="Hyde%20Away":MAILTO:hydeaway@madriver.com
GEO:44.1839313;-72.8706225
X-APPLE-STRUCTURED-LOCATION;VALUE=URI;X-ADDRESS=Hyde Away 1428 Mill Brook Rd Waitsfield 05673;X-APPLE-RADIUS=500;X-TITLE=1428 Mill Brook Rd:geo:-72.8706225,44.1839313
END:VEVENT
BEGIN:VEVENT
DTSTART;TZID=America/New_York:20251014T160000
DTEND;TZID=America/New_York:20251014T220000
DTSTAMP:20260421T131557
CREATED:20250716T122913Z
LAST-MODIFIED:20250802T121345Z
UID:10008665-1760457600-1760479200@mrvvillage.com
SUMMARY:Taco Tuesday
DESCRIPTION:Taco Tuesday. Great Specials on Food and Drink. $3 Tacos\, $6 Margaritas. \nEvery Tuesday\, in addition to our full menu.
URL:https://mrvvillage.com/event/taco-tuesday-22/
LOCATION:Hyde Away\, 1428 Mill Brook Rd\, Waitsfield\, 05673
CATEGORIES:Dining,Food & Drink
ATTACH;FMTTYPE=image/jpeg:https://mrvvillage.com/wp-content/uploads/2025/07/taco-tuesday-mJvDjK.jpg
ORGANIZER;CN="Hyde%20Away":MAILTO:hydeaway@madriver.com
GEO:44.1839313;-72.8706225
X-APPLE-STRUCTURED-LOCATION;VALUE=URI;X-ADDRESS=Hyde Away 1428 Mill Brook Rd Waitsfield 05673;X-APPLE-RADIUS=500;X-TITLE=1428 Mill Brook Rd:geo:-72.8706225,44.1839313
END:VEVENT
BEGIN:VEVENT
DTSTART;TZID=America/New_York:20251007T160000
DTEND;TZID=America/New_York:20251007T220000
DTSTAMP:20260421T131557
CREATED:20250709T104502Z
LAST-MODIFIED:20250802T121332Z
UID:10008609-1759852800-1759874400@mrvvillage.com
SUMMARY:Taco Tuesday
DESCRIPTION:Taco Tuesday. Great Specials on Food and Drink. $3 Tacos\, $6 Margaritas. \nEvery Tuesday\, in addition to our full menu.
URL:https://mrvvillage.com/event/taco-tuesday-21/
LOCATION:Hyde Away\, 1428 Mill Brook Rd\, Waitsfield\, 05673
CATEGORIES:Dining,Food & Drink
ATTACH;FMTTYPE=image/jpeg:https://mrvvillage.com/wp-content/uploads/2025/07/taco-tuesday-mJvDjK.jpg
ORGANIZER;CN="Hyde%20Away":MAILTO:hydeaway@madriver.com
GEO:44.1839313;-72.8706225
X-APPLE-STRUCTURED-LOCATION;VALUE=URI;X-ADDRESS=Hyde Away 1428 Mill Brook Rd Waitsfield 05673;X-APPLE-RADIUS=500;X-TITLE=1428 Mill Brook Rd:geo:-72.8706225,44.1839313
END:VEVENT
BEGIN:VEVENT
DTSTART;TZID=America/New_York:20250930T160000
DTEND;TZID=America/New_York:20250930T220000
DTSTAMP:20260421T131557
CREATED:20250703T091534Z
LAST-MODIFIED:20250802T121305Z
UID:10008566-1759248000-1759269600@mrvvillage.com
SUMMARY:Taco Tuesday
DESCRIPTION:Taco Tuesday. Great Specials on Food and Drink. $3 Tacos\, $6 Margaritas. \nEvery Tuesday\, in addition to our full menu.
URL:https://mrvvillage.com/event/taco-tuesday-20/
LOCATION:Hyde Away\, 1428 Mill Brook Rd\, Waitsfield\, 05673
CATEGORIES:Dining,Food & Drink
ATTACH;FMTTYPE=image/jpeg:https://mrvvillage.com/wp-content/uploads/2025/07/taco-tuesday-mJvDjK.jpg
ORGANIZER;CN="Hyde%20Away":MAILTO:hydeaway@madriver.com
GEO:44.1839313;-72.8706225
X-APPLE-STRUCTURED-LOCATION;VALUE=URI;X-ADDRESS=Hyde Away 1428 Mill Brook Rd Waitsfield 05673;X-APPLE-RADIUS=500;X-TITLE=1428 Mill Brook Rd:geo:-72.8706225,44.1839313
END:VEVENT
BEGIN:VEVENT
DTSTART;TZID=America/New_York:20250923T160000
DTEND;TZID=America/New_York:20250923T220000
DTSTAMP:20260421T131557
CREATED:20250703T091505Z
LAST-MODIFIED:20250802T121251Z
UID:10008564-1758643200-1758664800@mrvvillage.com
SUMMARY:Taco Tuesday
DESCRIPTION:Taco Tuesday. Great Specials on Food and Drink. $3 Tacos\, $6 Margaritas. \nEvery Tuesday\, in addition to our full menu.
URL:https://mrvvillage.com/event/taco-tuesday-19/
LOCATION:Hyde Away\, 1428 Mill Brook Rd\, Waitsfield\, 05673
CATEGORIES:Dining,Food & Drink
ATTACH;FMTTYPE=image/jpeg:https://mrvvillage.com/wp-content/uploads/2025/07/taco-tuesday-mJvDjK.jpg
ORGANIZER;CN="Hyde%20Away":MAILTO:hydeaway@madriver.com
GEO:44.1839313;-72.8706225
X-APPLE-STRUCTURED-LOCATION;VALUE=URI;X-ADDRESS=Hyde Away 1428 Mill Brook Rd Waitsfield 05673;X-APPLE-RADIUS=500;X-TITLE=1428 Mill Brook Rd:geo:-72.8706225,44.1839313
END:VEVENT
BEGIN:VEVENT
DTSTART;TZID=America/New_York:20250916T160000
DTEND;TZID=America/New_York:20250916T220000
DTSTAMP:20260421T131557
CREATED:20250703T091452Z
LAST-MODIFIED:20250802T121237Z
UID:10008562-1758038400-1758060000@mrvvillage.com
SUMMARY:Taco Tuesday
DESCRIPTION:Taco Tuesday. Great Specials on Food and Drink. $3 Tacos\, $6 Margaritas. \nEvery Tuesday\, in addition to our full menu.
URL:https://mrvvillage.com/event/taco-tuesday-18/
LOCATION:Hyde Away\, 1428 Mill Brook Rd\, Waitsfield\, 05673
CATEGORIES:Dining,Food & Drink
ATTACH;FMTTYPE=image/jpeg:https://mrvvillage.com/wp-content/uploads/2025/07/taco-tuesday-mJvDjK.jpg
ORGANIZER;CN="Hyde%20Away":MAILTO:hydeaway@madriver.com
GEO:44.1839313;-72.8706225
X-APPLE-STRUCTURED-LOCATION;VALUE=URI;X-ADDRESS=Hyde Away 1428 Mill Brook Rd Waitsfield 05673;X-APPLE-RADIUS=500;X-TITLE=1428 Mill Brook Rd:geo:-72.8706225,44.1839313
END:VEVENT
BEGIN:VEVENT
DTSTART;TZID=America/New_York:20250909T160000
DTEND;TZID=America/New_York:20250909T220000
DTSTAMP:20260421T131557
CREATED:20250703T091439Z
LAST-MODIFIED:20250802T121224Z
UID:10008560-1757433600-1757455200@mrvvillage.com
SUMMARY:Taco Tuesday
DESCRIPTION:Taco Tuesday. Great Specials on Food and Drink. $3 Tacos\, $6 Margaritas. \nEvery Tuesday\, in addition to our full menu.
URL:https://mrvvillage.com/event/taco-tuesday-17/
LOCATION:Hyde Away\, 1428 Mill Brook Rd\, Waitsfield\, 05673
CATEGORIES:Dining,Food & Drink
ATTACH;FMTTYPE=image/jpeg:https://mrvvillage.com/wp-content/uploads/2025/07/taco-tuesday-mJvDjK.jpg
ORGANIZER;CN="Hyde%20Away":MAILTO:hydeaway@madriver.com
GEO:44.1839313;-72.8706225
X-APPLE-STRUCTURED-LOCATION;VALUE=URI;X-ADDRESS=Hyde Away 1428 Mill Brook Rd Waitsfield 05673;X-APPLE-RADIUS=500;X-TITLE=1428 Mill Brook Rd:geo:-72.8706225,44.1839313
END:VEVENT
END:VCALENDAR