BEGIN:VCALENDAR
VERSION:2.0
PRODID:-//The Mad River Valley Village - ECPv6.0.13//NONSGML v1.0//EN
CALSCALE:GREGORIAN
METHOD:PUBLISH
X-WR-CALNAME:The Mad River Valley Village
X-ORIGINAL-URL:https://mrvvillage.com
X-WR-CALDESC:Events for The Mad River Valley Village
REFRESH-INTERVAL;VALUE=DURATION:PT1H
X-Robots-Tag:noindex
X-PUBLISHED-TTL:PT1H
BEGIN:VTIMEZONE
TZID:America/New_York
BEGIN:DAYLIGHT
TZOFFSETFROM:-0500
TZOFFSETTO:-0400
TZNAME:EDT
DTSTART:20230312T070000
END:DAYLIGHT
BEGIN:STANDARD
TZOFFSETFROM:-0400
TZOFFSETTO:-0500
TZNAME:EST
DTSTART:20231105T060000
END:STANDARD
END:VTIMEZONE
BEGIN:VEVENT
DTSTART;TZID=America/New_York:20231031T093000
DTEND;TZID=America/New_York:20231031T104500
DTSTAMP:20260421T223012
CREATED:20231018T202427Z
LAST-MODIFIED:20231031T233829Z
UID:10005409-1698744600-1698749100@mrvvillage.com
SUMMARY:Halloween Storytime at Inklings Children’s Books
DESCRIPTION:Join us on Tuesday\, Oct. 31\, for an extra special Halloween storytime! A morning filled with stories\, crafts\, and Musical Munchkins with Andrea. \nCostumes welcome\, but not required. Reading begins at 9:30a. Music starts at 10a! \nBest for ages 1 – 4\, but open to all!!
URL:https://mrvvillage.com/event/halloween-storytime-at-inklings-childrens-books/
LOCATION:Inklings Children’s Books\, 106 Mad River Greeen\, Waitsfield\, VT\, 05673\, United States
CATEGORIES:Arts & Entertainment,Community,Family Friendly
ATTACH;FMTTYPE=image/jpeg:https://mrvvillage.com/wp-content/uploads/2023/10/HalloweenStoryTimeFlyer-8DUmPK.tmp_.jpg
ORGANIZER;CN="Inklings%20Children%26%238217%3Bs%20Books":MAILTO:inklingschildrensbooks@gmail.com
GEO:44.1844899;-72.839037
X-APPLE-STRUCTURED-LOCATION;VALUE=URI;X-ADDRESS=Inklings Children’s Books 106 Mad River Greeen Waitsfield VT 05673 United States;X-APPLE-RADIUS=500;X-TITLE=106 Mad River Greeen:geo:-72.839037,44.1844899
END:VEVENT
BEGIN:VEVENT
DTSTART;TZID=America/New_York:20231031T093000
DTEND;TZID=America/New_York:20231031T101500
DTSTAMP:20260421T223012
CREATED:20231016T163944Z
LAST-MODIFIED:20231031T233829Z
UID:10005388-1698744600-1698747300@mrvvillage.com
SUMMARY:Weekly Storytime at Inklings Children’s Books!
DESCRIPTION:Weekly Storytime at Inklings! Join us every Tuesday at 9:30am for a read aloud under the cherry blossom tree. \nAnd what goes better with books than a delicious snack?! Bring any item from Three Mountain Cafe and get 10% off your second book purchase.
URL:https://mrvvillage.com/event/weekly-storytime-at-inklings-childrens-books-3/
LOCATION:Inklings Children’s Books\, 106 Mad River Greeen\, Waitsfield\, VT\, 05673\, United States
CATEGORIES:Community,Family Friendly
ATTACH;FMTTYPE=image/jpeg:https://mrvvillage.com/wp-content/uploads/2023/10/ReadingPic2-OnemQF.tmp_.jpg
ORGANIZER;CN="Inklings%20Children%26%238217%3Bs%20Books":MAILTO:inklingschildrensbooks@gmail.com
GEO:44.1844899;-72.839037
X-APPLE-STRUCTURED-LOCATION;VALUE=URI;X-ADDRESS=Inklings Children’s Books 106 Mad River Greeen Waitsfield VT 05673 United States;X-APPLE-RADIUS=500;X-TITLE=106 Mad River Greeen:geo:-72.839037,44.1844899
END:VEVENT
BEGIN:VEVENT
DTSTART;TZID=America/New_York:20231024T093000
DTEND;TZID=America/New_York:20231024T101500
DTSTAMP:20260421T223012
CREATED:20231016T163915Z
LAST-MODIFIED:20231024T215344Z
UID:10005387-1698139800-1698142500@mrvvillage.com
SUMMARY:Weekly Storytime at Inklings Children’s Books!
DESCRIPTION:Weekly Storytime at Inklings! Join us every Tuesday at 9:30am for a read aloud under the cherry blossom tree. \nAnd what goes better with books than a delicious snack?! Bring any item from Three Mountain Cafe and get 10% off your second book purchase.
URL:https://mrvvillage.com/event/weekly-storytime-at-inklings-childrens-books-2/
LOCATION:Inklings Children’s Books\, 106 Mad River Greeen\, Waitsfield\, VT\, 05673\, United States
CATEGORIES:Community,Family Friendly
ATTACH;FMTTYPE=image/jpeg:https://mrvvillage.com/wp-content/uploads/2023/10/ReadingPic2-OnemQF.tmp_.jpg
ORGANIZER;CN="Inklings%20Children%26%238217%3Bs%20Books":MAILTO:inklingschildrensbooks@gmail.com
GEO:44.1844899;-72.839037
X-APPLE-STRUCTURED-LOCATION;VALUE=URI;X-ADDRESS=Inklings Children’s Books 106 Mad River Greeen Waitsfield VT 05673 United States;X-APPLE-RADIUS=500;X-TITLE=106 Mad River Greeen:geo:-72.839037,44.1844899
END:VEVENT
BEGIN:VEVENT
DTSTART;TZID=America/New_York:20231017T093000
DTEND;TZID=America/New_York:20231017T101500
DTSTAMP:20260421T223012
CREATED:20231016T163845Z
LAST-MODIFIED:20231017T200830Z
UID:10005386-1697535000-1697537700@mrvvillage.com
SUMMARY:Weekly Storytime at Inklings Children’s Books!
DESCRIPTION:Weekly Storytime at Inklings! Join us every Tuesday at 9:30am for a read aloud under the cherry blossom tree. \nAnd what goes better with books than a delicious snack?! Bring any item from Three Mountain Cafe and get 10% off your second book purchase.
URL:https://mrvvillage.com/event/weekly-storytime-at-inklings-childrens-books/
LOCATION:Inklings Children’s Books\, 106 Mad River Greeen\, Waitsfield\, VT\, 05673\, United States
CATEGORIES:Community,Family Friendly
ATTACH;FMTTYPE=image/jpeg:https://mrvvillage.com/wp-content/uploads/2023/10/ReadingPic2-OnemQF.tmp_.jpg
ORGANIZER;CN="Inklings%20Children%26%238217%3Bs%20Books":MAILTO:inklingschildrensbooks@gmail.com
GEO:44.1844899;-72.839037
X-APPLE-STRUCTURED-LOCATION;VALUE=URI;X-ADDRESS=Inklings Children’s Books 106 Mad River Greeen Waitsfield VT 05673 United States;X-APPLE-RADIUS=500;X-TITLE=106 Mad River Greeen:geo:-72.839037,44.1844899
END:VEVENT
END:VCALENDAR