BEGIN:VCALENDAR
VERSION:2.0
PRODID:-//The Mad River Valley Village - ECPv6.0.13//NONSGML v1.0//EN
CALSCALE:GREGORIAN
METHOD:PUBLISH
X-ORIGINAL-URL:https://mrvvillage.com
X-WR-CALDESC:Events for The Mad River Valley Village
REFRESH-INTERVAL;VALUE=DURATION:PT1H
X-Robots-Tag:noindex
X-PUBLISHED-TTL:PT1H
BEGIN:VTIMEZONE
TZID:America/New_York
BEGIN:DAYLIGHT
TZOFFSETFROM:-0500
TZOFFSETTO:-0400
TZNAME:EDT
DTSTART:20260308T070000
END:DAYLIGHT
BEGIN:STANDARD
TZOFFSETFROM:-0400
TZOFFSETTO:-0500
TZNAME:EST
DTSTART:20261101T060000
END:STANDARD
END:VTIMEZONE
BEGIN:VEVENT
DTSTART;TZID=America/New_York:20260423T130000
DTEND;TZID=America/New_York:20260423T140000
DTSTAMP:20260421T184358
CREATED:20260304T122821Z
LAST-MODIFIED:20260421T223823Z
UID:10009963-1776949200-1776952800@mrvvillage.com
SUMMARY:Romance Writing Workshop
DESCRIPTION:Local Mad River Romance author\, will lead the three week workshop. \nParticipants will discover more about the “romance” genre\, recognize the major beats necessary. discuss typical tropes and work on a short romance-based story. \nPre-registration is encouraged.\n–
URL:https://mrvvillage.com/event/romance-writing-workshop-3/
LOCATION:Joslin Memorial Library\, 4391 Main Street\, Waitsfield\, 05673
CATEGORIES:Arts & Entertainment
ATTACH;FMTTYPE=image/png:https://mrvvillage.com/wp-content/uploads/2026/03/ROMANCE-WRITING-uo1Omx.png
ORGANIZER;CN="Joslin%20Memorial%20Library":MAILTO:programs@joslinmemoriallibrary.com
GEO:44.1926386;-72.7798479
X-APPLE-STRUCTURED-LOCATION;VALUE=URI;X-ADDRESS=Joslin Memorial Library 4391 Main Street Waitsfield 05673;X-APPLE-RADIUS=500;X-TITLE=4391 Main Street:geo:-72.7798479,44.1926386
END:VEVENT
END:VCALENDAR