BEGIN:VCALENDAR
VERSION:2.0
PRODID:-//The Mad River Valley Village - ECPv6.0.13//NONSGML v1.0//EN
CALSCALE:GREGORIAN
METHOD:PUBLISH
X-ORIGINAL-URL:https://mrvvillage.com
X-WR-CALDESC:Events for The Mad River Valley Village
REFRESH-INTERVAL;VALUE=DURATION:PT1H
X-Robots-Tag:noindex
X-PUBLISHED-TTL:PT1H
BEGIN:VTIMEZONE
TZID:America/New_York
BEGIN:DAYLIGHT
TZOFFSETFROM:-0500
TZOFFSETTO:-0400
TZNAME:EDT
DTSTART:20230312T070000
END:DAYLIGHT
BEGIN:STANDARD
TZOFFSETFROM:-0400
TZOFFSETTO:-0500
TZNAME:EST
DTSTART:20231105T060000
END:STANDARD
BEGIN:DAYLIGHT
TZOFFSETFROM:-0500
TZOFFSETTO:-0400
TZNAME:EDT
DTSTART:20240310T070000
END:DAYLIGHT
BEGIN:STANDARD
TZOFFSETFROM:-0400
TZOFFSETTO:-0500
TZNAME:EST
DTSTART:20241103T060000
END:STANDARD
BEGIN:DAYLIGHT
TZOFFSETFROM:-0500
TZOFFSETTO:-0400
TZNAME:EDT
DTSTART:20250309T070000
END:DAYLIGHT
BEGIN:STANDARD
TZOFFSETFROM:-0400
TZOFFSETTO:-0500
TZNAME:EST
DTSTART:20251102T060000
END:STANDARD
END:VTIMEZONE
BEGIN:VEVENT
DTSTART;TZID=America/New_York:20250919T170000
DTEND;TZID=America/New_York:20250919T210000
DTSTAMP:20260423T192846
CREATED:20250726T145748Z
LAST-MODIFIED:20250919T215324Z
UID:10008730-1758301200-1758315600@mrvvillage.com
SUMMARY:Back Porch Music Series
DESCRIPTION:Free Entry! Live Music\, Food and Alcohol for purchase. \n5pm-9pm @ Lareau Farm and Forest. \nNo outside food or beverage and no pets. Thank you!
URL:https://mrvvillage.com/event/back-porch-music-series-5/
LOCATION:Lareau Farm Inn\, 46 Lareau Rd.\, Waitsfield\, 05673
CATEGORIES:Family Friendly,Food & Drink,Live Music
ATTACH;FMTTYPE=image/png:https://mrvvillage.com/wp-content/uploads/2025/07/Back-Porch-oQBtV6.png
ORGANIZER;CN="Lareau%20Farm%20Inn":MAILTO:stay@lareaufarminn.com
GEO:44.172559;-72.833919
X-APPLE-STRUCTURED-LOCATION;VALUE=URI;X-ADDRESS=Lareau Farm Inn 46 Lareau Rd. Waitsfield 05673;X-APPLE-RADIUS=500;X-TITLE=46 Lareau Rd.:geo:-72.833919,44.172559
END:VEVENT
BEGIN:VEVENT
DTSTART;TZID=America/New_York:20250916T170000
DTEND;TZID=America/New_York:20250916T213000
DTSTAMP:20260423T192846
CREATED:20250618T052758Z
LAST-MODIFIED:20250718T125740Z
UID:10008343-1758042000-1758058200@mrvvillage.com
SUMMARY:Back Porch Music Series
DESCRIPTION:Live Music\, Food and Beverage at Lareau Farm June 17\, July 15\, August 19 and September 16th. \nLawn games\, families welcome! Come one come all! Fun Times!! \n5-9:30pm.
URL:https://mrvvillage.com/event/back-porch-music-series-4/
LOCATION:Lareau Farm Inn\, 46 Lareau Rd.\, Waitsfield\, 05673
CATEGORIES:Family Friendly,Food & Drink,Live Music
ORGANIZER;CN="Lareau%20Farm%20Inn":MAILTO:stay@lareaufarminn.com
GEO:44.172559;-72.833919
X-APPLE-STRUCTURED-LOCATION;VALUE=URI;X-ADDRESS=Lareau Farm Inn 46 Lareau Rd. Waitsfield 05673;X-APPLE-RADIUS=500;X-TITLE=46 Lareau Rd.:geo:-72.833919,44.172559
END:VEVENT
BEGIN:VEVENT
DTSTART;TZID=America/New_York:20250819T170000
DTEND;TZID=America/New_York:20250819T213000
DTSTAMP:20260423T192846
CREATED:20250617T051227Z
LAST-MODIFIED:20250718T125620Z
UID:10008339-1755622800-1755639000@mrvvillage.com
SUMMARY:Back Porch Music Series
DESCRIPTION:Live Music\, Food and Beverage at Lareau Farm June 17\, July 15\, August 19 and September 16th. \nLawn games\, families welcome! Come one come all! Fun Times!! \n5-9:30pm.
URL:https://mrvvillage.com/event/back-porch-music-series-3/
LOCATION:Lareau Farm Inn\, 46 Lareau Rd.\, Waitsfield\, 05673
CATEGORIES:Family Friendly,Food & Drink,Live Music
ORGANIZER;CN="Lareau%20Farm%20Inn":MAILTO:stay@lareaufarminn.com
GEO:44.172559;-72.833919
X-APPLE-STRUCTURED-LOCATION;VALUE=URI;X-ADDRESS=Lareau Farm Inn 46 Lareau Rd. Waitsfield 05673;X-APPLE-RADIUS=500;X-TITLE=46 Lareau Rd.:geo:-72.833919,44.172559
END:VEVENT
BEGIN:VEVENT
DTSTART;TZID=America/New_York:20250814T170000
DTEND;TZID=America/New_York:20250814T210000
DTSTAMP:20260423T192846
CREATED:20250623T064307Z
LAST-MODIFIED:20250814T192325Z
UID:10008439-1755190800-1755205200@mrvvillage.com
SUMMARY:40th Anniversary Community Event!
DESCRIPTION:Come celebrate 40 amazing years with American Flatbread at Lareau Farm & Forest!!! \nThursday\, August 14th from 5-9pm. \nFREE event! Flatbread\, Music\, Art and Bonfires.\nCash Bar – Please no outside beverages. No Pets.
URL:https://mrvvillage.com/event/40th-anniversary-community-event/
LOCATION:American Flatbread\, 46 Lareau Rd\, Waitsfield\, 05673\, United States
CATEGORIES:Arts & Entertainment,Food & Drink,Live Music,Public Welcome
ATTACH;FMTTYPE=image/jpeg:https://mrvvillage.com/wp-content/uploads/2025/06/IMG_6549-5bY2dB.jpg
ORGANIZER;CN="Lareau%20Farm%20Inn":MAILTO:stay@lareaufarminn.com
GEO:44.173381;-72.835086
X-APPLE-STRUCTURED-LOCATION;VALUE=URI;X-ADDRESS=American Flatbread 46 Lareau Rd Waitsfield 05673 United States;X-APPLE-RADIUS=500;X-TITLE=46 Lareau Rd:geo:-72.835086,44.173381
END:VEVENT
BEGIN:VEVENT
DTSTART;TZID=America/New_York:20250715T170000
DTEND;TZID=America/New_York:20250715T213000
DTSTAMP:20260423T192846
CREATED:20250617T051100Z
LAST-MODIFIED:20250715T195324Z
UID:10008337-1752598800-1752615000@mrvvillage.com
SUMMARY:Back Porch Music Series
DESCRIPTION:Live Music\, Food and Beverage at Lareau Farm June 17\, July 15\, August 19 and September 16th. \nLawn games\, families welcome! Come one come all! Fun Times!! \n5-9:30pm.
URL:https://mrvvillage.com/event/back-porch-music-series-2/
LOCATION:Lareau Farm Inn\, 46 Lareau Rd.\, Waitsfield\, 05673
CATEGORIES:Family Friendly,Food & Drink,Live Music
ORGANIZER;CN="Lareau%20Farm%20Inn":MAILTO:stay@lareaufarminn.com
GEO:44.172559;-72.833919
X-APPLE-STRUCTURED-LOCATION;VALUE=URI;X-ADDRESS=Lareau Farm Inn 46 Lareau Rd. Waitsfield 05673;X-APPLE-RADIUS=500;X-TITLE=46 Lareau Rd.:geo:-72.833919,44.172559
END:VEVENT
BEGIN:VEVENT
DTSTART;TZID=America/New_York:20250617T170000
DTEND;TZID=America/New_York:20250617T213000
DTSTAMP:20260423T192846
CREATED:20250617T050817Z
LAST-MODIFIED:20250617T125321Z
UID:10008331-1750179600-1750195800@mrvvillage.com
SUMMARY:Back Porch Music Series
DESCRIPTION:Live Music\, Food and Beverage at Lareau Farm June 17\, July 15\, August 19 and September 16th. \nLawn games\, families welcome! Come one come all! Fun Times!! \n5-9:30pm.
URL:https://mrvvillage.com/event/back-porch-music-series/
LOCATION:Lareau Farm Inn\, 46 Lareau Rd.\, Waitsfield\, 05673
CATEGORIES:Family Friendly,Food & Drink,Live Music
ORGANIZER;CN="Lareau%20Farm%20Inn":MAILTO:stay@lareaufarminn.com
GEO:44.172559;-72.833919
X-APPLE-STRUCTURED-LOCATION;VALUE=URI;X-ADDRESS=Lareau Farm Inn 46 Lareau Rd. Waitsfield 05673;X-APPLE-RADIUS=500;X-TITLE=46 Lareau Rd.:geo:-72.833919,44.172559
END:VEVENT
BEGIN:VEVENT
DTSTART;TZID=America/New_York:20241011T160000
DTEND;TZID=America/New_York:20241011T210000
DTSTAMP:20260423T192846
CREATED:20240930T235415Z
LAST-MODIFIED:20241011T125314Z
UID:10007085-1728662400-1728680400@mrvvillage.com
SUMMARY:American Flatbread Benefit Bake for  Circle in Support of Domestic Violence Awareness Month
DESCRIPTION:American Flatbread Waitsfield is hosting a fundraiser/awareness event for Circle\, Washington County’s domestic violence shelter and services organization. They will be donating $5 for every pizza sold.
URL:https://mrvvillage.com/event/american-flatbread-pizza-bake-for-circle-in-honor-of-domestic-violence-awareness-month/
LOCATION:American Flatbread\, 46 Lareau Rd\, Waitsfield\, 05673\, United States
CATEGORIES:Community,Dining,Family Friendly,Food & Drink,Special Events
ATTACH;FMTTYPE=image/jpeg:https://mrvvillage.com/wp-content/uploads/2024/09/american-flatbread-O8Z8RX.tmp_.jpg
ORGANIZER;CN="Lareau%20Farm%20Inn":MAILTO:stay@lareaufarminn.com
GEO:44.173381;-72.835086
X-APPLE-STRUCTURED-LOCATION;VALUE=URI;X-ADDRESS=American Flatbread 46 Lareau Rd Waitsfield 05673 United States;X-APPLE-RADIUS=500;X-TITLE=46 Lareau Rd:geo:-72.835086,44.173381
END:VEVENT
BEGIN:VEVENT
DTSTART;TZID=America/New_York:20241009T170000
DTEND;TZID=America/New_York:20241009T200000
DTSTAMP:20260423T192846
CREATED:20240918T221014Z
LAST-MODIFIED:20241009T123812Z
UID:10007045-1728493200-1728504000@mrvvillage.com
SUMMARY:MRV Conservation & Recreation Visioning (CRV) Community Forum
DESCRIPTION:Local recreation and conservation groups invite you to join the MRV Conservation & Recreation Visioning (CRV) team as we host our third Community Forum on Wednesday\, October 9th at the Pavilion at Lareau Farm in Waitsfield. \nThe forum will begin with a potluck at 5 PM; we encourage everyone to bring a dish to share\, as well as your own reusable bowl/place/silverware\, in order to eliminate waste at the event. The potluck will be followed by a meeting from 6 – 8 PM. \nDuring the forum\, we’ll be looking for your feedback on a draft shared vision and principles to guide our community’s ongoing efforts to balance recreation and environmental integrity. Our Steering Committee will also present a summary of the desired conditions we aspire to for our environment and trail network. We look forward to hearing your ideas for our shared future! \nSee more info at our website: www.mrvrd.org/conservation-recreation-visioning-crv or email the Community Project Manager\, Emily Friedman\, at madrivercrv@gmail.com with questions or to get on the email list.
URL:https://mrvvillage.com/event/mrv-conservation-recreation-visioning-crv-community-forum/
LOCATION:Lareau Farm\, 48 Lareau Road\, Waitsfield\, VT\, 05673\, United States
CATEGORIES:Community,Food & Drink,Special Events
ATTACH;FMTTYPE=image/png:https://mrvvillage.com/wp-content/uploads/2024/09/Community-Forum-Save-The-Date-fCjMV0.tmp_.png
ORGANIZER;CN="Lareau%20Farm%20Inn":MAILTO:stay@lareaufarminn.com
GEO:44.172559;-72.833919
X-APPLE-STRUCTURED-LOCATION;VALUE=URI;X-ADDRESS=Lareau Farm 48 Lareau Road Waitsfield VT 05673 United States;X-APPLE-RADIUS=500;X-TITLE=48 Lareau Road:geo:-72.833919,44.172559
END:VEVENT
BEGIN:VEVENT
DTSTART;TZID=America/New_York:20231202T173000
DTEND;TZID=America/New_York:20231202T220000
DTSTAMP:20260423T192846
CREATED:20231103T195435Z
LAST-MODIFIED:20231202T160818Z
UID:10005498-1701538200-1701554400@mrvvillage.com
SUMMARY:Murder Mystery Dinner at Lareau Farm Inn
DESCRIPTION:Come join us\, along with the Valley Players for a night of Murder at the Masquerade Ball\, Saturday December 2nd at 5:30pm // Lareau Farm Inn. \n“Welcome to Bloodworth Falls\, an isolated town full of scandal\, blackmail\, and deceit. The townsfolk bicker in the streets\, and many believe the local government to be corrupt. Nevertheless\, the mayor is welcoming you to this mysterious masquerade ball in the old Bloodwood Castle. Tickets to the evening are almost sold out and several townspeople received a special invite in an unmarked envelope\, without even ordering a ticket. Everyone is curious to find out why the mayor would put effort into doing something positive in this town of gloom\, but all are eagerly hunting for the perfect mask and plan to turn out in their finest attire. You are worried about what will happen on this night when toxic people gather at the castle. This is where your story begins.” \nAppetizers\, Dinner\, Dessert and Entertainment included $75 per person ( plus tax and gratuity which will be donated to the Valley Players) // Cash Bar\nFormal Attire and masks strongly encouraged!\nContact Helen@americanflatbread.com for more information and reservations.
URL:https://mrvvillage.com/event/murder-mystery-dinner-at-lareau-farm-inn/
LOCATION:Lareau Farm Inn\, 46 Lareau Rd.\, Waitsfield\, 05673
CATEGORIES:Arts & Entertainment,Community,Dining,Food & Drink
ATTACH;FMTTYPE=image/png:https://mrvvillage.com/wp-content/uploads/2023/11/Screen-Shot-2023-11-03-at-8.16.52-AM-zkhScu.tmp_.png
ORGANIZER;CN="Lareau%20Farm%20Inn":MAILTO:stay@lareaufarminn.com
GEO:44.172559;-72.833919
X-APPLE-STRUCTURED-LOCATION;VALUE=URI;X-ADDRESS=Lareau Farm Inn 46 Lareau Rd. Waitsfield 05673;X-APPLE-RADIUS=500;X-TITLE=46 Lareau Rd.:geo:-72.833919,44.172559
END:VEVENT
BEGIN:VEVENT
DTSTART;TZID=America/New_York:20230823T190000
DTEND;TZID=America/New_York:20230823T200000
DTSTAMP:20260423T192846
CREATED:20230810T152449Z
LAST-MODIFIED:20230823T183827Z
UID:10004571-1692817200-1692820800@mrvvillage.com
SUMMARY:Starrs Above Circus at Lareau Farm
DESCRIPTION:Embark on a mesmerizing journey with Stars Above\, a captivating outdoor circus show that brings together the enchantment of classical circus and the thrill of contemporary performance. This family-friendly spectacle\, created by the innovative minds of Hideaway Circus founders Josh and Lyndsay Aviner\, is perfect for audiences of all ages.\nGet your tickets now! \n? A Talented All-Star Cast: Be prepared to be dazzled by our world-class performers who will take your breath away with their gravity-defying feats\, jaw-dropping acrobatics\, and mesmerizing displays of skill and artistry. \n? Timeless Storytelling: Travel back in time with our heartwarming story that revolves around a day in the life of a traveling family troupe\, evoking the charm of small touring circuses from centuries past. \n? Enchanting Original Music: Allow the captivating tunes to transport you to another world\, as our musicians perform a spellbinding score that is sure to leave you humming long after the show. \n? Stunning Outdoor Setting: Experience the awe-inspiring beauty of the great outdoors as our custom-built circular stage and aerial rig provide the perfect backdrop under the vast canopy of the sky and stars.
URL:https://mrvvillage.com/event/starrs-above-circus-at-lareau-farm-2/
LOCATION:Lareau Farm\, 48 Lareau Road\, Waitsfield\, VT\, 05673\, United States
CATEGORIES:Arts & Entertainment,Family Friendly
ATTACH;FMTTYPE=image/png:https://mrvvillage.com/wp-content/uploads/2023/08/Screen-Shot-2023-08-10-at-7.00.24-AM-O5eszM.tmp_.png
ORGANIZER;CN="Lareau%20Farm%20Inn":MAILTO:stay@lareaufarminn.com
GEO:44.172559;-72.833919
X-APPLE-STRUCTURED-LOCATION;VALUE=URI;X-ADDRESS=Lareau Farm 48 Lareau Road Waitsfield VT 05673 United States;X-APPLE-RADIUS=500;X-TITLE=48 Lareau Road:geo:-72.833919,44.172559
END:VEVENT
BEGIN:VEVENT
DTSTART;TZID=America/New_York:20230822T190000
DTEND;TZID=America/New_York:20230822T203000
DTSTAMP:20260423T192846
CREATED:20230810T152432Z
LAST-MODIFIED:20230822T182329Z
UID:10004570-1692730800-1692736200@mrvvillage.com
SUMMARY:Starrs Above Circus at Lareau Farm
DESCRIPTION:Embark on a mesmerizing journey with Stars Above\, a captivating outdoor circus show that brings together the enchantment of classical circus and the thrill of contemporary performance. This family-friendly spectacle\, created by the innovative minds of Hideaway Circus founders Josh and Lyndsay Aviner\, is perfect for audiences of all ages.\nGet your tickets now! \n? A Talented All-Star Cast: Be prepared to be dazzled by our world-class performers who will take your breath away with their gravity-defying feats\, jaw-dropping acrobatics\, and mesmerizing displays of skill and artistry. \n? Timeless Storytelling: Travel back in time with our heartwarming story that revolves around a day in the life of a traveling family troupe\, evoking the charm of small touring circuses from centuries past. \n? Enchanting Original Music: Allow the captivating tunes to transport you to another world\, as our musicians perform a spellbinding score that is sure to leave you humming long after the show. \n? Stunning Outdoor Setting: Experience the awe-inspiring beauty of the great outdoors as our custom-built circular stage and aerial rig provide the perfect backdrop under the vast canopy of the sky and stars.
URL:https://mrvvillage.com/event/starrs-above-circus-at-lareau-farm/
LOCATION:Lareau Farm\, 48 Lareau Road\, Waitsfield\, VT\, 05673\, United States
CATEGORIES:Arts & Entertainment,Family Friendly
ATTACH;FMTTYPE=image/png:https://mrvvillage.com/wp-content/uploads/2023/08/Screen-Shot-2023-08-10-at-7.00.24-AM-O5eszM.tmp_.png
ORGANIZER;CN="Lareau%20Farm%20Inn":MAILTO:stay@lareaufarminn.com
GEO:44.172559;-72.833919
X-APPLE-STRUCTURED-LOCATION;VALUE=URI;X-ADDRESS=Lareau Farm 48 Lareau Road Waitsfield VT 05673 United States;X-APPLE-RADIUS=500;X-TITLE=48 Lareau Road:geo:-72.833919,44.172559
END:VEVENT
END:VCALENDAR