BEGIN:VCALENDAR
VERSION:2.0
PRODID:-//The Mad River Valley Village - ECPv6.0.13//NONSGML v1.0//EN
CALSCALE:GREGORIAN
METHOD:PUBLISH
X-ORIGINAL-URL:https://mrvvillage.com
X-WR-CALDESC:Events for The Mad River Valley Village
REFRESH-INTERVAL;VALUE=DURATION:PT1H
X-Robots-Tag:noindex
X-PUBLISHED-TTL:PT1H
BEGIN:VTIMEZONE
TZID:America/New_York
BEGIN:DAYLIGHT
TZOFFSETFROM:-0500
TZOFFSETTO:-0400
TZNAME:EDT
DTSTART:20230312T070000
END:DAYLIGHT
BEGIN:STANDARD
TZOFFSETFROM:-0400
TZOFFSETTO:-0500
TZNAME:EST
DTSTART:20231105T060000
END:STANDARD
END:VTIMEZONE
BEGIN:VEVENT
DTSTART;TZID=America/New_York:20231121T090000
DTEND;TZID=America/New_York:20231121T150000
DTSTAMP:20260422T003907
CREATED:20230823T070521Z
LAST-MODIFIED:20230915T121351Z
UID:10005024-1700557200-1700578800@mrvvillage.com
SUMMARY:Farm and River Camps (Preschool too!)
DESCRIPTION:Living Tree Alliance’s camps immerse children in the life of the homestead\, rivers and forests through farming\, cooking\, nature crafts\, swimming\, and forest and field games. In the afternoon\, participants explore the forest through play\, fort building and of course spend ample time splashing in the Mad River and Dowsville Creek. Preschoolers will be welcome this week. Please inquire about paying per diem if a child can not attend for the week.
URL:https://mrvvillage.com/event/farm-and-river-camps-preschool-too-100/
LOCATION:Living Tree Alliance\, 96 Living Tree Ln\, Moretown\, VT\, 05660\, United States
CATEGORIES:Community,Family Friendly
ATTACH;FMTTYPE=image/jpeg:https://mrvvillage.com/wp-content/uploads/2023/05/campcard2-dXfKum.tmp_.jpg
ORGANIZER;CN="Living%20Tree%20Alliance":MAILTO:info@livingtreealliance.com
GEO:44.2472902;-72.7762636
X-APPLE-STRUCTURED-LOCATION;VALUE=URI;X-ADDRESS=Living Tree Alliance 96 Living Tree Ln Moretown VT 05660 United States;X-APPLE-RADIUS=500;X-TITLE=96 Living Tree Ln:geo:-72.7762636,44.2472902
END:VEVENT
BEGIN:VEVENT
DTSTART;TZID=America/New_York:20231120T090000
DTEND;TZID=America/New_York:20231120T150000
DTSTAMP:20260422T003907
CREATED:20230822T065042Z
LAST-MODIFIED:20230915T121338Z
UID:10004998-1700470800-1700492400@mrvvillage.com
SUMMARY:Farm and River Camps (Preschool too!)
DESCRIPTION:Living Tree Alliance’s camps immerse children in the life of the homestead\, rivers and forests through farming\, cooking\, nature crafts\, swimming\, and forest and field games. In the afternoon\, participants explore the forest through play\, fort building and of course spend ample time splashing in the Mad River and Dowsville Creek. Preschoolers will be welcome this week. Please inquire about paying per diem if a child can not attend for the week.
URL:https://mrvvillage.com/event/farm-and-river-camps-preschool-too-99/
LOCATION:Living Tree Alliance\, 96 Living Tree Ln\, Moretown\, VT\, 05660\, United States
CATEGORIES:Community,Family Friendly
ATTACH;FMTTYPE=image/jpeg:https://mrvvillage.com/wp-content/uploads/2023/05/campcard2-dXfKum.tmp_.jpg
ORGANIZER;CN="Living%20Tree%20Alliance":MAILTO:info@livingtreealliance.com
GEO:44.2472902;-72.7762636
X-APPLE-STRUCTURED-LOCATION;VALUE=URI;X-ADDRESS=Living Tree Alliance 96 Living Tree Ln Moretown VT 05660 United States;X-APPLE-RADIUS=500;X-TITLE=96 Living Tree Ln:geo:-72.7762636,44.2472902
END:VEVENT
BEGIN:VEVENT
DTSTART;TZID=America/New_York:20231119T090000
DTEND;TZID=America/New_York:20231119T150000
DTSTAMP:20260422T003907
CREATED:20230821T063440Z
LAST-MODIFIED:20230915T121338Z
UID:10004968-1700384400-1700406000@mrvvillage.com
SUMMARY:Farm and River Camps (Preschool too!)
DESCRIPTION:Living Tree Alliance’s camps immerse children in the life of the homestead\, rivers and forests through farming\, cooking\, nature crafts\, swimming\, and forest and field games. In the afternoon\, participants explore the forest through play\, fort building and of course spend ample time splashing in the Mad River and Dowsville Creek. Preschoolers will be welcome this week. Please inquire about paying per diem if a child can not attend for the week.
URL:https://mrvvillage.com/event/farm-and-river-camps-preschool-too-98/
LOCATION:Living Tree Alliance\, 96 Living Tree Ln\, Moretown\, VT\, 05660\, United States
CATEGORIES:Community,Family Friendly
ATTACH;FMTTYPE=image/jpeg:https://mrvvillage.com/wp-content/uploads/2023/05/campcard2-dXfKum.tmp_.jpg
ORGANIZER;CN="Living%20Tree%20Alliance":MAILTO:info@livingtreealliance.com
GEO:44.2472902;-72.7762636
X-APPLE-STRUCTURED-LOCATION;VALUE=URI;X-ADDRESS=Living Tree Alliance 96 Living Tree Ln Moretown VT 05660 United States;X-APPLE-RADIUS=500;X-TITLE=96 Living Tree Ln:geo:-72.7762636,44.2472902
END:VEVENT
BEGIN:VEVENT
DTSTART;TZID=America/New_York:20231118T090000
DTEND;TZID=America/New_York:20231118T150000
DTSTAMP:20260422T003907
CREATED:20230820T062004Z
LAST-MODIFIED:20230915T121333Z
UID:10004964-1700298000-1700319600@mrvvillage.com
SUMMARY:Farm and River Camps (Preschool too!)
DESCRIPTION:Living Tree Alliance’s camps immerse children in the life of the homestead\, rivers and forests through farming\, cooking\, nature crafts\, swimming\, and forest and field games. In the afternoon\, participants explore the forest through play\, fort building and of course spend ample time splashing in the Mad River and Dowsville Creek. Preschoolers will be welcome this week. Please inquire about paying per diem if a child can not attend for the week.
URL:https://mrvvillage.com/event/farm-and-river-camps-preschool-too-97/
LOCATION:Living Tree Alliance\, 96 Living Tree Ln\, Moretown\, VT\, 05660\, United States
CATEGORIES:Community,Family Friendly
ATTACH;FMTTYPE=image/jpeg:https://mrvvillage.com/wp-content/uploads/2023/05/campcard2-dXfKum.tmp_.jpg
ORGANIZER;CN="Living%20Tree%20Alliance":MAILTO:info@livingtreealliance.com
GEO:44.2472902;-72.7762636
X-APPLE-STRUCTURED-LOCATION;VALUE=URI;X-ADDRESS=Living Tree Alliance 96 Living Tree Ln Moretown VT 05660 United States;X-APPLE-RADIUS=500;X-TITLE=96 Living Tree Ln:geo:-72.7762636,44.2472902
END:VEVENT
BEGIN:VEVENT
DTSTART;TZID=America/New_York:20231117T090000
DTEND;TZID=America/New_York:20231117T150000
DTSTAMP:20260422T003907
CREATED:20230819T060510Z
LAST-MODIFIED:20230915T121333Z
UID:10004961-1700211600-1700233200@mrvvillage.com
SUMMARY:Farm and River Camps (Preschool too!)
DESCRIPTION:Living Tree Alliance’s camps immerse children in the life of the homestead\, rivers and forests through farming\, cooking\, nature crafts\, swimming\, and forest and field games. In the afternoon\, participants explore the forest through play\, fort building and of course spend ample time splashing in the Mad River and Dowsville Creek. Preschoolers will be welcome this week. Please inquire about paying per diem if a child can not attend for the week.
URL:https://mrvvillage.com/event/farm-and-river-camps-preschool-too-96/
LOCATION:Living Tree Alliance\, 96 Living Tree Ln\, Moretown\, VT\, 05660\, United States
CATEGORIES:Community,Family Friendly
ATTACH;FMTTYPE=image/jpeg:https://mrvvillage.com/wp-content/uploads/2023/05/campcard2-dXfKum.tmp_.jpg
ORGANIZER;CN="Living%20Tree%20Alliance":MAILTO:info@livingtreealliance.com
GEO:44.2472902;-72.7762636
X-APPLE-STRUCTURED-LOCATION;VALUE=URI;X-ADDRESS=Living Tree Alliance 96 Living Tree Ln Moretown VT 05660 United States;X-APPLE-RADIUS=500;X-TITLE=96 Living Tree Ln:geo:-72.7762636,44.2472902
END:VEVENT
BEGIN:VEVENT
DTSTART;TZID=America/New_York:20231001T110000
DTEND;TZID=America/New_York:20231001T120000
DTSTAMP:20260422T003907
CREATED:20230905T232817Z
LAST-MODIFIED:20231001T165330Z
UID:10005139-1696158000-1696161600@mrvvillage.com
SUMMARY:Musical Munchkins at Living Tree Alliance
DESCRIPTION:Join Living Tree Alliance during their 10th annual Harvest Festival for Musical Munchkins! Led by local musician Andrea Soberman\, Musical Munchkins brings music and joy to young children encouraging them to participate\, express their creativity\, and move freely.
URL:https://mrvvillage.com/event/musical-munchkins-at-living-tree-alliance/
LOCATION:Living Tree Alliance\, 96 Living Tree Ln\, Moretown\, VT\, 05660\, United States
CATEGORIES:Community,Family Friendly
ATTACH;FMTTYPE=image/jpeg:https://mrvvillage.com/wp-content/uploads/2023/09/d1fa3c56-28b2-41e0-8259-3f325424cc64-VhCuuc.tmp_.jpg
ORGANIZER;CN="Living%20Tree%20Alliance":MAILTO:info@livingtreealliance.com
GEO:44.2472902;-72.7762636
X-APPLE-STRUCTURED-LOCATION;VALUE=URI;X-ADDRESS=Living Tree Alliance 96 Living Tree Ln Moretown VT 05660 United States;X-APPLE-RADIUS=500;X-TITLE=96 Living Tree Ln:geo:-72.7762636,44.2472902
END:VEVENT
BEGIN:VEVENT
DTSTART;TZID=America/New_York:20231001T100000
DTEND;TZID=America/New_York:20231001T120000
DTSTAMP:20260422T003907
CREATED:20230905T232813Z
LAST-MODIFIED:20231001T165330Z
UID:10005138-1696154400-1696161600@mrvvillage.com
SUMMARY:10th Annual Harvest Festival at Living Tree Alliance
DESCRIPTION:Celebrate 10 years of Living Tree’s Harvest Festival! Enjoy a day full of farm stations like apple pressing\, sauerkraut making\, scavenger hunts\, Gaga\, and nature arts & crafts. Performances by LTA’s own Miss Andrea and her Musical Munchkins. Lunch available for purchase.
URL:https://mrvvillage.com/event/10th-annual-harvest-festival-at-living-tree-alliance/
LOCATION:Living Tree Alliance\, 96 Living Tree Ln\, Moretown\, VT\, 05660\, United States
CATEGORIES:Community
ATTACH;FMTTYPE=image/jpeg:https://mrvvillage.com/wp-content/uploads/2023/09/IMG_5957-RS6bGW.tmp_.jpg
ORGANIZER;CN="Living%20Tree%20Alliance":MAILTO:info@livingtreealliance.com
GEO:44.2472902;-72.7762636
X-APPLE-STRUCTURED-LOCATION;VALUE=URI;X-ADDRESS=Living Tree Alliance 96 Living Tree Ln Moretown VT 05660 United States;X-APPLE-RADIUS=500;X-TITLE=96 Living Tree Ln:geo:-72.7762636,44.2472902
END:VEVENT
BEGIN:VEVENT
DTSTART;TZID=America/New_York:20230930T200000
DTEND;TZID=America/New_York:20230930T200000
DTSTAMP:20260422T003907
CREATED:20230905T232755Z
LAST-MODIFIED:20230930T163843Z
UID:10005137-1696104000-1696104000@mrvvillage.com
SUMMARY:Red Hot Juba Concert
DESCRIPTION:Come spend a night listening to live jazz and blues performed by local Vermont band\, Red Hot Juba.
URL:https://mrvvillage.com/event/red-hot-juba-concert/
LOCATION:Living Tree Alliance\, 96 Living Tree Ln\, Moretown\, VT\, 05660\, United States
CATEGORIES:Arts & Entertainment,Community
ATTACH;FMTTYPE=image/png:https://mrvvillage.com/wp-content/uploads/2023/09/red-hot-juba-0Xb0Uf.tmp_.png
ORGANIZER;CN="Living%20Tree%20Alliance":MAILTO:info@livingtreealliance.com
GEO:44.2472902;-72.7762636
X-APPLE-STRUCTURED-LOCATION;VALUE=URI;X-ADDRESS=Living Tree Alliance 96 Living Tree Ln Moretown VT 05660 United States;X-APPLE-RADIUS=500;X-TITLE=96 Living Tree Ln:geo:-72.7762636,44.2472902
END:VEVENT
BEGIN:VEVENT
DTSTART;TZID=America/New_York:20230930T194500
DTEND;TZID=America/New_York:20230930T223000
DTSTAMP:20260422T003907
CREATED:20230927T133847Z
LAST-MODIFIED:20230930T163843Z
UID:10005268-1696103100-1696113000@mrvvillage.com
SUMMARY:Red Hot Juba Barn Dance Concert
DESCRIPTION:Harvest Barn Dance with Red Hot Juba Vermont’s Smokin’ Blues and Jazz Band\nCome celebrate Living Tree Alliance’s fifth year providing farm to school programming to the Mad River Valley’s Schools.
URL:https://mrvvillage.com/event/red-hot-juba-barn-dance-concert/
LOCATION:Living Tree Alliance Barn Dance\, 307 100 B Look for Signs\, Moretown\, Vermont\, VT\, United States
CATEGORIES:Arts & Entertainment,Community
ATTACH;FMTTYPE=image/png:https://mrvvillage.com/wp-content/uploads/2023/09/Screenshot-2023-09-26-6.51.12-PM-huut7P.tmp_.png
ORGANIZER;CN="Living%20Tree%20Alliance":MAILTO:info@livingtreealliance.com
GEO:44.2379;-72.7770475
X-APPLE-STRUCTURED-LOCATION;VALUE=URI;X-ADDRESS=Living Tree Alliance Barn Dance 307 100 B Look for Signs Moretown Vermont VT United States;X-APPLE-RADIUS=500;X-TITLE=307 100 B Look for Signs:geo:-72.7770475,44.2379
END:VEVENT
BEGIN:VEVENT
DTSTART;TZID=America/New_York:20230930T103000
DTEND;TZID=America/New_York:20230930T123000
DTSTAMP:20260422T003907
CREATED:20230919T123918Z
LAST-MODIFIED:20230930T163830Z
UID:10005239-1696069800-1696077000@mrvvillage.com
SUMMARY:Sukkot Shabbat Services with Living Tree Alliance
DESCRIPTION:Celebrate the intersection of Sukkot and Shabbat with Living Tree Alliance. Our outdoor service is full of music\, introspection\, and celebrating impermanence and the harvest. Services will be led by local rabbi Jan Salzman.
URL:https://mrvvillage.com/event/sukkot-shabbat-services-with-living-tree-alliance/
LOCATION:Living Tree Alliance\, 96 Living Tree Ln\, Moretown\, VT\, 05660\, United States
CATEGORIES:Community,Family Friendly
ATTACH;FMTTYPE=image/jpeg:https://mrvvillage.com/wp-content/uploads/2023/09/Copy-of-IMG_9873-IXHSI0.tmp_.jpg
ORGANIZER;CN="Living%20Tree%20Alliance":MAILTO:info@livingtreealliance.com
GEO:44.2472902;-72.7762636
X-APPLE-STRUCTURED-LOCATION;VALUE=URI;X-ADDRESS=Living Tree Alliance 96 Living Tree Ln Moretown VT 05660 United States;X-APPLE-RADIUS=500;X-TITLE=96 Living Tree Ln:geo:-72.7762636,44.2472902
END:VEVENT
BEGIN:VEVENT
DTSTART;TZID=America/New_York:20230930T103000
DTEND;TZID=America/New_York:20230930T123000
DTSTAMP:20260422T003907
CREATED:20230907T235759Z
LAST-MODIFIED:20230930T163829Z
UID:10005151-1696069800-1696077000@mrvvillage.com
SUMMARY:Talking Hands Theatre Puppet Show
DESCRIPTION:Stories come alive with Anna Sobel’s Talking Hands Theatre Puppet Show. It’s fun for all ages and a classic event at Living Tree Alliance.
URL:https://mrvvillage.com/event/talking-hands-theatre-puppet-show/
LOCATION:Living Tree Alliance\, 96 Living Tree Ln\, Moretown\, VT\, 05660\, United States
CATEGORIES:Community,Family Friendly
ATTACH;FMTTYPE=image/png:https://mrvvillage.com/wp-content/uploads/2023/09/Screen-Shot-2023-09-07-at-6.32.39-AM-407j3g.tmp_.png
ORGANIZER;CN="Living%20Tree%20Alliance":MAILTO:info@livingtreealliance.com
GEO:44.2472902;-72.7762636
X-APPLE-STRUCTURED-LOCATION;VALUE=URI;X-ADDRESS=Living Tree Alliance 96 Living Tree Ln Moretown VT 05660 United States;X-APPLE-RADIUS=500;X-TITLE=96 Living Tree Ln:geo:-72.7762636,44.2472902
END:VEVENT
BEGIN:VEVENT
DTSTART;TZID=America/New_York:20230818T090000
DTEND;TZID=America/New_York:20230818T150000
DTSTAMP:20260422T003907
CREATED:20230816T050911Z
LAST-MODIFIED:20230818T172327Z
UID:10004654-1692349200-1692370800@mrvvillage.com
SUMMARY:Farm and River Camps (Preschool too!)
DESCRIPTION:Living Tree Alliance’s camps immerse children in the life of the homestead\, rivers and forests through farming\, cooking\, nature crafts\, swimming\, and forest and field games. In the afternoon\, participants explore the forest through play\, fort building and of course spend ample time splashing in the Mad River and Dowsville Creek. Preschoolers will be welcome this week. Please inquire about paying per diem if a child can not attend for the week.
URL:https://mrvvillage.com/event/farm-and-river-camps-preschool-too-5/
LOCATION:Living Tree Alliance\, 96 Living Tree Ln\, Moretown\, VT\, 05660\, United States
CATEGORIES:Community,Family Friendly
ATTACH;FMTTYPE=image/jpeg:https://mrvvillage.com/wp-content/uploads/2023/05/campcard2-dXfKum.tmp_.jpg
ORGANIZER;CN="Living%20Tree%20Alliance":MAILTO:info@livingtreealliance.com
GEO:44.2472902;-72.7762636
X-APPLE-STRUCTURED-LOCATION;VALUE=URI;X-ADDRESS=Living Tree Alliance 96 Living Tree Ln Moretown VT 05660 United States;X-APPLE-RADIUS=500;X-TITLE=96 Living Tree Ln:geo:-72.7762636,44.2472902
END:VEVENT
BEGIN:VEVENT
DTSTART;TZID=America/New_York:20230817T090000
DTEND;TZID=America/New_York:20230817T150000
DTSTAMP:20260422T003907
CREATED:20230816T050855Z
LAST-MODIFIED:20230817T170927Z
UID:10004648-1692262800-1692284400@mrvvillage.com
SUMMARY:Farm and River Camps (Preschool too!)
DESCRIPTION:Living Tree Alliance’s camps immerse children in the life of the homestead\, rivers and forests through farming\, cooking\, nature crafts\, swimming\, and forest and field games. In the afternoon\, participants explore the forest through play\, fort building and of course spend ample time splashing in the Mad River and Dowsville Creek. Preschoolers will be welcome this week. Please inquire about paying per diem if a child can not attend for the week.
URL:https://mrvvillage.com/event/farm-and-river-camps-preschool-too-4/
LOCATION:Living Tree Alliance\, 96 Living Tree Ln\, Moretown\, VT\, 05660\, United States
CATEGORIES:Community,Family Friendly
ATTACH;FMTTYPE=image/jpeg:https://mrvvillage.com/wp-content/uploads/2023/05/campcard2-dXfKum.tmp_.jpg
ORGANIZER;CN="Living%20Tree%20Alliance":MAILTO:info@livingtreealliance.com
GEO:44.2472902;-72.7762636
X-APPLE-STRUCTURED-LOCATION;VALUE=URI;X-ADDRESS=Living Tree Alliance 96 Living Tree Ln Moretown VT 05660 United States;X-APPLE-RADIUS=500;X-TITLE=96 Living Tree Ln:geo:-72.7762636,44.2472902
END:VEVENT
BEGIN:VEVENT
DTSTART;TZID=America/New_York:20230816T090000
DTEND;TZID=America/New_York:20230816T150000
DTSTAMP:20260422T003907
CREATED:20230816T050838Z
LAST-MODIFIED:20230816T165325Z
UID:10004644-1692176400-1692198000@mrvvillage.com
SUMMARY:Farm and River Camps (Preschool too!)
DESCRIPTION:Living Tree Alliance’s camps immerse children in the life of the homestead\, rivers and forests through farming\, cooking\, nature crafts\, swimming\, and forest and field games. In the afternoon\, participants explore the forest through play\, fort building and of course spend ample time splashing in the Mad River and Dowsville Creek. Preschoolers will be welcome this week. Please inquire about paying per diem if a child can not attend for the week.
URL:https://mrvvillage.com/event/farm-and-river-camps-preschool-too-3/
LOCATION:Living Tree Alliance\, 96 Living Tree Ln\, Moretown\, VT\, 05660\, United States
CATEGORIES:Community,Family Friendly
ATTACH;FMTTYPE=image/jpeg:https://mrvvillage.com/wp-content/uploads/2023/05/campcard2-dXfKum.tmp_.jpg
ORGANIZER;CN="Living%20Tree%20Alliance":MAILTO:info@livingtreealliance.com
GEO:44.2472902;-72.7762636
X-APPLE-STRUCTURED-LOCATION;VALUE=URI;X-ADDRESS=Living Tree Alliance 96 Living Tree Ln Moretown VT 05660 United States;X-APPLE-RADIUS=500;X-TITLE=96 Living Tree Ln:geo:-72.7762636,44.2472902
END:VEVENT
BEGIN:VEVENT
DTSTART;TZID=America/New_York:20230814T090000
DTEND;TZID=America/New_York:20230818T150000
DTSTAMP:20260422T003907
CREATED:20230524T214343Z
LAST-MODIFIED:20230814T162328Z
UID:10004007-1692003600-1692370800@mrvvillage.com
SUMMARY:Farm and River Camps (Preschool too!)
DESCRIPTION:Living Tree Alliance’s camps immerse children in the life of the homestead\, rivers and forests through farming\, cooking\, nature crafts\, swimming\, and forest and field games. In the afternoon\, participants explore the forest through play\, fort building and of course spend ample time splashing in the Mad River and Dowsville Creek. Preschoolers will be welcome this week. Please inquire about paying per diem if a child can not attend for the week.
URL:https://mrvvillage.com/event/farm-and-river-camps-preschool-too-2/
LOCATION:Living Tree Alliance\, 96 Living Tree Ln\, Moretown\, VT\, 05660\, United States
CATEGORIES:Community,Family Friendly
ATTACH;FMTTYPE=image/jpeg:https://mrvvillage.com/wp-content/uploads/2023/05/campcard2-dXfKum.tmp_.jpg
ORGANIZER;CN="Living%20Tree%20Alliance":MAILTO:info@livingtreealliance.com
GEO:44.2472902;-72.7762636
X-APPLE-STRUCTURED-LOCATION;VALUE=URI;X-ADDRESS=Living Tree Alliance 96 Living Tree Ln Moretown VT 05660 United States;X-APPLE-RADIUS=500;X-TITLE=96 Living Tree Ln:geo:-72.7762636,44.2472902
END:VEVENT
BEGIN:VEVENT
DTSTART;TZID=America/New_York:20230728T000000
DTEND;TZID=America/New_York:20230730T235959
DTSTAMP:20260422T003907
CREATED:20230630T192618Z
LAST-MODIFIED:20230728T120818Z
UID:10004232-1690502400-1690761599@mrvvillage.com
SUMMARY:Multi-generational campout Retreat
DESCRIPTION:Join us July 28–30 for a weekend to immerse in the natural world and connect with meaningful multigenerational community\, farm-fresh food\, river swims\, nature walks\, song\, meditation\, and more.\nEnjoy the beauty of connecting with the earth\, your food\, and rest as a form of cultural revitalization. There will be time to explore the woods and river and immerse in the beauty of summer in Vermont\, with family-friendly programming as well as contemplative time for adults; time to get your hands in the soil and to interact with the farm animals; and time to just be.\nWe are grateful to partner with a diverse array of teachers\, kohanot (Hebrew priestesses)\, rabbis\, musicians\, and leaders for an enriching weekend!\nLodging\nRustic camping sites provided in the farm field. If you prefer not to camp\, there are many local bed and breakfasts in the area—be sure to book ahead of time.\nFees\nOur family camp program—which includes Friday dinner\, Saturday lunch and dinner\, and Sunday breakfast—is offered on a sliding scale:\n$275–$450 per adult\n$95–$125 per child\nchildren under 3 free\nThere is an additional sliding-scale camping fee of $25–$40 per night.\nApplicable program fees are due in full by June 27; $75 deposits are nonrefundable and count towards full tuition
URL:https://mrvvillage.com/event/multi-generational-campout-retreat/
LOCATION:Living Tree Alliance\, 96 Living Tree Ln\, Moretown\, VT\, 05660\, United States
CATEGORIES:Family Friendly,Food & Drink,Special Events
ATTACH;FMTTYPE=image/png:https://mrvvillage.com/wp-content/uploads/2023/06/Community-Shabbat-Campout-Retreat-2-yTZxTx.tmp_.png
ORGANIZER;CN="Living%20Tree%20Alliance":MAILTO:info@livingtreealliance.com
GEO:44.2472902;-72.7762636
X-APPLE-STRUCTURED-LOCATION;VALUE=URI;X-ADDRESS=Living Tree Alliance 96 Living Tree Ln Moretown VT 05660 United States;X-APPLE-RADIUS=500;X-TITLE=96 Living Tree Ln:geo:-72.7762636,44.2472902
END:VEVENT
BEGIN:VEVENT
DTSTART;TZID=America/New_York:20230724T090000
DTEND;TZID=America/New_York:20230728T150000
DTSTAMP:20260422T003907
CREATED:20230523T212735Z
LAST-MODIFIED:20230724T005318Z
UID:10003998-1690189200-1690556400@mrvvillage.com
SUMMARY:Farm and River Camps (Preschool too!)
DESCRIPTION:Living Tree Alliance’s camps immerse children in the life of our homestead\, rivers and forests through farming\, cooking\, nature crafts\, swimming\, and forest and field games.In the afternoon\, we explore the forest through play\, fort building and of course spend ample time splashing in the Mad River and Dowsville Creek. We will be welcoming preschoolers this week! Please inquire about paying per diem if your child can not attend for the week.
URL:https://mrvvillage.com/event/farm-and-river-camps-preschool-too/
LOCATION:Living Tree Alliance\, 96 Living Tree Ln\, Moretown\, VT\, 05660\, United States
CATEGORIES:Community,Family Friendly
ATTACH;FMTTYPE=image/jpeg:https://mrvvillage.com/wp-content/uploads/2023/05/campcard2-dXfKum.tmp_.jpg
ORGANIZER;CN="Living%20Tree%20Alliance":MAILTO:info@livingtreealliance.com
GEO:44.2472902;-72.7762636
X-APPLE-STRUCTURED-LOCATION;VALUE=URI;X-ADDRESS=Living Tree Alliance 96 Living Tree Ln Moretown VT 05660 United States;X-APPLE-RADIUS=500;X-TITLE=96 Living Tree Ln:geo:-72.7762636,44.2472902
END:VEVENT
BEGIN:VEVENT
DTSTART;TZID=America/New_York:20230710T090000
DTEND;TZID=America/New_York:20230714T150000
DTSTAMP:20260422T003907
CREATED:20230616T092523Z
LAST-MODIFIED:20230710T215339Z
UID:10004120-1688979600-1689346800@mrvvillage.com
SUMMARY:Farm and River Camp
DESCRIPTION:Living Tree Alliance’s camps immerse children in the life of our homestead\, rivers and forests through farming\, cooking\, nature crafts\, swimming\, and forest and field games\, Every morning we rotate through stations of cooking\, crafts and farming putting our hands together to grow food for the food bank and enjoy play in our natural playground and tree house. \nIn the afternoon\, we explore the forest through play\, fort building and of course spend ample time splashing in the Mad River and Dowsville Creek. Our property has a private swimming beach on the river and wonderful clay deposits for endless body painting\, building and exploration. Join us for some old fashioned fun offered for three weeks this summer. Please inquire about paying per diem if your child can not attend for the week.
URL:https://mrvvillage.com/event/farm-and-river-camp/
LOCATION:Living Tree Alliance\, 96 Living Tree Ln\, Moretown\, VT\, 05660\, United States
CATEGORIES:Community,Family Friendly
ATTACH;FMTTYPE=image/jpeg:https://mrvvillage.com/wp-content/uploads/2023/06/campcard-Xiq8zz.tmp_.jpg
ORGANIZER;CN="Living%20Tree%20Alliance":MAILTO:info@livingtreealliance.com
GEO:44.2472902;-72.7762636
X-APPLE-STRUCTURED-LOCATION;VALUE=URI;X-ADDRESS=Living Tree Alliance 96 Living Tree Ln Moretown VT 05660 United States;X-APPLE-RADIUS=500;X-TITLE=96 Living Tree Ln:geo:-72.7762636,44.2472902
END:VEVENT
END:VCALENDAR