BEGIN:VCALENDAR
VERSION:2.0
PRODID:-//The Mad River Valley Village - ECPv6.0.13//NONSGML v1.0//EN
CALSCALE:GREGORIAN
METHOD:PUBLISH
X-WR-CALNAME:The Mad River Valley Village
X-ORIGINAL-URL:https://mrvvillage.com
X-WR-CALDESC:Events for The Mad River Valley Village
REFRESH-INTERVAL;VALUE=DURATION:PT1H
X-Robots-Tag:noindex
X-PUBLISHED-TTL:PT1H
BEGIN:VTIMEZONE
TZID:America/New_York
BEGIN:DAYLIGHT
TZOFFSETFROM:-0500
TZOFFSETTO:-0400
TZNAME:EDT
DTSTART:20230312T070000
END:DAYLIGHT
BEGIN:STANDARD
TZOFFSETFROM:-0400
TZOFFSETTO:-0500
TZNAME:EST
DTSTART:20231105T060000
END:STANDARD
BEGIN:DAYLIGHT
TZOFFSETFROM:-0500
TZOFFSETTO:-0400
TZNAME:EDT
DTSTART:20240310T070000
END:DAYLIGHT
BEGIN:STANDARD
TZOFFSETFROM:-0400
TZOFFSETTO:-0500
TZNAME:EST
DTSTART:20241103T060000
END:STANDARD
BEGIN:DAYLIGHT
TZOFFSETFROM:-0500
TZOFFSETTO:-0400
TZNAME:EDT
DTSTART:20250309T070000
END:DAYLIGHT
BEGIN:STANDARD
TZOFFSETFROM:-0400
TZOFFSETTO:-0500
TZNAME:EST
DTSTART:20251102T060000
END:STANDARD
END:VTIMEZONE
BEGIN:VEVENT
DTSTART;TZID=America/New_York:20250709T183000
DTEND;TZID=America/New_York:20250709T203000
DTSTAMP:20260419T172646
CREATED:20250410T151109Z
LAST-MODIFIED:20250412T191027Z
UID:10007967-1752085800-1752093000@mrvvillage.com
SUMMARY:Wooly Wednesday
DESCRIPTION:On the 2nd Wednesday of each month\, join fellow fiber fans at the Old Stagecoach Inn from 6:30-8:30pm. \nBring a project and relax by the fire as you get your crafting on! \nFull bar available.
URL:https://mrvvillage.com/event/wooly-wednesday-5/
LOCATION:Old Stagecoach Inn\, 18 N Main St.\, Waterbury\, Vermont\, 05676\, United States
CATEGORIES:Community
ATTACH;FMTTYPE=image/jpeg:https://mrvvillage.com/wp-content/uploads/2025/03/StagecoachInn_NewVersion-IxXvkT.tmp_.jpg
ORGANIZER;CN="Old%20Stagecoach%20Inn":MAILTO:christa@oldstagecoach.com
GEO:44.3387043;-72.7578322
X-APPLE-STRUCTURED-LOCATION;VALUE=URI;X-ADDRESS=Old Stagecoach Inn 18 N Main St. Waterbury Vermont 05676 United States;X-APPLE-RADIUS=500;X-TITLE=18 N Main St.:geo:-72.7578322,44.3387043
END:VEVENT
BEGIN:VEVENT
DTSTART;TZID=America/New_York:20250611T183000
DTEND;TZID=America/New_York:20250611T203000
DTSTAMP:20260419T172646
CREATED:20250313T125600Z
LAST-MODIFIED:20250412T191000Z
UID:10007761-1749666600-1749673800@mrvvillage.com
SUMMARY:Wooly Wednesday
DESCRIPTION:On the 2nd Wednesday of each month\, join fellow fiber fans at the Old Stagecoach Inn from 6:30-8:30pm. \nBring a project and relax by the fire as you get your crafting on! \nFull bar available.
URL:https://mrvvillage.com/event/wooly-wednesday-4/
LOCATION:Old Stagecoach Inn\, 18 N Main St.\, Waterbury\, Vermont\, 05676\, United States
CATEGORIES:Community
ATTACH;FMTTYPE=image/jpeg:https://mrvvillage.com/wp-content/uploads/2025/03/StagecoachInn_NewVersion-IxXvkT.tmp_.jpg
ORGANIZER;CN="Old%20Stagecoach%20Inn":MAILTO:christa@oldstagecoach.com
GEO:44.3387043;-72.7578322
X-APPLE-STRUCTURED-LOCATION;VALUE=URI;X-ADDRESS=Old Stagecoach Inn 18 N Main St. Waterbury Vermont 05676 United States;X-APPLE-RADIUS=500;X-TITLE=18 N Main St.:geo:-72.7578322,44.3387043
END:VEVENT
BEGIN:VEVENT
DTSTART;TZID=America/New_York:20250514T183000
DTEND;TZID=America/New_York:20250514T203000
DTSTAMP:20260419T172646
CREATED:20250310T221102Z
LAST-MODIFIED:20250412T190945Z
UID:10007750-1747247400-1747254600@mrvvillage.com
SUMMARY:Wooly Wednesday
DESCRIPTION:On the 2nd Wednesday of each month\, join fellow fiber fans at the Old Stagecoach Inn from 6:30-8:30pm. \nBring a project and relax by the fire as you get your crafting on! \nFull bar available.
URL:https://mrvvillage.com/event/wooly-wednesday-3/
LOCATION:Old Stagecoach Inn\, 18 N Main St.\, Waterbury\, Vermont\, 05676\, United States
CATEGORIES:Community
ATTACH;FMTTYPE=image/jpeg:https://mrvvillage.com/wp-content/uploads/2025/03/StagecoachInn_NewVersion-IxXvkT.tmp_.jpg
ORGANIZER;CN="Old%20Stagecoach%20Inn":MAILTO:christa@oldstagecoach.com
GEO:44.3387043;-72.7578322
X-APPLE-STRUCTURED-LOCATION;VALUE=URI;X-ADDRESS=Old Stagecoach Inn 18 N Main St. Waterbury Vermont 05676 United States;X-APPLE-RADIUS=500;X-TITLE=18 N Main St.:geo:-72.7578322,44.3387043
END:VEVENT
BEGIN:VEVENT
DTSTART;TZID=America/New_York:20250409T183000
DTEND;TZID=America/New_York:20250409T203000
DTSTAMP:20260419T172646
CREATED:20250310T221047Z
LAST-MODIFIED:20250409T183817Z
UID:10007749-1744223400-1744230600@mrvvillage.com
SUMMARY:Wooly Wednesday
DESCRIPTION:On the 2nd Wednesday of each month\, join fellow fiber fans at the Old Stagecoach Inn from 6:30-8:30pm. \nBring a project and relax by the fire as you get your crafting on! \nFull bar available.
URL:https://mrvvillage.com/event/wooly-wednesday-2/
LOCATION:Old Stagecoach Inn\, 18 N Main St.\, Waterbury\, Vermont\, 05676\, United States
CATEGORIES:Community
ATTACH;FMTTYPE=image/jpeg:https://mrvvillage.com/wp-content/uploads/2025/03/StagecoachInn_NewVersion-IxXvkT.tmp_.jpg
ORGANIZER;CN="Old%20Stagecoach%20Inn":MAILTO:christa@oldstagecoach.com
GEO:44.3387043;-72.7578322
X-APPLE-STRUCTURED-LOCATION;VALUE=URI;X-ADDRESS=Old Stagecoach Inn 18 N Main St. Waterbury Vermont 05676 United States;X-APPLE-RADIUS=500;X-TITLE=18 N Main St.:geo:-72.7578322,44.3387043
END:VEVENT
BEGIN:VEVENT
DTSTART;TZID=America/New_York:20250312T183000
DTEND;TZID=America/New_York:20250312T203000
DTSTAMP:20260419T172646
CREATED:20250310T220817Z
LAST-MODIFIED:20250312T222316Z
UID:10007742-1741804200-1741811400@mrvvillage.com
SUMMARY:Wooly Wednesday
DESCRIPTION:On the 2nd Wednesday of each month\, join fellow fiber fans at the Old Stagecoach Inn from 6:30-8:30pm. \nBring a project and relax by the fire as you get your crafting on! \nFull bar available.
URL:https://mrvvillage.com/event/wooly-wednesday/
LOCATION:Old Stagecoach Inn\, 18 N Main St.\, Waterbury\, Vermont\, 05676\, United States
CATEGORIES:Community
ATTACH;FMTTYPE=image/jpeg:https://mrvvillage.com/wp-content/uploads/2025/03/StagecoachInn_NewVersion-IxXvkT.tmp_.jpg
ORGANIZER;CN="Old%20Stagecoach%20Inn":MAILTO:christa@oldstagecoach.com
GEO:44.3387043;-72.7578322
X-APPLE-STRUCTURED-LOCATION;VALUE=URI;X-ADDRESS=Old Stagecoach Inn 18 N Main St. Waterbury Vermont 05676 United States;X-APPLE-RADIUS=500;X-TITLE=18 N Main St.:geo:-72.7578322,44.3387043
END:VEVENT
BEGIN:VEVENT
DTSTART;TZID=America/New_York:20241117T090000
DTEND;TZID=America/New_York:20241117T120000
DTSTAMP:20260419T172646
CREATED:20241022T142354Z
LAST-MODIFIED:20241117T182312Z
UID:10007162-1731834000-1731844800@mrvvillage.com
SUMMARY:Stick Season Stitches Fiber Retreat
DESCRIPTION:Join fellow fiber enthusiasts for a fabulous fiber fling to celebrate the Vermont stick season’s joy! This Fiber Retreat will feature workshops\, demonstrations\, tours\, and FUN! \nSaturday workshop 9am – 12pm ($75) includes:\n– Workshop w/ designer Ona Wöldten\n– Project yarn and pattern \nOr join us for a full\, relaxing weekend ($225 plus lodging):\n– Friday night dessert/cocktail reception\n– Saturday workshop\, followed by tours of sheep farm\, covered bridges\, brewery…\n– Saturday lunch & dinner\n– VT-themed SWAG
URL:https://mrvvillage.com/event/stick-season-stitches-fiber-retreat-2/
LOCATION:Old Stagecoach Inn\, 18 N Main St.\, Waterbury\, Vermont\, 05676\, United States
CATEGORIES:Arts & Entertainment,Community
ATTACH;FMTTYPE=image/jpeg:https://mrvvillage.com/wp-content/uploads/2024/10/Lindal-Photo-aF0l2T.tmp_.jpg
ORGANIZER;CN="Old%20Stagecoach%20Inn":MAILTO:christa@oldstagecoach.com
GEO:44.3387043;-72.7578322
X-APPLE-STRUCTURED-LOCATION;VALUE=URI;X-ADDRESS=Old Stagecoach Inn 18 N Main St. Waterbury Vermont 05676 United States;X-APPLE-RADIUS=500;X-TITLE=18 N Main St.:geo:-72.7578322,44.3387043
END:VEVENT
BEGIN:VEVENT
DTSTART;TZID=America/New_York:20241105T170000
DTEND;TZID=America/New_York:20241105T200000
DTSTAMP:20260419T172646
CREATED:20241022T142339Z
LAST-MODIFIED:20241105T155313Z
UID:10007161-1730826000-1730836800@mrvvillage.com
SUMMARY:Write Your Novel Tuesdays
DESCRIPTION:November brings NaNoWriMo – National Novel Writing Month! For all you aspiring writers\, join us Tuesday nights in November in our pub or parlor to work on your novel in a welcoming\, community space. Get feedback and support from other writers\, or just put your head down and write. And of course\, our bar will be open to help get your creative juices flowing. \nFor more info about NaNoWriMo or to sign-up to officially participate in this monthlong challenge\, check out their website https://nanowrimo.org/
URL:https://mrvvillage.com/event/write-your-novel-tuesdays/
LOCATION:Old Stagecoach Inn\, 18 N Main St.\, Waterbury\, Vermont\, 05676\, United States
CATEGORIES:Arts & Entertainment,Community
ATTACH;FMTTYPE=image/png:https://mrvvillage.com/wp-content/uploads/2024/10/Logo_of_National_Novel_Writing_Month-Q1yham.tmp_.png
ORGANIZER;CN="Old%20Stagecoach%20Inn":MAILTO:christa@oldstagecoach.com
GEO:44.3387043;-72.7578322
X-APPLE-STRUCTURED-LOCATION;VALUE=URI;X-ADDRESS=Old Stagecoach Inn 18 N Main St. Waterbury Vermont 05676 United States;X-APPLE-RADIUS=500;X-TITLE=18 N Main St.:geo:-72.7578322,44.3387043
END:VEVENT
BEGIN:VEVENT
DTSTART;TZID=America/New_York:20240205T180000
DTEND;TZID=America/New_York:20240205T200000
DTSTAMP:20260419T172646
CREATED:20240130T172403Z
LAST-MODIFIED:20240205T185320Z
UID:10005899-1707156000-1707163200@mrvvillage.com
SUMMARY:Anna Fugaro – Art from a Lifetime of Memories
DESCRIPTION:Mixed media artist Anna Fugaro of Middlebury\, VT\, shares works that reflect a lifetime spent across the globe\, from Iceland to India to New York and Vermont. \nArtist talk at 6:30pm. \nLight appetizers served and cash bar available. \nThe show is on display through the end of February in the public spaces of the Old Stagecoach Inn.
URL:https://mrvvillage.com/event/anna-fugaro-art-from-a-lifetime-of-memories/
LOCATION:Old Stagecoach Inn\, 18 N Main St.\, Waterbury\, Vermont\, 05676\, United States
CATEGORIES:Arts & Entertainment,Community
ATTACH;FMTTYPE=image/jpeg:https://mrvvillage.com/wp-content/uploads/2024/01/IMG_2967-D8Dmfi.tmp_.jpg
ORGANIZER;CN="Old%20Stagecoach%20Inn":MAILTO:christa@oldstagecoach.com
GEO:44.3387043;-72.7578322
X-APPLE-STRUCTURED-LOCATION;VALUE=URI;X-ADDRESS=Old Stagecoach Inn 18 N Main St. Waterbury Vermont 05676 United States;X-APPLE-RADIUS=500;X-TITLE=18 N Main St.:geo:-72.7578322,44.3387043
END:VEVENT
BEGIN:VEVENT
DTSTART;TZID=America/New_York:20231104T180000
DTEND;TZID=America/New_York:20231104T210000
DTSTAMP:20260419T172646
CREATED:20231101T192351Z
LAST-MODIFIED:20231104T195328Z
UID:10005490-1699120800-1699131600@mrvvillage.com
SUMMARY:Open Fiber Night
DESCRIPTION:Relax in our parlor with fellow fiber arts enthusiasts. Bring a project to work on or just come for the camaraderie\, and perhaps sip a beverage from our bar as you chat with with neighbors and travelers. What a cozy way to spend a chilly evening!
URL:https://mrvvillage.com/event/open-fiber-night/
LOCATION:Old Stagecoach Inn\, 18 N Main St.\, Waterbury\, Vermont\, 05676\, United States
CATEGORIES:Arts & Entertainment,Community
ATTACH;FMTTYPE=image/png:https://mrvvillage.com/wp-content/uploads/2023/11/tonight_20221115180204-1MGKO9.tmp_.png
ORGANIZER;CN="Old%20Stagecoach%20Inn":MAILTO:christa@oldstagecoach.com
GEO:44.3387043;-72.7578322
X-APPLE-STRUCTURED-LOCATION;VALUE=URI;X-ADDRESS=Old Stagecoach Inn 18 N Main St. Waterbury Vermont 05676 United States;X-APPLE-RADIUS=500;X-TITLE=18 N Main St.:geo:-72.7578322,44.3387043
END:VEVENT
BEGIN:VEVENT
DTSTART;TZID=America/New_York:20231103T093000
DTEND;TZID=America/New_York:20231103T170000
DTSTAMP:20260419T172646
CREATED:20231101T192334Z
LAST-MODIFIED:20231103T235458Z
UID:10005489-1699003800-1699030800@mrvvillage.com
SUMMARY:Stick Season Stitches Fiber Retreat
DESCRIPTION:Workshops\, exclusive projects and colorways\, and fun with fellow fiber enthusiasts! \n– Exclusive colorway from Bobolink Yarns and retreat project pattern (from Irasburg\, VT)\n– Fingerless Mitts workshop with Leslie Roth\n– Increases and Decreases workshop with Judy Bond\n– Tour of Aurora Spinnery \n$150 fee includes all events\, project materials\, lunch on Friday\, and swag bag.
URL:https://mrvvillage.com/event/stick-season-stitches-fiber-retreat/
LOCATION:Old Stagecoach Inn\, 18 N Main St.\, Waterbury\, Vermont\, 05676\, United States
CATEGORIES:Arts & Entertainment,Community
ATTACH;FMTTYPE=image/png:https://mrvvillage.com/wp-content/uploads/2023/11/cropped-FLR-logo-eggmqq.tmp_.png
ORGANIZER;CN="Old%20Stagecoach%20Inn":MAILTO:christa@oldstagecoach.com
GEO:44.3387043;-72.7578322
X-APPLE-STRUCTURED-LOCATION;VALUE=URI;X-ADDRESS=Old Stagecoach Inn 18 N Main St. Waterbury Vermont 05676 United States;X-APPLE-RADIUS=500;X-TITLE=18 N Main St.:geo:-72.7578322,44.3387043
END:VEVENT
END:VCALENDAR